Workbook
Name Comuni: [1]Label!$C$2:$C$1504
Name Data_fine_periodo: [1]Foglio1!$J$3
Name Famigliare: [1]Label!$T$2:$T$4
Name Genere: [1]Label!$J$2:$J$3
Name GestioneSAD: [1]Label!$G$2:$G$4
Name Prestazione: [1]Label!$U$2:$U$9
Name PrestazioneADM: [1]Label!$V$2:$V$13
Name ValoriAssoluti: [1]Label!$I$2:$I$3

Sheet SAD_SADH
B1: Anno di rendicontazione | C1: =[1]Ente_gestore!B1 -> 2025 | BA1: SAD
B2: Denominazione Ambito | C2: =[1]Ente_gestore!B2 -> Cremona | BA2: SADH
B3: Denominazione Ente gestore | C3: Comune di
B4: Tipologia UdO | C4: SAD-SADH | D4: Servizio di Assistenza Domiciliare | R4: =SUM(R105:R4100) -> 0 | U4: =SUM(U105:U4100) -> 0 | V4: =SUM(V105:V4100) -> 0 | W4: =SUM(W105:W4100) -> 0 | X4: =SUM(X105:X4100) -> 0 | Y4: =SUM(Y105:Y4100) -> 0 | Z4: =SUM(Z105:Z4100) -> 0 | AA4: =SUM(AA105:AA4100) -> 0 | AB4: =SUM(AB105:AB4100) -> 0
A5: SAD | B5: Dati anagrafici utente | H5: Periodo di erogazione del servizio | J5: Specifiche utenza | O5: Integrazione con altri servizi | Q5: Tipologia del Servizio | S5: Tipologia prestazioni erogate | U5: Numero Accessi/ore Personale
A6: SADH | B6: Cognome e Nome Beneficiario | C6: Codice individuale utente | D6: Data di nascita utente | E6: Genere utente | F6: Denominazione Comune di residenza utente | G6: Codice ISTAT Comune di residenza utente (in automatico) | H6: Data inizio presa in carico | I6: Data fine presa in carico | J6: Utente disabile | K6: Invalidità riconosciuta | L6: Utente psichiatrico (in carico ai servizi) | M6: Condizione familiare | N6: Presenza Caregiver | O6: Già in carico presso Servizi Sociosanitari | P6: Già in carico presso Servizi Sanitari | Q6: Tipologia di gestione del servizio | R6: Valore complessivo del Voucher utilizzato dall'utente durante il periodo rendicontato | S6: Prestazione prevalente | T6: Eventuale prestazione secondaria | U6: Numero totale Accessi ASA/OSS annuali | V6: Numero totale Ore ASA/OSS annuali | W6: Numero Accessi Educatori o figure equipollenti | X6: Numero totale Ore Educatori o figure equipollenti | Y6: Numero Accessi Personale non qualificato | Z6: Numero totale ore Personale non qualificato | AA6: Numero Accessi Personale Volontario | AB6: Numero Ore Personale Volontario
C7: XXXXXXXXXXXXXXXX | D7: 44194 | E7: XXXXXXX | F7: XXXXXXXXXXXXXXXXXXXXXXXXXXXXXXXXXXXXXXXXXXXXXXXXXX | G7: XXXXXXXX | H7: 44195 | I7: 44196 | J7: XX | K7: XX | L7: XX | M7: XXXXXXXXXXX | N7: XX | O7: XX | P7: XX | Q7: XXXXXXXXXXXXXXXXXXX | R7: 999999 | S7: XXXXXXXXXXXXXXXXXXXXXXXXXXXXXXXXXXXXXXXXXXXXXXXXXXXXXXXXXXXXXXXXXXXXXXXXXXXXXXXXXXXXXXXXXXXXXXXXXXXXXXXXXXXXXXXXXXXXXXXXXXXXXXXXXXXXXXXXXXXXXXXXXXXXXXXXXXXXXXXXXXXXXXXXX | T7: XXXXXXXXXXXXXXXXXXXXXXXXXXXXXXXXXXXXXXXXXXXXXXXXXXXXXXXXXXXXXXXXXXXXXXXXXXXXXXXXXXXXXXXXXXXXXXXXXXXXXXXXXXXXXXXXXXXXXXXXXXXXXXXXXXXXXXXXXXXXXXXXXXXXXXXXXXXXXXXXXXXXXXXXX | U7: 999999 | V7: 999999 | W7: 999999 | X7: 999999 | Y7: 999999 | Z7: 999999 | AA7: 999999 | AB7: 999999 | AC7: =IF(AND(OR(AD7=FALSE,AE7=FALSE),OR(COUNTBLANK(C7:F7)<>COLUMNS(C7:F7),COUNTBLANK(H7:AB7)<>COLUMNS(H7:AB7))),"KO","") -> KO | AD7: =IF(OR(ISBLANK(C7),ISBLANK(D7),ISBLANK(E7),ISBLANK(F7),ISBLANK(H7),ISBLANK(J7),ISBLANK(K7),ISBLANK(L7),ISBLANK(M7),ISBLANK(N7),ISBLANK(O7),ISBLANK(P7),ISBLANK(Q7),ISBLANK(S7),ISBLANK(U7),ISBLANK(V7),ISBLANK(W7),ISBLANK(X7),ISBLANK(Y7),ISBLANK(Z7),ISBLANK(AA7),ISBLANK(AB7)),FALSE,TRUE) -> TRUE | AE7: =IF((Q7="Voucher"=NOT(ISBLANK(R7))),TRUE,FALSE) -> FALSE | AF7: =IF(AND(AC7="KO",OR(COUNTBLANK(C7:F7)<>COLUMNS(C7:F7),COUNTBLANK(H7:AB7)<>COLUMNS(H7:AB7))),"ATTENZIONE!!! NON TUTTI I CAMPI OBBLIGATORI SONO STATI COMPILATI","") -> ATTENZIONE!!! NON TUTTI I CAMPI OBBLIGATORI SONO STATI COMPILATI | AQ7: Comune fuori Regione Lombardia | AR7: 999999
C8: XXXXXXXXXXXXXXXX | D8: 44194 | E8: XXXXXXX | F8: XXXXXXXXXXXXXXXXXXXXXXXXXXXXXXXXXXXXXXXXXXXXXXXXXX | G8: XXXXXXXX | H8: 44195 | I8: 44196 | J8: XX | K8: XX | L8: XX | M8: XXXXXXXXXXX | N8: XX | O8: XX | P8: XX | Q8: XXXXXXXXXXXXXXXXXXX | R8: 999999 | S8: XXXXXXXXXXXXXXXXXXXXXXXXXXXXXXXXXXXXXXXXXXXXXXXXXXXXXXXXXXXXXXXXXXXXXXXXXXXXXXXXXXXXXXXXXXXXXXXXXXXXXXXXXXXXXXXXXXXXXXXXXXXXXXXXXXXXXXXXXXXXXXXXXXXXXXXXXXXXXXXXXXXXXXXXX | T8: XXXXXXXXXXXXXXXXXXXXXXXXXXXXXXXXXXXXXXXXXXXXXXXXXXXXXXXXXXXXXXXXXXXXXXXXXXXXXXXXXXXXXXXXXXXXXXXXXXXXXXXXXXXXXXXXXXXXXXXXXXXXXXXXXXXXXXXXXXXXXXXXXXXXXXXXXXXXXXXXXXXXXXXXX | U8: 999999 | V8: 999999 | W8: 999999 | X8: 999999 | Y8: 999999 | Z8: 999999 | AA8: 999999 | AB8: 999999 | AC8: =IF(AND(OR(AD8=FALSE,AE8=FALSE),OR(COUNTBLANK(C8:F8)<>COLUMNS(C8:F8),COUNTBLANK(H8:AB8)<>COLUMNS(H8:AB8))),"KO","") -> KO | AD8: =IF(OR(ISBLANK(C8),ISBLANK(D8),ISBLANK(E8),ISBLANK(F8),ISBLANK(H8),ISBLANK(J8),ISBLANK(K8),ISBLANK(L8),ISBLANK(M8),ISBLANK(N8),ISBLANK(O8),ISBLANK(P8),ISBLANK(Q8),ISBLANK(S8),ISBLANK(U8),ISBLANK(V8),ISBLANK(W8),ISBLANK(X8),ISBLANK(Y8),ISBLANK(Z8),ISBLANK(AA8),ISBLANK(AB8)),FALSE,TRUE) -> TRUE | AE8: =IF((Q8="Voucher"=NOT(ISBLANK(R8))),TRUE,FALSE) -> FALSE | AF8: =IF(AND(AC8="KO",OR(COUNTBLANK(C8:F8)<>COLUMNS(C8:F8),COUNTBLANK(H8:AB8)<>COLUMNS(H8:AB8))),"ATTENZIONE!!! NON TUTTI I CAMPI OBBLIGATORI SONO STATI COMPILATI","") -> ATTENZIONE!!! NON TUTTI I CAMPI OBBLIGATORI SONO STATI COMPILATI | AG8: =IF(AB8="KO","ATTENZIONE!!! NON TUTTI I CAMPI OBBLIGATORI SONO STATI COMPILATI","") | AQ8: Abbadia Cerreto | AR8: 098001
C9: XXXXXXXXXXXXXXXX | D9: 44194 | E9: XXXXXXX | F9: XXXXXXXXXXXXXXXXXXXXXXXXXXXXXXXXXXXXXXXXXXXXXXXXXX | G9: XXXXXXXX | H9: 44195 | I9: 44196 | J9: XX | K9: XX | L9: XX | M9: XXXXXXXXXXX | N9: XX | O9: XX | P9: XX | Q9: XXXXXXXXXXXXXXXXXXX | R9: 999999 | S9: XXXXXXXXXXXXXXXXXXXXXXXXXXXXXXXXXXXXXXXXXXXXXXXXXXXXXXXXXXXXXXXXXXXXXXXXXXXXXXXXXXXXXXXXXXXXXXXXXXXXXXXXXXXXXXXXXXXXXXXXXXXXXXXXXXXXXXXXXXXXXXXXXXXXXXXXXXXXXXXXXXXXXXXXX | T9: XXXXXXXXXXXXXXXXXXXXXXXXXXXXXXXXXXXXXXXXXXXXXXXXXXXXXXXXXXXXXXXXXXXXXXXXXXXXXXXXXXXXXXXXXXXXXXXXXXXXXXXXXXXXXXXXXXXXXXXXXXXXXXXXXXXXXXXXXXXXXXXXXXXXXXXXXXXXXXXXXXXXXXXXX | U9: 999999 | V9: 999999 | W9: 999999 | X9: 999999 | Y9: 999999 | Z9: 999999 | AA9: 999999 | AB9: 999999 | AC9: =IF(AND(OR(AD9=FALSE,AE9=FALSE),OR(COUNTBLANK(C9:F9)<>COLUMNS(C9:F9),COUNTBLANK(H9:AB9)<>COLUMNS(H9:AB9))),"KO","") -> KO | AD9: =IF(OR(ISBLANK(C9),ISBLANK(D9),ISBLANK(E9),ISBLANK(F9),ISBLANK(H9),ISBLANK(J9),ISBLANK(K9),ISBLANK(L9),ISBLANK(M9),ISBLANK(N9),ISBLANK(O9),ISBLANK(P9),ISBLANK(Q9),ISBLANK(S9),ISBLANK(U9),ISBLANK(V9),ISBLANK(W9),ISBLANK(X9),ISBLANK(Y9),ISBLANK(Z9),ISBLANK(AA9),ISBLANK(AB9)),FALSE,TRUE) -> TRUE | AE9: =IF((Q9="Voucher"=NOT(ISBLANK(R9))),TRUE,FALSE) -> FALSE | AF9: =IF(AND(AC9="KO",OR(COUNTBLANK(C9:F9)<>COLUMNS(C9:F9),COUNTBLANK(H9:AB9)<>COLUMNS(H9:AB9))),"ATTENZIONE!!! NON TUTTI I CAMPI OBBLIGATORI SONO STATI COMPILATI","") -> ATTENZIONE!!! NON TUTTI I CAMPI OBBLIGATORI SONO STATI COMPILATI | AG9: =IF(AB9="KO","ATTENZIONE!!! NON TUTTI I CAMPI OBBLIGATORI SONO STATI COMPILATI","") | AQ9: Abbadia Lariana | AR9: 097001
C10: XXXXXXXXXXXXXXXX | D10: 44194 | E10: XXXXXXX | F10: XXXXXXXXXXXXXXXXXXXXXXXXXXXXXXXXXXXXXXXXXXXXXXXXXX | G10: XXXXXXXX | H10: 44195 | I10: 44196 | J10: XX | K10: XX | L10: XX | M10: XXXXXXXXXXX | N10: XX | O10: XX | P10: XX | Q10: XXXXXXXXXXXXXXXXXXX | R10: 999999 | S10: XXXXXXXXXXXXXXXXXXXXXXXXXXXXXXXXXXXXXXXXXXXXXXXXXXXXXXXXXXXXXXXXXXXXXXXXXXXXXXXXXXXXXXXXXXXXXXXXXXXXXXXXXXXXXXXXXXXXXXXXXXXXXXXXXXXXXXXXXXXXXXXXXXXXXXXXXXXXXXXXXXXXXXXXX | T10: XXXXXXXXXXXXXXXXXXXXXXXXXXXXXXXXXXXXXXXXXXXXXXXXXXXXXXXXXXXXXXXXXXXXXXXXXXXXXXXXXXXXXXXXXXXXXXXXXXXXXXXXXXXXXXXXXXXXXXXXXXXXXXXXXXXXXXXXXXXXXXXXXXXXXXXXXXXXXXXXXXXXXXXXX | U10: 999999 | V10: 999999 | W10: 999999 | X10: 999999 | Y10: 999999 | Z10: 999999 | AA10: 999999 | AB10: 999999 | AC10: =IF(AND(OR(AD10=FALSE,AE10=FALSE),OR(COUNTBLANK(C10:F10)<>COLUMNS(C10:F10),COUNTBLANK(H10:AB10)<>COLUMNS(H10:AB10))),"KO","") -> KO | AD10: =IF(OR(ISBLANK(C10),ISBLANK(D10),ISBLANK(E10),ISBLANK(F10),ISBLANK(H10),ISBLANK(J10),ISBLANK(K10),ISBLANK(L10),ISBLANK(M10),ISBLANK(N10),ISBLANK(O10),ISBLANK(P10),ISBLANK(Q10),ISBLANK(S10),ISBLANK(U10),ISBLANK(V10),ISBLANK(W10),ISBLANK(X10),ISBLANK(Y10),ISBLANK(Z10),ISBLANK(AA10),ISBLANK(AB10)),FALSE,TRUE) -> TRUE | AE10: =IF((Q10="Voucher"=NOT(ISBLANK(R10))),TRUE,FALSE) -> FALSE | AF10: =IF(AND(AC10="KO",OR(COUNTBLANK(C10:F10)<>COLUMNS(C10:F10),COUNTBLANK(H10:AB10)<>COLUMNS(H10:AB10))),"ATTENZIONE!!! NON TUTTI I CAMPI OBBLIGATORI SONO STATI COMPILATI","") -> ATTENZIONE!!! NON TUTTI I CAMPI OBBLIGATORI SONO STATI COMPILATI | AG10: =IF(AB10="KO","ATTENZIONE!!! NON TUTTI I CAMPI OBBLIGATORI SONO STATI COMPILATI","") | AQ10: Abbiategrasso | AR10: 015002
C11: XXXXXXXXXXXXXXXX | D11: 44194 | E11: XXXXXXX | F11: XXXXXXXXXXXXXXXXXXXXXXXXXXXXXXXXXXXXXXXXXXXXXXXXXX | G11: XXXXXXXX | H11: 44195 | I11: 44196 | J11: XX | K11: XX | L11: XX | M11: XXXXXXXXXXX | N11: XX | O11: XX | P11: XX | Q11: XXXXXXXXXXXXXXXXXXX | R11: 999999 | S11: XXXXXXXXXXXXXXXXXXXXXXXXXXXXXXXXXXXXXXXXXXXXXXXXXXXXXXXXXXXXXXXXXXXXXXXXXXXXXXXXXXXXXXXXXXXXXXXXXXXXXXXXXXXXXXXXXXXXXXXXXXXXXXXXXXXXXXXXXXXXXXXXXXXXXXXXXXXXXXXXXXXXXXXXX | T11: XXXXXXXXXXXXXXXXXXXXXXXXXXXXXXXXXXXXXXXXXXXXXXXXXXXXXXXXXXXXXXXXXXXXXXXXXXXXXXXXXXXXXXXXXXXXXXXXXXXXXXXXXXXXXXXXXXXXXXXXXXXXXXXXXXXXXXXXXXXXXXXXXXXXXXXXXXXXXXXXXXXXXXXXX | U11: 999999 | V11: 999999 | W11: 999999 | X11: 999999 | Y11: 999999 | Z11: 999999 | AA11: 999999 | AB11: 999999 | AC11: =IF(AND(OR(AD11=FALSE,AE11=FALSE),OR(COUNTBLANK(C11:F11)<>COLUMNS(C11:F11),COUNTBLANK(H11:AB11)<>COLUMNS(H11:AB11))),"KO","") -> KO | AD11: =IF(OR(ISBLANK(C11),ISBLANK(D11),ISBLANK(E11),ISBLANK(F11),ISBLANK(H11),ISBLANK(J11),ISBLANK(K11),ISBLANK(L11),ISBLANK(M11),ISBLANK(N11),ISBLANK(O11),ISBLANK(P11),ISBLANK(Q11),ISBLANK(S11),ISBLANK(U11),ISBLANK(V11),ISBLANK(W11),ISBLANK(X11),ISBLANK(Y11),ISBLANK(Z11),ISBLANK(AA11),ISBLANK(AB11)),FALSE,TRUE) -> TRUE | AE11: =IF((Q11="Voucher"=NOT(ISBLANK(R11))),TRUE,FALSE) -> FALSE | AF11: =IF(AND(AC11="KO",OR(COUNTBLANK(C11:F11)<>COLUMNS(C11:F11),COUNTBLANK(H11:AB11)<>COLUMNS(H11:AB11))),"ATTENZIONE!!! NON TUTTI I CAMPI OBBLIGATORI SONO STATI COMPILATI","") -> ATTENZIONE!!! NON TUTTI I CAMPI OBBLIGATORI SONO STATI COMPILATI | AG11: =IF(AB11="KO","ATTENZIONE!!! NON TUTTI I CAMPI OBBLIGATORI SONO STATI COMPILATI","") | AQ11: Acquafredda | AR11: 017001
C12: XXXXXXXXXXXXXXXX | D12: 44194 | E12: XXXXXXX | F12: XXXXXXXXXXXXXXXXXXXXXXXXXXXXXXXXXXXXXXXXXXXXXXXXXX | G12: XXXXXXXX | H12: 44195 | I12: 44196 | J12: XX | K12: XX | L12: XX | M12: XXXXXXXXXXX | N12: XX | O12: XX | P12: XX | Q12: XXXXXXXXXXXXXXXXXXX | R12: 999999 | S12: XXXXXXXXXXXXXXXXXXXXXXXXXXXXXXXXXXXXXXXXXXXXXXXXXXXXXXXXXXXXXXXXXXXXXXXXXXXXXXXXXXXXXXXXXXXXXXXXXXXXXXXXXXXXXXXXXXXXXXXXXXXXXXXXXXXXXXXXXXXXXXXXXXXXXXXXXXXXXXXXXXXXXXXXX | T12: XXXXXXXXXXXXXXXXXXXXXXXXXXXXXXXXXXXXXXXXXXXXXXXXXXXXXXXXXXXXXXXXXXXXXXXXXXXXXXXXXXXXXXXXXXXXXXXXXXXXXXXXXXXXXXXXXXXXXXXXXXXXXXXXXXXXXXXXXXXXXXXXXXXXXXXXXXXXXXXXXXXXXXXXX | U12: 999999 | V12: 999999 | W12: 999999 | X12: 999999 | Y12: 999999 | Z12: 999999 | AA12: 999999 | AB12: 999999 | AC12: =IF(AND(OR(AD12=FALSE,AE12=FALSE),OR(COUNTBLANK(C12:F12)<>COLUMNS(C12:F12),COUNTBLANK(H12:AB12)<>COLUMNS(H12:AB12))),"KO","") -> KO | AD12: =IF(OR(ISBLANK(C12),ISBLANK(D12),ISBLANK(E12),ISBLANK(F12),ISBLANK(H12),ISBLANK(J12),ISBLANK(K12),ISBLANK(L12),ISBLANK(M12),ISBLANK(N12),ISBLANK(O12),ISBLANK(P12),ISBLANK(Q12),ISBLANK(S12),ISBLANK(U12),ISBLANK(V12),ISBLANK(W12),ISBLANK(X12),ISBLANK(Y12),ISBLANK(Z12),ISBLANK(AA12),ISBLANK(AB12)),FALSE,TRUE) -> TRUE | AE12: =IF((Q12="Voucher"=NOT(ISBLANK(R12))),TRUE,FALSE) -> FALSE | AF12: =IF(AND(AC12="KO",OR(COUNTBLANK(C12:F12)<>COLUMNS(C12:F12),COUNTBLANK(H12:AB12)<>COLUMNS(H12:AB12))),"ATTENZIONE!!! NON TUTTI I CAMPI OBBLIGATORI SONO STATI COMPILATI","") -> ATTENZIONE!!! NON TUTTI I CAMPI OBBLIGATORI SONO STATI COMPILATI | AG12: =IF(AB12="KO","ATTENZIONE!!! NON TUTTI I CAMPI OBBLIGATORI SONO STATI COMPILATI","") | AQ12: Acquanegra Cremonese | AR12: 019001
C13: XXXXXXXXXXXXXXXX | D13: 44194 | E13: XXXXXXX | F13: XXXXXXXXXXXXXXXXXXXXXXXXXXXXXXXXXXXXXXXXXXXXXXXXXX | G13: XXXXXXXX | H13: 44195 | I13: 44196 | J13: XX | K13: XX | L13: XX | M13: XXXXXXXXXXX | N13: XX | O13: XX | P13: XX | Q13: XXXXXXXXXXXXXXXXXXX | R13: 999999 | S13: XXXXXXXXXXXXXXXXXXXXXXXXXXXXXXXXXXXXXXXXXXXXXXXXXXXXXXXXXXXXXXXXXXXXXXXXXXXXXXXXXXXXXXXXXXXXXXXXXXXXXXXXXXXXXXXXXXXXXXXXXXXXXXXXXXXXXXXXXXXXXXXXXXXXXXXXXXXXXXXXXXXXXXXXX | T13: XXXXXXXXXXXXXXXXXXXXXXXXXXXXXXXXXXXXXXXXXXXXXXXXXXXXXXXXXXXXXXXXXXXXXXXXXXXXXXXXXXXXXXXXXXXXXXXXXXXXXXXXXXXXXXXXXXXXXXXXXXXXXXXXXXXXXXXXXXXXXXXXXXXXXXXXXXXXXXXXXXXXXXXXX | U13: 999999 | V13: 999999 | W13: 999999 | X13: 999999 | Y13: 999999 | Z13: 999999 | AA13: 999999 | AB13: 999999 | AC13: =IF(AND(OR(AD13=FALSE,AE13=FALSE),OR(COUNTBLANK(C13:F13)<>COLUMNS(C13:F13),COUNTBLANK(H13:AB13)<>COLUMNS(H13:AB13))),"KO","") -> KO | AD13: =IF(OR(ISBLANK(C13),ISBLANK(D13),ISBLANK(E13),ISBLANK(F13),ISBLANK(H13),ISBLANK(J13),ISBLANK(K13),ISBLANK(L13),ISBLANK(M13),ISBLANK(N13),ISBLANK(O13),ISBLANK(P13),ISBLANK(Q13),ISBLANK(S13),ISBLANK(U13),ISBLANK(V13),ISBLANK(W13),ISBLANK(X13),ISBLANK(Y13),ISBLANK(Z13),ISBLANK(AA13),ISBLANK(AB13)),FALSE,TRUE) -> TRUE | AE13: =IF((Q13="Voucher"=NOT(ISBLANK(R13))),TRUE,FALSE) -> FALSE | AF13: =IF(AND(AC13="KO",OR(COUNTBLANK(C13:F13)<>COLUMNS(C13:F13),COUNTBLANK(H13:AB13)<>COLUMNS(H13:AB13))),"ATTENZIONE!!! NON TUTTI I CAMPI OBBLIGATORI SONO STATI COMPILATI","") -> ATTENZIONE!!! NON TUTTI I CAMPI OBBLIGATORI SONO STATI COMPILATI | AG13: =IF(AB13="KO","ATTENZIONE!!! NON TUTTI I CAMPI OBBLIGATORI SONO STATI COMPILATI","") | AQ13: Acquanegra sul Chiese | AR13: 020001
C14: XXXXXXXXXXXXXXXX | D14: 44194 | E14: XXXXXXX | F14: XXXXXXXXXXXXXXXXXXXXXXXXXXXXXXXXXXXXXXXXXXXXXXXXXX | G14: XXXXXXXX | H14: 44195 | I14: 44196 | J14: XX | K14: XX | L14: XX | M14: XXXXXXXXXXX | N14: XX | O14: XX | P14: XX | Q14: XXXXXXXXXXXXXXXXXXX | R14: 999999 | S14: XXXXXXXXXXXXXXXXXXXXXXXXXXXXXXXXXXXXXXXXXXXXXXXXXXXXXXXXXXXXXXXXXXXXXXXXXXXXXXXXXXXXXXXXXXXXXXXXXXXXXXXXXXXXXXXXXXXXXXXXXXXXXXXXXXXXXXXXXXXXXXXXXXXXXXXXXXXXXXXXXXXXXXXXX | T14: XXXXXXXXXXXXXXXXXXXXXXXXXXXXXXXXXXXXXXXXXXXXXXXXXXXXXXXXXXXXXXXXXXXXXXXXXXXXXXXXXXXXXXXXXXXXXXXXXXXXXXXXXXXXXXXXXXXXXXXXXXXXXXXXXXXXXXXXXXXXXXXXXXXXXXXXXXXXXXXXXXXXXXXXX | U14: 999999 | V14: 999999 | W14: 999999 | X14: 999999 | Y14: 999999 | Z14: 999999 | AA14: 999999 | AB14: 999999 | AC14: =IF(AND(OR(AD14=FALSE,AE14=FALSE),OR(COUNTBLANK(C14:F14)<>COLUMNS(C14:F14),COUNTBLANK(H14:AB14)<>COLUMNS(H14:AB14))),"KO","") -> KO | AD14: =IF(OR(ISBLANK(C14),ISBLANK(D14),ISBLANK(E14),ISBLANK(F14),ISBLANK(H14),ISBLANK(J14),ISBLANK(K14),ISBLANK(L14),ISBLANK(M14),ISBLANK(N14),ISBLANK(O14),ISBLANK(P14),ISBLANK(Q14),ISBLANK(S14),ISBLANK(U14),ISBLANK(V14),ISBLANK(W14),ISBLANK(X14),ISBLANK(Y14),ISBLANK(Z14),ISBLANK(AA14),ISBLANK(AB14)),FALSE,TRUE) -> TRUE | AE14: =IF((Q14="Voucher"=NOT(ISBLANK(R14))),TRUE,FALSE) -> FALSE | AF14: =IF(AND(AC14="KO",OR(COUNTBLANK(C14:F14)<>COLUMNS(C14:F14),COUNTBLANK(H14:AB14)<>COLUMNS(H14:AB14))),"ATTENZIONE!!! NON TUTTI I CAMPI OBBLIGATORI SONO STATI COMPILATI","") -> ATTENZIONE!!! NON TUTTI I CAMPI OBBLIGATORI SONO STATI COMPILATI | AG14: =IF(AB14="KO","ATTENZIONE!!! NON TUTTI I CAMPI OBBLIGATORI SONO STATI COMPILATI","") | AQ14: Adrara San Martino | AR14: 016001
C15: XXXXXXXXXXXXXXXX | D15: 44194 | E15: XXXXXXX | F15: XXXXXXXXXXXXXXXXXXXXXXXXXXXXXXXXXXXXXXXXXXXXXXXXXX | G15: XXXXXXXX | H15: 44195 | I15: 44196 | J15: XX | K15: XX | L15: XX | M15: XXXXXXXXXXX | N15: XX | O15: XX | P15: XX | Q15: XXXXXXXXXXXXXXXXXXX | R15: 999999 | S15: XXXXXXXXXXXXXXXXXXXXXXXXXXXXXXXXXXXXXXXXXXXXXXXXXXXXXXXXXXXXXXXXXXXXXXXXXXXXXXXXXXXXXXXXXXXXXXXXXXXXXXXXXXXXXXXXXXXXXXXXXXXXXXXXXXXXXXXXXXXXXXXXXXXXXXXXXXXXXXXXXXXXXXXXX | T15: XXXXXXXXXXXXXXXXXXXXXXXXXXXXXXXXXXXXXXXXXXXXXXXXXXXXXXXXXXXXXXXXXXXXXXXXXXXXXXXXXXXXXXXXXXXXXXXXXXXXXXXXXXXXXXXXXXXXXXXXXXXXXXXXXXXXXXXXXXXXXXXXXXXXXXXXXXXXXXXXXXXXXXXXX | U15: 999999 | V15: 999999 | W15: 999999 | X15: 999999 | Y15: 999999 | Z15: 999999 | AA15: 999999 | AB15: 999999 | AC15: =IF(AND(OR(AD15=FALSE,AE15=FALSE),OR(COUNTBLANK(C15:F15)<>COLUMNS(C15:F15),COUNTBLANK(H15:AB15)<>COLUMNS(H15:AB15))),"KO","") -> KO | AD15: =IF(OR(ISBLANK(C15),ISBLANK(D15),ISBLANK(E15),ISBLANK(F15),ISBLANK(H15),ISBLANK(J15),ISBLANK(K15),ISBLANK(L15),ISBLANK(M15),ISBLANK(N15),ISBLANK(O15),ISBLANK(P15),ISBLANK(Q15),ISBLANK(S15),ISBLANK(U15),ISBLANK(V15),ISBLANK(W15),ISBLANK(X15),ISBLANK(Y15),ISBLANK(Z15),ISBLANK(AA15),ISBLANK(AB15)),FALSE,TRUE) -> TRUE | AE15: =IF((Q15="Voucher"=NOT(ISBLANK(R15))),TRUE,FALSE) -> FALSE | AF15: =IF(AND(AC15="KO",OR(COUNTBLANK(C15:F15)<>COLUMNS(C15:F15),COUNTBLANK(H15:AB15)<>COLUMNS(H15:AB15))),"ATTENZIONE!!! NON TUTTI I CAMPI OBBLIGATORI SONO STATI COMPILATI","") -> ATTENZIONE!!! NON TUTTI I CAMPI OBBLIGATORI SONO STATI COMPILATI | AG15: =IF(AB15="KO","ATTENZIONE!!! NON TUTTI I CAMPI OBBLIGATORI SONO STATI COMPILATI","") | AQ15: Adrara San Rocco | AR15: 016002
C16: XXXXXXXXXXXXXXXX | D16: 44194 | E16: XXXXXXX | F16: XXXXXXXXXXXXXXXXXXXXXXXXXXXXXXXXXXXXXXXXXXXXXXXXXX | G16: XXXXXXXX | H16: 44195 | I16: 44196 | J16: XX | K16: XX | L16: XX | M16: XXXXXXXXXXX | N16: XX | O16: XX | P16: XX | Q16: XXXXXXXXXXXXXXXXXXX | R16: 999999 | S16: XXXXXXXXXXXXXXXXXXXXXXXXXXXXXXXXXXXXXXXXXXXXXXXXXXXXXXXXXXXXXXXXXXXXXXXXXXXXXXXXXXXXXXXXXXXXXXXXXXXXXXXXXXXXXXXXXXXXXXXXXXXXXXXXXXXXXXXXXXXXXXXXXXXXXXXXXXXXXXXXXXXXXXXXX | T16: XXXXXXXXXXXXXXXXXXXXXXXXXXXXXXXXXXXXXXXXXXXXXXXXXXXXXXXXXXXXXXXXXXXXXXXXXXXXXXXXXXXXXXXXXXXXXXXXXXXXXXXXXXXXXXXXXXXXXXXXXXXXXXXXXXXXXXXXXXXXXXXXXXXXXXXXXXXXXXXXXXXXXXXXX | U16: 999999 | V16: 999999 | W16: 999999 | X16: 999999 | Y16: 999999 | Z16: 999999 | AA16: 999999 | AB16: 999999 | AC16: =IF(AND(OR(AD16=FALSE,AE16=FALSE),OR(COUNTBLANK(C16:F16)<>COLUMNS(C16:F16),COUNTBLANK(H16:AB16)<>COLUMNS(H16:AB16))),"KO","") -> KO | AD16: =IF(OR(ISBLANK(C16),ISBLANK(D16),ISBLANK(E16),ISBLANK(F16),ISBLANK(H16),ISBLANK(J16),ISBLANK(K16),ISBLANK(L16),ISBLANK(M16),ISBLANK(N16),ISBLANK(O16),ISBLANK(P16),ISBLANK(Q16),ISBLANK(S16),ISBLANK(U16),ISBLANK(V16),ISBLANK(W16),ISBLANK(X16),ISBLANK(Y16),ISBLANK(Z16),ISBLANK(AA16),ISBLANK(AB16)),FALSE,TRUE) -> TRUE | AE16: =IF((Q16="Voucher"=NOT(ISBLANK(R16))),TRUE,FALSE) -> FALSE | AF16: =IF(AND(AC16="KO",OR(COUNTBLANK(C16:F16)<>COLUMNS(C16:F16),COUNTBLANK(H16:AB16)<>COLUMNS(H16:AB16))),"ATTENZIONE!!! NON TUTTI I CAMPI OBBLIGATORI SONO STATI COMPILATI","") -> ATTENZIONE!!! NON TUTTI I CAMPI OBBLIGATORI SONO STATI COMPILATI | AG16: =IF(AB16="KO","ATTENZIONE!!! NON TUTTI I CAMPI OBBLIGATORI SONO STATI COMPILATI","") | AQ16: Adro | AR16: 017002
C17: XXXXXXXXXXXXXXXX | D17: 44194 | E17: XXXXXXX | F17: XXXXXXXXXXXXXXXXXXXXXXXXXXXXXXXXXXXXXXXXXXXXXXXXXX | G17: XXXXXXXX | H17: 44195 | I17: 44196 | J17: XX | K17: XX | L17: XX | M17: XXXXXXXXXXX | N17: XX | O17: XX | P17: XX | Q17: XXXXXXXXXXXXXXXXXXX | R17: 999999 | S17: XXXXXXXXXXXXXXXXXXXXXXXXXXXXXXXXXXXXXXXXXXXXXXXXXXXXXXXXXXXXXXXXXXXXXXXXXXXXXXXXXXXXXXXXXXXXXXXXXXXXXXXXXXXXXXXXXXXXXXXXXXXXXXXXXXXXXXXXXXXXXXXXXXXXXXXXXXXXXXXXXXXXXXXXX | T17: XXXXXXXXXXXXXXXXXXXXXXXXXXXXXXXXXXXXXXXXXXXXXXXXXXXXXXXXXXXXXXXXXXXXXXXXXXXXXXXXXXXXXXXXXXXXXXXXXXXXXXXXXXXXXXXXXXXXXXXXXXXXXXXXXXXXXXXXXXXXXXXXXXXXXXXXXXXXXXXXXXXXXXXXX | U17: 999999 | V17: 999999 | W17: 999999 | X17: 999999 | Y17: 999999 | Z17: 999999 | AA17: 999999 | AB17: 999999 | AC17: =IF(AND(OR(AD17=FALSE,AE17=FALSE),OR(COUNTBLANK(C17:F17)<>COLUMNS(C17:F17),COUNTBLANK(H17:AB17)<>COLUMNS(H17:AB17))),"KO","") -> KO | AD17: =IF(OR(ISBLANK(C17),ISBLANK(D17),ISBLANK(E17),ISBLANK(F17),ISBLANK(H17),ISBLANK(J17),ISBLANK(K17),ISBLANK(L17),ISBLANK(M17),ISBLANK(N17),ISBLANK(O17),ISBLANK(P17),ISBLANK(Q17),ISBLANK(S17),ISBLANK(U17),ISBLANK(V17),ISBLANK(W17),ISBLANK(X17),ISBLANK(Y17),ISBLANK(Z17),ISBLANK(AA17),ISBLANK(AB17)),FALSE,TRUE) -> TRUE | AE17: =IF((Q17="Voucher"=NOT(ISBLANK(R17))),TRUE,FALSE) -> FALSE | AF17: =IF(AND(AC17="KO",OR(COUNTBLANK(C17:F17)<>COLUMNS(C17:F17),COUNTBLANK(H17:AB17)<>COLUMNS(H17:AB17))),"ATTENZIONE!!! NON TUTTI I CAMPI OBBLIGATORI SONO STATI COMPILATI","") -> ATTENZIONE!!! NON TUTTI I CAMPI OBBLIGATORI SONO STATI COMPILATI | AG17: =IF(AB17="KO","ATTENZIONE!!! NON TUTTI I CAMPI OBBLIGATORI SONO STATI COMPILATI","") | AQ17: Agnadello | AR17: 019002
C18: XXXXXXXXXXXXXXXX | D18: 44194 | E18: XXXXXXX | F18: XXXXXXXXXXXXXXXXXXXXXXXXXXXXXXXXXXXXXXXXXXXXXXXXXX | G18: XXXXXXXX | H18: 44195 | I18: 44196 | J18: XX | K18: XX | L18: XX | M18: XXXXXXXXXXX | N18: XX | O18: XX | P18: XX | Q18: XXXXXXXXXXXXXXXXXXX | R18: 999999 | S18: XXXXXXXXXXXXXXXXXXXXXXXXXXXXXXXXXXXXXXXXXXXXXXXXXXXXXXXXXXXXXXXXXXXXXXXXXXXXXXXXXXXXXXXXXXXXXXXXXXXXXXXXXXXXXXXXXXXXXXXXXXXXXXXXXXXXXXXXXXXXXXXXXXXXXXXXXXXXXXXXXXXXXXXXX | T18: XXXXXXXXXXXXXXXXXXXXXXXXXXXXXXXXXXXXXXXXXXXXXXXXXXXXXXXXXXXXXXXXXXXXXXXXXXXXXXXXXXXXXXXXXXXXXXXXXXXXXXXXXXXXXXXXXXXXXXXXXXXXXXXXXXXXXXXXXXXXXXXXXXXXXXXXXXXXXXXXXXXXXXXXX | U18: 999999 | V18: 999999 | W18: 999999 | X18: 999999 | Y18: 999999 | Z18: 999999 | AA18: 999999 | AB18: 999999 | AC18: =IF(AND(OR(AD18=FALSE,AE18=FALSE),OR(COUNTBLANK(C18:F18)<>COLUMNS(C18:F18),COUNTBLANK(H18:AB18)<>COLUMNS(H18:AB18))),"KO","") -> KO | AD18: =IF(OR(ISBLANK(C18),ISBLANK(D18),ISBLANK(E18),ISBLANK(F18),ISBLANK(H18),ISBLANK(J18),ISBLANK(K18),ISBLANK(L18),ISBLANK(M18),ISBLANK(N18),ISBLANK(O18),ISBLANK(P18),ISBLANK(Q18),ISBLANK(S18),ISBLANK(U18),ISBLANK(V18),ISBLANK(W18),ISBLANK(X18),ISBLANK(Y18),ISBLANK(Z18),ISBLANK(AA18),ISBLANK(AB18)),FALSE,TRUE) -> TRUE | AE18: =IF((Q18="Voucher"=NOT(ISBLANK(R18))),TRUE,FALSE) -> FALSE | AF18: =IF(AND(AC18="KO",OR(COUNTBLANK(C18:F18)<>COLUMNS(C18:F18),COUNTBLANK(H18:AB18)<>COLUMNS(H18:AB18))),"ATTENZIONE!!! NON TUTTI I CAMPI OBBLIGATORI SONO STATI COMPILATI","") -> ATTENZIONE!!! NON TUTTI I CAMPI OBBLIGATORI SONO STATI COMPILATI | AG18: =IF(AB18="KO","ATTENZIONE!!! NON TUTTI I CAMPI OBBLIGATORI SONO STATI COMPILATI","") | AQ18: Agnosine | AR18: 017003
C19: XXXXXXXXXXXXXXXX | D19: 44194 | E19: XXXXXXX | F19: XXXXXXXXXXXXXXXXXXXXXXXXXXXXXXXXXXXXXXXXXXXXXXXXXX | G19: XXXXXXXX | H19: 44195 | I19: 44196 | J19: XX | K19: XX | L19: XX | M19: XXXXXXXXXXX | N19: XX | O19: XX | P19: XX | Q19: XXXXXXXXXXXXXXXXXXX | R19: 999999 | S19: XXXXXXXXXXXXXXXXXXXXXXXXXXXXXXXXXXXXXXXXXXXXXXXXXXXXXXXXXXXXXXXXXXXXXXXXXXXXXXXXXXXXXXXXXXXXXXXXXXXXXXXXXXXXXXXXXXXXXXXXXXXXXXXXXXXXXXXXXXXXXXXXXXXXXXXXXXXXXXXXXXXXXXXXX | T19: XXXXXXXXXXXXXXXXXXXXXXXXXXXXXXXXXXXXXXXXXXXXXXXXXXXXXXXXXXXXXXXXXXXXXXXXXXXXXXXXXXXXXXXXXXXXXXXXXXXXXXXXXXXXXXXXXXXXXXXXXXXXXXXXXXXXXXXXXXXXXXXXXXXXXXXXXXXXXXXXXXXXXXXXX | U19: 999999 | V19: 999999 | W19: 999999 | X19: 999999 | Y19: 999999 | Z19: 999999 | AA19: 999999 | AB19: 999999 | AC19: =IF(AND(OR(AD19=FALSE,AE19=FALSE),OR(COUNTBLANK(C19:F19)<>COLUMNS(C19:F19),COUNTBLANK(H19:AB19)<>COLUMNS(H19:AB19))),"KO","") -> KO | AD19: =IF(OR(ISBLANK(C19),ISBLANK(D19),ISBLANK(E19),ISBLANK(F19),ISBLANK(H19),ISBLANK(J19),ISBLANK(K19),ISBLANK(L19),ISBLANK(M19),ISBLANK(N19),ISBLANK(O19),ISBLANK(P19),ISBLANK(Q19),ISBLANK(S19),ISBLANK(U19),ISBLANK(V19),ISBLANK(W19),ISBLANK(X19),ISBLANK(Y19),ISBLANK(Z19),ISBLANK(AA19),ISBLANK(AB19)),FALSE,TRUE) -> TRUE | AE19: =IF((Q19="Voucher"=NOT(ISBLANK(R19))),TRUE,FALSE) -> FALSE | AF19: =IF(AND(AC19="KO",OR(COUNTBLANK(C19:F19)<>COLUMNS(C19:F19),COUNTBLANK(H19:AB19)<>COLUMNS(H19:AB19))),"ATTENZIONE!!! NON TUTTI I CAMPI OBBLIGATORI SONO STATI COMPILATI","") -> ATTENZIONE!!! NON TUTTI I CAMPI OBBLIGATORI SONO STATI COMPILATI | AG19: =IF(AB19="KO","ATTENZIONE!!! NON TUTTI I CAMPI OBBLIGATORI SONO STATI COMPILATI","") | AQ19: Agra | AR19: 012001
... C104: XXXXXXXXXXXXXXXX | D104: 44194 | E104: XXXXXXX | F104: XXXXXXXXXXXXXXXXXXXXXXXXXXXXXXXXXXXXXXXXXXXXXXXXXX | G104: XXXXXXXX | H104: 44195 | I104: 44196 | J104: XX | K104: XX | L104: XX | M104: XXXXXXXXXXX | N104: XX | O104: XX | P104: XX | Q104: XXXXXXXXXXXXXXXXXXX | R104: 999999 | S104: XXXXXXXXXXXXXXXXXXXXXXXXXXXXXXXXXXXXXXXXXXXXXXXXXXXXXXXXXXXXXXXXXXXXXXXXXXXXXXXXXXXXXXXXXXXXXXXXXXXXXXXXXXXXXXXXXXXXXXXXXXXXXXXXXXXXXXXXXXXXXXXXXXXXXXXXXXXXXXXXXXXXXXXXX | T104: XXXXXXXXXXXXXXXXXXXXXXXXXXXXXXXXXXXXXXXXXXXXXXXXXXXXXXXXXXXXXXXXXXXXXXXXXXXXXXXXXXXXXXXXXXXXXXXXXXXXXXXXXXXXXXXXXXXXXXXXXXXXXXXXXXXXXXXXXXXXXXXXXXXXXXXXXXXXXXXXXXXXXXXXX | U104: 999999 | V104: 999999 | W104: 999999 | X104: 999999 | Y104: 999999 | Z104: 999999 | AA104: 999999 | AB104: 999999 | AC104: =IF(AND(OR(AD104=FALSE,AE104=FALSE),OR(COUNTBLANK(C104:F104)<>COLUMNS(C104:F104),COUNTBLANK(H104:AB104)<>COLUMNS(H104:AB104))),"KO","") -> KO | AD104: =IF(OR(ISBLANK(C104),ISBLANK(D104),ISBLANK(E104),ISBLANK(F104),ISBLANK(H104),ISBLANK(J104),ISBLANK(K104),ISBLANK(L104),ISBLANK(M104),ISBLANK(N104),ISBLANK(O104),ISBLANK(P104),ISBLANK(Q104),ISBLANK(S104),ISBLANK(U104),ISBLANK(V104),ISBLANK(W104),ISBLANK(X104),ISBLANK(Y104),ISBLANK(Z104),ISBLANK(AA104),ISBLANK(AB104)),FALSE,TRUE) -> TRUE | AE104: =IF((Q104="Voucher"=NOT(ISBLANK(R104))),TRUE,FALSE) -> FALSE | AF104: =IF(AND(AC104="KO",OR(COUNTBLANK(C104:F104)<>COLUMNS(C104:F104),COUNTBLANK(H104:AB104)<>COLUMNS(H104:AB104))),"ATTENZIONE!!! NON TUTTI I CAMPI OBBLIGATORI SONO STATI COMPILATI","") -> ATTENZIONE!!! NON TUTTI I CAMPI OBBLIGATORI SONO STATI COMPILATI | AG104: =IF(AB104="KO","ATTENZIONE!!! NON TUTTI I CAMPI OBBLIGATORI SONO STATI COMPILATI","") | AQ104: Bascapè | AR104: 018009
G105: =VLOOKUP(F105,[1]Label!$C$2:$D$1504,2,FALSE) -> #N/A | AC105: =IF(AND(OR(AD105=FALSE,AE105=FALSE),OR(COUNTBLANK(C105:F105)<>COLUMNS(C105:F105),COUNTBLANK(H105:AB105)<>COLUMNS(H105:AB105))),"KO","") | AD105: =IF(OR(ISBLANK(C105),ISBLANK(D105),ISBLANK(E105),ISBLANK(F105),ISBLANK(H105),ISBLANK(J105),ISBLANK(K105),ISBLANK(L105),ISBLANK(M105),ISBLANK(N105),ISBLANK(O105),ISBLANK(P105),ISBLANK(Q105),ISBLANK(S105),ISBLANK(U105),ISBLANK(V105),ISBLANK(W105),ISBLANK(X105),ISBLANK(Y105),ISBLANK(Z105),ISBLANK(AA105),ISBLANK(AB105)),FALSE,TRUE) -> FALSE | AE105: =IF((Q105="Voucher"=NOT(ISBLANK(R105))),TRUE,FALSE) -> TRUE | AF105: =IF(AND(AC105="KO",OR(COUNTBLANK(C105:F105)<>COLUMNS(C105:F105),COUNTBLANK(H105:AB105)<>COLUMNS(H105:AB105))),"ATTENZIONE!!! NON TUTTI I CAMPI OBBLIGATORI SONO STATI COMPILATI","") | AG105: =IF(AB105="KO","ATTENZIONE!!! NON TUTTI I CAMPI OBBLIGATORI SONO STATI COMPILATI","") | AQ105: Basiano | AR105: 015014
G106: =VLOOKUP(F106,[1]Label!$C$2:$D$1504,2,FALSE) -> #N/A | AC106: =IF(AND(OR(AD106=FALSE,AE106=FALSE),OR(COUNTBLANK(C106:F106)<>COLUMNS(C106:F106),COUNTBLANK(H106:AB106)<>COLUMNS(H106:AB106))),"KO","") | AD106: =IF(OR(ISBLANK(C106),ISBLANK(D106),ISBLANK(E106),ISBLANK(F106),ISBLANK(H106),ISBLANK(J106),ISBLANK(K106),ISBLANK(L106),ISBLANK(M106),ISBLANK(N106),ISBLANK(O106),ISBLANK(P106),ISBLANK(Q106),ISBLANK(S106),ISBLANK(U106),ISBLANK(V106),ISBLANK(W106),ISBLANK(X106),ISBLANK(Y106),ISBLANK(Z106),ISBLANK(AA106),ISBLANK(AB106)),FALSE,TRUE) -> FALSE | AE106: =IF((Q106="Voucher"=NOT(ISBLANK(R106))),TRUE,FALSE) -> TRUE | AF106: =IF(AND(AC106="KO",OR(COUNTBLANK(C106:F106)<>COLUMNS(C106:F106),COUNTBLANK(H106:AB106)<>COLUMNS(H106:AB106))),"ATTENZIONE!!! NON TUTTI I CAMPI OBBLIGATORI SONO STATI COMPILATI","") | AG106: =IF(AB106="KO","ATTENZIONE!!! NON TUTTI I CAMPI OBBLIGATORI SONO STATI COMPILATI","") | AQ106: Basiglio | AR106: 015015
G107: =VLOOKUP(F107,[1]Label!$C$2:$D$1504,2,FALSE) -> #N/A | AC107: =IF(AND(OR(AD107=FALSE,AE107=FALSE),OR(COUNTBLANK(C107:F107)<>COLUMNS(C107:F107),COUNTBLANK(H107:AB107)<>COLUMNS(H107:AB107))),"KO","") | AD107: =IF(OR(ISBLANK(C107),ISBLANK(D107),ISBLANK(E107),ISBLANK(F107),ISBLANK(H107),ISBLANK(J107),ISBLANK(K107),ISBLANK(L107),ISBLANK(M107),ISBLANK(N107),ISBLANK(O107),ISBLANK(P107),ISBLANK(Q107),ISBLANK(S107),ISBLANK(U107),ISBLANK(V107),ISBLANK(W107),ISBLANK(X107),ISBLANK(Y107),ISBLANK(Z107),ISBLANK(AA107),ISBLANK(AB107)),FALSE,TRUE) -> FALSE | AE107: =IF((Q107="Voucher"=NOT(ISBLANK(R107))),TRUE,FALSE) -> TRUE | AF107: =IF(AND(AC107="KO",OR(COUNTBLANK(C107:F107)<>COLUMNS(C107:F107),COUNTBLANK(H107:AB107)<>COLUMNS(H107:AB107))),"ATTENZIONE!!! NON TUTTI I CAMPI OBBLIGATORI SONO STATI COMPILATI","") | AG107: =IF(AB107="KO","ATTENZIONE!!! NON TUTTI I CAMPI OBBLIGATORI SONO STATI COMPILATI","") | AQ107: Bassano Bresciano | AR107: 017013
G108: =VLOOKUP(F108,[1]Label!$C$2:$D$1504,2,FALSE) -> #N/A | AC108: =IF(AND(OR(AD108=FALSE,AE108=FALSE),OR(COUNTBLANK(C108:F108)<>COLUMNS(C108:F108),COUNTBLANK(H108:AB108)<>COLUMNS(H108:AB108))),"KO","") | AD108: =IF(OR(ISBLANK(C108),ISBLANK(D108),ISBLANK(E108),ISBLANK(F108),ISBLANK(H108),ISBLANK(J108),ISBLANK(K108),ISBLANK(L108),ISBLANK(M108),ISBLANK(N108),ISBLANK(O108),ISBLANK(P108),ISBLANK(Q108),ISBLANK(S108),ISBLANK(U108),ISBLANK(V108),ISBLANK(W108),ISBLANK(X108),ISBLANK(Y108),ISBLANK(Z108),ISBLANK(AA108),ISBLANK(AB108)),FALSE,TRUE) -> FALSE | AE108: =IF((Q108="Voucher"=NOT(ISBLANK(R108))),TRUE,FALSE) -> TRUE | AF108: =IF(AND(AC108="KO",OR(COUNTBLANK(C108:F108)<>COLUMNS(C108:F108),COUNTBLANK(H108:AB108)<>COLUMNS(H108:AB108))),"ATTENZIONE!!! NON TUTTI I CAMPI OBBLIGATORI SONO STATI COMPILATI","") | AG108: =IF(AB108="KO","ATTENZIONE!!! NON TUTTI I CAMPI OBBLIGATORI SONO STATI COMPILATI","") | AQ108: Bastida de' Dossi | AR108: 018010
G109: =VLOOKUP(F109,[1]Label!$C$2:$D$1504,2,FALSE) -> #N/A | AC109: =IF(AND(OR(AD109=FALSE,AE109=FALSE),OR(COUNTBLANK(C109:F109)<>COLUMNS(C109:F109),COUNTBLANK(H109:AB109)<>COLUMNS(H109:AB109))),"KO","") | AD109: =IF(OR(ISBLANK(C109),ISBLANK(D109),ISBLANK(E109),ISBLANK(F109),ISBLANK(H109),ISBLANK(J109),ISBLANK(K109),ISBLANK(L109),ISBLANK(M109),ISBLANK(N109),ISBLANK(O109),ISBLANK(P109),ISBLANK(Q109),ISBLANK(S109),ISBLANK(U109),ISBLANK(V109),ISBLANK(W109),ISBLANK(X109),ISBLANK(Y109),ISBLANK(Z109),ISBLANK(AA109),ISBLANK(AB109)),FALSE,TRUE) -> FALSE | AE109: =IF((Q109="Voucher"=NOT(ISBLANK(R109))),TRUE,FALSE) -> TRUE | AF109: =IF(AND(AC109="KO",OR(COUNTBLANK(C109:F109)<>COLUMNS(C109:F109),COUNTBLANK(H109:AB109)<>COLUMNS(H109:AB109))),"ATTENZIONE!!! NON TUTTI I CAMPI OBBLIGATORI SONO STATI COMPILATI","") | AG109: =IF(AB109="KO","ATTENZIONE!!! NON TUTTI I CAMPI OBBLIGATORI SONO STATI COMPILATI","") | AQ109: Bastida Pancarana | AR109: 018011
G110: =VLOOKUP(F110,[1]Label!$C$2:$D$1504,2,FALSE) -> #N/A | AC110: =IF(AND(OR(AD110=FALSE,AE110=FALSE),OR(COUNTBLANK(C110:F110)<>COLUMNS(C110:F110),COUNTBLANK(H110:AB110)<>COLUMNS(H110:AB110))),"KO","") | AD110: =IF(OR(ISBLANK(C110),ISBLANK(D110),ISBLANK(E110),ISBLANK(F110),ISBLANK(H110),ISBLANK(J110),ISBLANK(K110),ISBLANK(L110),ISBLANK(M110),ISBLANK(N110),ISBLANK(O110),ISBLANK(P110),ISBLANK(Q110),ISBLANK(S110),ISBLANK(U110),ISBLANK(V110),ISBLANK(W110),ISBLANK(X110),ISBLANK(Y110),ISBLANK(Z110),ISBLANK(AA110),ISBLANK(AB110)),FALSE,TRUE) -> FALSE | AE110: =IF((Q110="Voucher"=NOT(ISBLANK(R110))),TRUE,FALSE) -> TRUE | AF110: =IF(AND(AC110="KO",OR(COUNTBLANK(C110:F110)<>COLUMNS(C110:F110),COUNTBLANK(H110:AB110)<>COLUMNS(H110:AB110))),"ATTENZIONE!!! NON TUTTI I CAMPI OBBLIGATORI SONO STATI COMPILATI","") | AG110: =IF(AB110="KO","ATTENZIONE!!! NON TUTTI I CAMPI OBBLIGATORI SONO STATI COMPILATI","") | AQ110: Battuda | AR110: 018012
G111: =VLOOKUP(F111,[1]Label!$C$2:$D$1504,2,FALSE) -> #N/A | AC111: =IF(AND(OR(AD111=FALSE,AE111=FALSE),OR(COUNTBLANK(C111:F111)<>COLUMNS(C111:F111),COUNTBLANK(H111:AB111)<>COLUMNS(H111:AB111))),"KO","") | AD111: =IF(OR(ISBLANK(C111),ISBLANK(D111),ISBLANK(E111),ISBLANK(F111),ISBLANK(H111),ISBLANK(J111),ISBLANK(K111),ISBLANK(L111),ISBLANK(M111),ISBLANK(N111),ISBLANK(O111),ISBLANK(P111),ISBLANK(Q111),ISBLANK(S111),ISBLANK(U111),ISBLANK(V111),ISBLANK(W111),ISBLANK(X111),ISBLANK(Y111),ISBLANK(Z111),ISBLANK(AA111),ISBLANK(AB111)),FALSE,TRUE) -> FALSE | AE111: =IF((Q111="Voucher"=NOT(ISBLANK(R111))),TRUE,FALSE) -> TRUE | AF111: =IF(AND(AC111="KO",OR(COUNTBLANK(C111:F111)<>COLUMNS(C111:F111),COUNTBLANK(H111:AB111)<>COLUMNS(H111:AB111))),"ATTENZIONE!!! NON TUTTI I CAMPI OBBLIGATORI SONO STATI COMPILATI","") | AG111: =IF(AB111="KO","ATTENZIONE!!! NON TUTTI I CAMPI OBBLIGATORI SONO STATI COMPILATI","") | AQ111: Bedero Valcuvia | AR111: 012010
G112: =VLOOKUP(F112,[1]Label!$C$2:$D$1504,2,FALSE) -> #N/A | AC112: =IF(AND(OR(AD112=FALSE,AE112=FALSE),OR(COUNTBLANK(C112:F112)<>COLUMNS(C112:F112),COUNTBLANK(H112:AB112)<>COLUMNS(H112:AB112))),"KO","") | AD112: =IF(OR(ISBLANK(C112),ISBLANK(D112),ISBLANK(E112),ISBLANK(F112),ISBLANK(H112),ISBLANK(J112),ISBLANK(K112),ISBLANK(L112),ISBLANK(M112),ISBLANK(N112),ISBLANK(O112),ISBLANK(P112),ISBLANK(Q112),ISBLANK(S112),ISBLANK(U112),ISBLANK(V112),ISBLANK(W112),ISBLANK(X112),ISBLANK(Y112),ISBLANK(Z112),ISBLANK(AA112),ISBLANK(AB112)),FALSE,TRUE) -> FALSE | AE112: =IF((Q112="Voucher"=NOT(ISBLANK(R112))),TRUE,FALSE) -> TRUE | AF112: =IF(AND(AC112="KO",OR(COUNTBLANK(C112:F112)<>COLUMNS(C112:F112),COUNTBLANK(H112:AB112)<>COLUMNS(H112:AB112))),"ATTENZIONE!!! NON TUTTI I CAMPI OBBLIGATORI SONO STATI COMPILATI","") | AG112: =IF(AB112="KO","ATTENZIONE!!! NON TUTTI I CAMPI OBBLIGATORI SONO STATI COMPILATI","") | AQ112: Bedizzole | AR112: 017014
G113: =VLOOKUP(F113,[1]Label!$C$2:$D$1504,2,FALSE) -> #N/A | AC113: =IF(AND(OR(AD113=FALSE,AE113=FALSE),OR(COUNTBLANK(C113:F113)<>COLUMNS(C113:F113),COUNTBLANK(H113:AB113)<>COLUMNS(H113:AB113))),"KO","") | AD113: =IF(OR(ISBLANK(C113),ISBLANK(D113),ISBLANK(E113),ISBLANK(F113),ISBLANK(H113),ISBLANK(J113),ISBLANK(K113),ISBLANK(L113),ISBLANK(M113),ISBLANK(N113),ISBLANK(O113),ISBLANK(P113),ISBLANK(Q113),ISBLANK(S113),ISBLANK(U113),ISBLANK(V113),ISBLANK(W113),ISBLANK(X113),ISBLANK(Y113),ISBLANK(Z113),ISBLANK(AA113),ISBLANK(AB113)),FALSE,TRUE) -> FALSE | AE113: =IF((Q113="Voucher"=NOT(ISBLANK(R113))),TRUE,FALSE) -> TRUE | AF113: =IF(AND(AC113="KO",OR(COUNTBLANK(C113:F113)<>COLUMNS(C113:F113),COUNTBLANK(H113:AB113)<>COLUMNS(H113:AB113))),"ATTENZIONE!!! NON TUTTI I CAMPI OBBLIGATORI SONO STATI COMPILATI","") | AG113: =IF(AB113="KO","ATTENZIONE!!! NON TUTTI I CAMPI OBBLIGATORI SONO STATI COMPILATI","") | AQ113: Bedulita | AR113: 016022
G114: =VLOOKUP(F114,[1]Label!$C$2:$D$1504,2,FALSE) -> #N/A | AC114: =IF(AND(OR(AD114=FALSE,AE114=FALSE),OR(COUNTBLANK(C114:F114)<>COLUMNS(C114:F114),COUNTBLANK(H114:AB114)<>COLUMNS(H114:AB114))),"KO","") | AD114: =IF(OR(ISBLANK(C114),ISBLANK(D114),ISBLANK(E114),ISBLANK(F114),ISBLANK(H114),ISBLANK(J114),ISBLANK(K114),ISBLANK(L114),ISBLANK(M114),ISBLANK(N114),ISBLANK(O114),ISBLANK(P114),ISBLANK(Q114),ISBLANK(S114),ISBLANK(U114),ISBLANK(V114),ISBLANK(W114),ISBLANK(X114),ISBLANK(Y114),ISBLANK(Z114),ISBLANK(AA114),ISBLANK(AB114)),FALSE,TRUE) -> FALSE | AE114: =IF((Q114="Voucher"=NOT(ISBLANK(R114))),TRUE,FALSE) -> TRUE | AF114: =IF(AND(AC114="KO",OR(COUNTBLANK(C114:F114)<>COLUMNS(C114:F114),COUNTBLANK(H114:AB114)<>COLUMNS(H114:AB114))),"ATTENZIONE!!! NON TUTTI I CAMPI OBBLIGATORI SONO STATI COMPILATI","") | AG114: =IF(AB114="KO","ATTENZIONE!!! NON TUTTI I CAMPI OBBLIGATORI SONO STATI COMPILATI","") | AQ114: Belgioioso | AR114: 018013
G115: =VLOOKUP(F115,[1]Label!$C$2:$D$1504,2,FALSE) -> #N/A | AC115: =IF(AND(OR(AD115=FALSE,AE115=FALSE),OR(COUNTBLANK(C115:F115)<>COLUMNS(C115:F115),COUNTBLANK(H115:AB115)<>COLUMNS(H115:AB115))),"KO","") | AD115: =IF(OR(ISBLANK(C115),ISBLANK(D115),ISBLANK(E115),ISBLANK(F115),ISBLANK(H115),ISBLANK(J115),ISBLANK(K115),ISBLANK(L115),ISBLANK(M115),ISBLANK(N115),ISBLANK(O115),ISBLANK(P115),ISBLANK(Q115),ISBLANK(S115),ISBLANK(U115),ISBLANK(V115),ISBLANK(W115),ISBLANK(X115),ISBLANK(Y115),ISBLANK(Z115),ISBLANK(AA115),ISBLANK(AB115)),FALSE,TRUE) -> FALSE | AE115: =IF((Q115="Voucher"=NOT(ISBLANK(R115))),TRUE,FALSE) -> TRUE | AF115: =IF(AND(AC115="KO",OR(COUNTBLANK(C115:F115)<>COLUMNS(C115:F115),COUNTBLANK(H115:AB115)<>COLUMNS(H115:AB115))),"ATTENZIONE!!! NON TUTTI I CAMPI OBBLIGATORI SONO STATI COMPILATI","") | AG115: =IF(AB115="KO","ATTENZIONE!!! NON TUTTI I CAMPI OBBLIGATORI SONO STATI COMPILATI","") | AQ115: Bellagio | AR115: 013019
G116: =VLOOKUP(F116,[1]Label!$C$2:$D$1504,2,FALSE) -> #N/A | AC116: =IF(AND(OR(AD116=FALSE,AE116=FALSE),OR(COUNTBLANK(C116:F116)<>COLUMNS(C116:F116),COUNTBLANK(H116:AB116)<>COLUMNS(H116:AB116))),"KO","") | AD116: =IF(OR(ISBLANK(C116),ISBLANK(D116),ISBLANK(E116),ISBLANK(F116),ISBLANK(H116),ISBLANK(J116),ISBLANK(K116),ISBLANK(L116),ISBLANK(M116),ISBLANK(N116),ISBLANK(O116),ISBLANK(P116),ISBLANK(Q116),ISBLANK(S116),ISBLANK(U116),ISBLANK(V116),ISBLANK(W116),ISBLANK(X116),ISBLANK(Y116),ISBLANK(Z116),ISBLANK(AA116),ISBLANK(AB116)),FALSE,TRUE) -> FALSE | AE116: =IF((Q116="Voucher"=NOT(ISBLANK(R116))),TRUE,FALSE) -> TRUE | AF116: =IF(AND(AC116="KO",OR(COUNTBLANK(C116:F116)<>COLUMNS(C116:F116),COUNTBLANK(H116:AB116)<>COLUMNS(H116:AB116))),"ATTENZIONE!!! NON TUTTI I CAMPI OBBLIGATORI SONO STATI COMPILATI","") | AG116: =IF(AB116="KO","ATTENZIONE!!! NON TUTTI I CAMPI OBBLIGATORI SONO STATI COMPILATI","") | AQ116: Bellano | AR116: 097008
... G399: =VLOOKUP(F399,[1]Label!$C$2:$D$1504,2,FALSE) -> #N/A | AC399: =IF(AND(OR(AD399=FALSE,AE399=FALSE),OR(COUNTBLANK(C399:F399)<>COLUMNS(C399:F399),COUNTBLANK(H399:AB399)<>COLUMNS(H399:AB399))),"KO","") | AD399: =IF(OR(ISBLANK(C399),ISBLANK(D399),ISBLANK(E399),ISBLANK(F399),ISBLANK(H399),ISBLANK(J399),ISBLANK(K399),ISBLANK(L399),ISBLANK(M399),ISBLANK(N399),ISBLANK(O399),ISBLANK(P399),ISBLANK(Q399),ISBLANK(S399),ISBLANK(U399),ISBLANK(V399),ISBLANK(W399),ISBLANK(X399),ISBLANK(Y399),ISBLANK(Z399),ISBLANK(AA399),ISBLANK(AB399)),FALSE,TRUE) -> FALSE | AE399: =IF((Q399="Voucher"=NOT(ISBLANK(R399))),TRUE,FALSE) -> TRUE | AF399: =IF(AND(AC399="KO",OR(COUNTBLANK(C399:F399)<>COLUMNS(C399:F399),COUNTBLANK(H399:AB399)<>COLUMNS(H399:AB399))),"ATTENZIONE!!! NON TUTTI I CAMPI OBBLIGATORI SONO STATI COMPILATI","") | AG399: =IF(AB399="KO","ATTENZIONE!!! NON TUTTI I CAMPI OBBLIGATORI SONO STATI COMPILATI","") | AQ399: Cazzago Brabbia | AR399: 012049
G400: =VLOOKUP(F400,[1]Label!$C$2:$D$1504,2,FALSE) -> #N/A | AC400: =IF(AND(OR(AD400=FALSE,AE400=FALSE),OR(COUNTBLANK(C400:F400)<>COLUMNS(C400:F400),COUNTBLANK(H400:AB400)<>COLUMNS(H400:AB400))),"KO","") | AD400: =IF(OR(ISBLANK(C400),ISBLANK(D400),ISBLANK(E400),ISBLANK(F400),ISBLANK(H400),ISBLANK(J400),ISBLANK(K400),ISBLANK(L400),ISBLANK(M400),ISBLANK(N400),ISBLANK(O400),ISBLANK(P400),ISBLANK(Q400),ISBLANK(S400),ISBLANK(U400),ISBLANK(V400),ISBLANK(W400),ISBLANK(X400),ISBLANK(Y400),ISBLANK(Z400),ISBLANK(AA400),ISBLANK(AB400)),FALSE,TRUE) -> FALSE | AE400: =IF((Q400="Voucher"=NOT(ISBLANK(R400))),TRUE,FALSE) -> TRUE | AF400: =IF(AND(AC400="KO",OR(COUNTBLANK(C400:F400)<>COLUMNS(C400:F400),COUNTBLANK(H400:AB400)<>COLUMNS(H400:AB400))),"ATTENZIONE!!! NON TUTTI I CAMPI OBBLIGATORI SONO STATI COMPILATI","") | AQ400: Cazzago San Martino | AR400: 017046
G401: =VLOOKUP(F401,[1]Label!$C$2:$D$1504,2,FALSE) -> #N/A | AC401: =IF(AND(OR(AD401=FALSE,AE401=FALSE),OR(COUNTBLANK(C401:F401)<>COLUMNS(C401:F401),COUNTBLANK(H401:AB401)<>COLUMNS(H401:AB401))),"KO","") | AD401: =IF(OR(ISBLANK(C401),ISBLANK(D401),ISBLANK(E401),ISBLANK(F401),ISBLANK(H401),ISBLANK(J401),ISBLANK(K401),ISBLANK(L401),ISBLANK(M401),ISBLANK(N401),ISBLANK(O401),ISBLANK(P401),ISBLANK(Q401),ISBLANK(S401),ISBLANK(U401),ISBLANK(V401),ISBLANK(W401),ISBLANK(X401),ISBLANK(Y401),ISBLANK(Z401),ISBLANK(AA401),ISBLANK(AB401)),FALSE,TRUE) -> FALSE | AE401: =IF((Q401="Voucher"=NOT(ISBLANK(R401))),TRUE,FALSE) -> TRUE | AF401: =IF(AND(AC401="KO",OR(COUNTBLANK(C401:F401)<>COLUMNS(C401:F401),COUNTBLANK(H401:AB401)<>COLUMNS(H401:AB401))),"ATTENZIONE!!! NON TUTTI I CAMPI OBBLIGATORI SONO STATI COMPILATI","") | AQ401: Cazzano Sant'Andrea | AR401: 016067
G402: =VLOOKUP(F402,[1]Label!$C$2:$D$1504,2,FALSE) -> #N/A | AC402: =IF(AND(OR(AD402=FALSE,AE402=FALSE),OR(COUNTBLANK(C402:F402)<>COLUMNS(C402:F402),COUNTBLANK(H402:AB402)<>COLUMNS(H402:AB402))),"KO","") | AD402: =IF(OR(ISBLANK(C402),ISBLANK(D402),ISBLANK(E402),ISBLANK(F402),ISBLANK(H402),ISBLANK(J402),ISBLANK(K402),ISBLANK(L402),ISBLANK(M402),ISBLANK(N402),ISBLANK(O402),ISBLANK(P402),ISBLANK(Q402),ISBLANK(S402),ISBLANK(U402),ISBLANK(V402),ISBLANK(W402),ISBLANK(X402),ISBLANK(Y402),ISBLANK(Z402),ISBLANK(AA402),ISBLANK(AB402)),FALSE,TRUE) -> FALSE | AE402: =IF((Q402="Voucher"=NOT(ISBLANK(R402))),TRUE,FALSE) -> TRUE | AF402: =IF(AND(AC402="KO",OR(COUNTBLANK(C402:F402)<>COLUMNS(C402:F402),COUNTBLANK(H402:AB402)<>COLUMNS(H402:AB402))),"ATTENZIONE!!! NON TUTTI I CAMPI OBBLIGATORI SONO STATI COMPILATI","") | AQ402: Cecima | AR402: 018042
G403: =VLOOKUP(F403,[1]Label!$C$2:$D$1504,2,FALSE) -> #N/A | AC403: =IF(AND(OR(AD403=FALSE,AE403=FALSE),OR(COUNTBLANK(C403:F403)<>COLUMNS(C403:F403),COUNTBLANK(H403:AB403)<>COLUMNS(H403:AB403))),"KO","") | AD403: =IF(OR(ISBLANK(C403),ISBLANK(D403),ISBLANK(E403),ISBLANK(F403),ISBLANK(H403),ISBLANK(J403),ISBLANK(K403),ISBLANK(L403),ISBLANK(M403),ISBLANK(N403),ISBLANK(O403),ISBLANK(P403),ISBLANK(Q403),ISBLANK(S403),ISBLANK(U403),ISBLANK(V403),ISBLANK(W403),ISBLANK(X403),ISBLANK(Y403),ISBLANK(Z403),ISBLANK(AA403),ISBLANK(AB403)),FALSE,TRUE) -> FALSE | AE403: =IF((Q403="Voucher"=NOT(ISBLANK(R403))),TRUE,FALSE) -> TRUE | AF403: =IF(AND(AC403="KO",OR(COUNTBLANK(C403:F403)<>COLUMNS(C403:F403),COUNTBLANK(H403:AB403)<>COLUMNS(H403:AB403))),"ATTENZIONE!!! NON TUTTI I CAMPI OBBLIGATORI SONO STATI COMPILATI","") | AQ403: Cedegolo | AR403: 017047
G404: =VLOOKUP(F404,[1]Label!$C$2:$D$1504,2,FALSE) -> #N/A | AC404: =IF(AND(OR(AD404=FALSE,AE404=FALSE),OR(COUNTBLANK(C404:F404)<>COLUMNS(C404:F404),COUNTBLANK(H404:AB404)<>COLUMNS(H404:AB404))),"KO","") | AD404: =IF(OR(ISBLANK(C404),ISBLANK(D404),ISBLANK(E404),ISBLANK(F404),ISBLANK(H404),ISBLANK(J404),ISBLANK(K404),ISBLANK(L404),ISBLANK(M404),ISBLANK(N404),ISBLANK(O404),ISBLANK(P404),ISBLANK(Q404),ISBLANK(S404),ISBLANK(U404),ISBLANK(V404),ISBLANK(W404),ISBLANK(X404),ISBLANK(Y404),ISBLANK(Z404),ISBLANK(AA404),ISBLANK(AB404)),FALSE,TRUE) -> FALSE | AE404: =IF((Q404="Voucher"=NOT(ISBLANK(R404))),TRUE,FALSE) -> TRUE | AF404: =IF(AND(AC404="KO",OR(COUNTBLANK(C404:F404)<>COLUMNS(C404:F404),COUNTBLANK(H404:AB404)<>COLUMNS(H404:AB404))),"ATTENZIONE!!! NON TUTTI I CAMPI OBBLIGATORI SONO STATI COMPILATI","") | AQ404: Cedrasco | AR404: 014016
G405: =VLOOKUP(F405,[1]Label!$C$2:$D$1504,2,FALSE) -> #N/A | AC405: =IF(AND(OR(AD405=FALSE,AE405=FALSE),OR(COUNTBLANK(C405:F405)<>COLUMNS(C405:F405),COUNTBLANK(H405:AB405)<>COLUMNS(H405:AB405))),"KO","") | AD405: =IF(OR(ISBLANK(C405),ISBLANK(D405),ISBLANK(E405),ISBLANK(F405),ISBLANK(H405),ISBLANK(J405),ISBLANK(K405),ISBLANK(L405),ISBLANK(M405),ISBLANK(N405),ISBLANK(O405),ISBLANK(P405),ISBLANK(Q405),ISBLANK(S405),ISBLANK(U405),ISBLANK(V405),ISBLANK(W405),ISBLANK(X405),ISBLANK(Y405),ISBLANK(Z405),ISBLANK(AA405),ISBLANK(AB405)),FALSE,TRUE) -> FALSE | AE405: =IF((Q405="Voucher"=NOT(ISBLANK(R405))),TRUE,FALSE) -> TRUE | AF405: =IF(AND(AC405="KO",OR(COUNTBLANK(C405:F405)<>COLUMNS(C405:F405),COUNTBLANK(H405:AB405)<>COLUMNS(H405:AB405))),"ATTENZIONE!!! NON TUTTI I CAMPI OBBLIGATORI SONO STATI COMPILATI","") | AQ405: Cella Dati | AR405: 019028
G406: =VLOOKUP(F406,[1]Label!$C$2:$D$1504,2,FALSE) -> #N/A | AC406: =IF(AND(OR(AD406=FALSE,AE406=FALSE),OR(COUNTBLANK(C406:F406)<>COLUMNS(C406:F406),COUNTBLANK(H406:AB406)<>COLUMNS(H406:AB406))),"KO","") | AD406: =IF(OR(ISBLANK(C406),ISBLANK(D406),ISBLANK(E406),ISBLANK(F406),ISBLANK(H406),ISBLANK(J406),ISBLANK(K406),ISBLANK(L406),ISBLANK(M406),ISBLANK(N406),ISBLANK(O406),ISBLANK(P406),ISBLANK(Q406),ISBLANK(S406),ISBLANK(U406),ISBLANK(V406),ISBLANK(W406),ISBLANK(X406),ISBLANK(Y406),ISBLANK(Z406),ISBLANK(AA406),ISBLANK(AB406)),FALSE,TRUE) -> FALSE | AE406: =IF((Q406="Voucher"=NOT(ISBLANK(R406))),TRUE,FALSE) -> TRUE | AF406: =IF(AND(AC406="KO",OR(COUNTBLANK(C406:F406)<>COLUMNS(C406:F406),COUNTBLANK(H406:AB406)<>COLUMNS(H406:AB406))),"ATTENZIONE!!! NON TUTTI I CAMPI OBBLIGATORI SONO STATI COMPILATI","") | AQ406: Cellatica | AR406: 017048
G407: =VLOOKUP(F407,[1]Label!$C$2:$D$1504,2,FALSE) -> #N/A | AC407: =IF(AND(OR(AD407=FALSE,AE407=FALSE),OR(COUNTBLANK(C407:F407)<>COLUMNS(C407:F407),COUNTBLANK(H407:AB407)<>COLUMNS(H407:AB407))),"KO","") | AD407: =IF(OR(ISBLANK(C407),ISBLANK(D407),ISBLANK(E407),ISBLANK(F407),ISBLANK(H407),ISBLANK(J407),ISBLANK(K407),ISBLANK(L407),ISBLANK(M407),ISBLANK(N407),ISBLANK(O407),ISBLANK(P407),ISBLANK(Q407),ISBLANK(S407),ISBLANK(U407),ISBLANK(V407),ISBLANK(W407),ISBLANK(X407),ISBLANK(Y407),ISBLANK(Z407),ISBLANK(AA407),ISBLANK(AB407)),FALSE,TRUE) -> FALSE | AE407: =IF((Q407="Voucher"=NOT(ISBLANK(R407))),TRUE,FALSE) -> TRUE | AF407: =IF(AND(AC407="KO",OR(COUNTBLANK(C407:F407)<>COLUMNS(C407:F407),COUNTBLANK(H407:AB407)<>COLUMNS(H407:AB407))),"ATTENZIONE!!! NON TUTTI I CAMPI OBBLIGATORI SONO STATI COMPILATI","") | AQ407: Cenate Sopra | AR407: 016068
G408: =VLOOKUP(F408,[1]Label!$C$2:$D$1504,2,FALSE) -> #N/A | AC408: =IF(AND(OR(AD408=FALSE,AE408=FALSE),OR(COUNTBLANK(C408:F408)<>COLUMNS(C408:F408),COUNTBLANK(H408:AB408)<>COLUMNS(H408:AB408))),"KO","") | AD408: =IF(OR(ISBLANK(C408),ISBLANK(D408),ISBLANK(E408),ISBLANK(F408),ISBLANK(H408),ISBLANK(J408),ISBLANK(K408),ISBLANK(L408),ISBLANK(M408),ISBLANK(N408),ISBLANK(O408),ISBLANK(P408),ISBLANK(Q408),ISBLANK(S408),ISBLANK(U408),ISBLANK(V408),ISBLANK(W408),ISBLANK(X408),ISBLANK(Y408),ISBLANK(Z408),ISBLANK(AA408),ISBLANK(AB408)),FALSE,TRUE) -> FALSE | AE408: =IF((Q408="Voucher"=NOT(ISBLANK(R408))),TRUE,FALSE) -> TRUE | AF408: =IF(AND(AC408="KO",OR(COUNTBLANK(C408:F408)<>COLUMNS(C408:F408),COUNTBLANK(H408:AB408)<>COLUMNS(H408:AB408))),"ATTENZIONE!!! NON TUTTI I CAMPI OBBLIGATORI SONO STATI COMPILATI","") | AQ408: Cenate Sotto | AR408: 016069
G409: =VLOOKUP(F409,[1]Label!$C$2:$D$1504,2,FALSE) -> #N/A | AC409: =IF(AND(OR(AD409=FALSE,AE409=FALSE),OR(COUNTBLANK(C409:F409)<>COLUMNS(C409:F409),COUNTBLANK(H409:AB409)<>COLUMNS(H409:AB409))),"KO","") | AD409: =IF(OR(ISBLANK(C409),ISBLANK(D409),ISBLANK(E409),ISBLANK(F409),ISBLANK(H409),ISBLANK(J409),ISBLANK(K409),ISBLANK(L409),ISBLANK(M409),ISBLANK(N409),ISBLANK(O409),ISBLANK(P409),ISBLANK(Q409),ISBLANK(S409),ISBLANK(U409),ISBLANK(V409),ISBLANK(W409),ISBLANK(X409),ISBLANK(Y409),ISBLANK(Z409),ISBLANK(AA409),ISBLANK(AB409)),FALSE,TRUE) -> FALSE | AE409: =IF((Q409="Voucher"=NOT(ISBLANK(R409))),TRUE,FALSE) -> TRUE | AF409: =IF(AND(AC409="KO",OR(COUNTBLANK(C409:F409)<>COLUMNS(C409:F409),COUNTBLANK(H409:AB409)<>COLUMNS(H409:AB409))),"ATTENZIONE!!! NON TUTTI I CAMPI OBBLIGATORI SONO STATI COMPILATI","") | AQ409: Cene | AR409: 016070
G410: =VLOOKUP(F410,[1]Label!$C$2:$D$1504,2,FALSE) -> #N/A | AC410: =IF(AND(OR(AD410=FALSE,AE410=FALSE),OR(COUNTBLANK(C410:F410)<>COLUMNS(C410:F410),COUNTBLANK(H410:AB410)<>COLUMNS(H410:AB410))),"KO","") | AD410: =IF(OR(ISBLANK(C410),ISBLANK(D410),ISBLANK(E410),ISBLANK(F410),ISBLANK(H410),ISBLANK(J410),ISBLANK(K410),ISBLANK(L410),ISBLANK(M410),ISBLANK(N410),ISBLANK(O410),ISBLANK(P410),ISBLANK(Q410),ISBLANK(S410),ISBLANK(U410),ISBLANK(V410),ISBLANK(W410),ISBLANK(X410),ISBLANK(Y410),ISBLANK(Z410),ISBLANK(AA410),ISBLANK(AB410)),FALSE,TRUE) -> FALSE | AE410: =IF((Q410="Voucher"=NOT(ISBLANK(R410))),TRUE,FALSE) -> TRUE | AF410: =IF(AND(AC410="KO",OR(COUNTBLANK(C410:F410)<>COLUMNS(C410:F410),COUNTBLANK(H410:AB410)<>COLUMNS(H410:AB410))),"ATTENZIONE!!! NON TUTTI I CAMPI OBBLIGATORI SONO STATI COMPILATI","") | AQ410: Cerano d'Intelvi | AR410: 013063
G411: =VLOOKUP(F411,[1]Label!$C$2:$D$1504,2,FALSE) -> #N/A | AC411: =IF(AND(OR(AD411=FALSE,AE411=FALSE),OR(COUNTBLANK(C411:F411)<>COLUMNS(C411:F411),COUNTBLANK(H411:AB411)<>COLUMNS(H411:AB411))),"KO","") | AD411: =IF(OR(ISBLANK(C411),ISBLANK(D411),ISBLANK(E411),ISBLANK(F411),ISBLANK(H411),ISBLANK(J411),ISBLANK(K411),ISBLANK(L411),ISBLANK(M411),ISBLANK(N411),ISBLANK(O411),ISBLANK(P411),ISBLANK(Q411),ISBLANK(S411),ISBLANK(U411),ISBLANK(V411),ISBLANK(W411),ISBLANK(X411),ISBLANK(Y411),ISBLANK(Z411),ISBLANK(AA411),ISBLANK(AB411)),FALSE,TRUE) -> FALSE | AE411: =IF((Q411="Voucher"=NOT(ISBLANK(R411))),TRUE,FALSE) -> TRUE | AF411: =IF(AND(AC411="KO",OR(COUNTBLANK(C411:F411)<>COLUMNS(C411:F411),COUNTBLANK(H411:AB411)<>COLUMNS(H411:AB411))),"ATTENZIONE!!! NON TUTTI I CAMPI OBBLIGATORI SONO STATI COMPILATI","") | AQ411: Ceranova | AR411: 018043
... G998: =VLOOKUP(F998,[1]Label!$C$2:$D$1504,2,FALSE) -> #N/A | AC998: =IF(AND(OR(AD998=FALSE,AE998=FALSE),OR(COUNTBLANK(C998:F998)<>COLUMNS(C998:F998),COUNTBLANK(H998:AB998)<>COLUMNS(H998:AB998))),"KO","") | AD998: =IF(OR(ISBLANK(C998),ISBLANK(D998),ISBLANK(E998),ISBLANK(F998),ISBLANK(H998),ISBLANK(J998),ISBLANK(K998),ISBLANK(L998),ISBLANK(M998),ISBLANK(N998),ISBLANK(O998),ISBLANK(P998),ISBLANK(Q998),ISBLANK(S998),ISBLANK(U998),ISBLANK(V998),ISBLANK(W998),ISBLANK(X998),ISBLANK(Y998),ISBLANK(Z998),ISBLANK(AA998),ISBLANK(AB998)),FALSE,TRUE) -> FALSE | AE998: =IF((Q998="Voucher"=NOT(ISBLANK(R998))),TRUE,FALSE) -> TRUE | AF998: =IF(AND(AC998="KO",OR(COUNTBLANK(C998:F998)<>COLUMNS(C998:F998),COUNTBLANK(H998:AB998)<>COLUMNS(H998:AB998))),"ATTENZIONE!!! NON TUTTI I CAMPI OBBLIGATORI SONO STATI COMPILATI","") | AQ998: Paderno Dugnano | AR998: 015166
G999: =VLOOKUP(F999,[1]Label!$C$2:$D$1504,2,FALSE) -> #N/A | AC999: =IF(AND(OR(AD999=FALSE,AE999=FALSE),OR(COUNTBLANK(C999:F999)<>COLUMNS(C999:F999),COUNTBLANK(H999:AB999)<>COLUMNS(H999:AB999))),"KO","") | AD999: =IF(OR(ISBLANK(C999),ISBLANK(D999),ISBLANK(E999),ISBLANK(F999),ISBLANK(H999),ISBLANK(J999),ISBLANK(K999),ISBLANK(L999),ISBLANK(M999),ISBLANK(N999),ISBLANK(O999),ISBLANK(P999),ISBLANK(Q999),ISBLANK(S999),ISBLANK(U999),ISBLANK(V999),ISBLANK(W999),ISBLANK(X999),ISBLANK(Y999),ISBLANK(Z999),ISBLANK(AA999),ISBLANK(AB999)),FALSE,TRUE) -> FALSE | AE999: =IF((Q999="Voucher"=NOT(ISBLANK(R999))),TRUE,FALSE) -> TRUE | AF999: =IF(AND(AC999="KO",OR(COUNTBLANK(C999:F999)<>COLUMNS(C999:F999),COUNTBLANK(H999:AB999)<>COLUMNS(H999:AB999))),"ATTENZIONE!!! NON TUTTI I CAMPI OBBLIGATORI SONO STATI COMPILATI","")
G1000: =VLOOKUP(F1000,[1]Label!$C$2:$D$1504,2,FALSE) -> #N/A | AC1000: =IF(AND(OR(AD1000=FALSE,AE1000=FALSE),OR(COUNTBLANK(C1000:F1000)<>COLUMNS(C1000:F1000),COUNTBLANK(H1000:AB1000)<>COLUMNS(H1000:AB1000))),"KO","") | AD1000: =IF(OR(ISBLANK(C1000),ISBLANK(D1000),ISBLANK(E1000),ISBLANK(F1000),ISBLANK(H1000),ISBLANK(J1000),ISBLANK(K1000),ISBLANK(L1000),ISBLANK(M1000),ISBLANK(N1000),ISBLANK(O1000),ISBLANK(P1000),ISBLANK(Q1000),ISBLANK(S1000),ISBLANK(U1000),ISBLANK(V1000),ISBLANK(W1000),ISBLANK(X1000),ISBLANK(Y1000),ISBLANK(Z1000),ISBLANK(AA1000),ISBLANK(AB1000)),FALSE,TRUE) -> FALSE | AE1000: =IF((Q1000="Voucher"=NOT(ISBLANK(R1000))),TRUE,FALSE) -> TRUE | AF1000: =IF(AND(AC1000="KO",OR(COUNTBLANK(C1000:F1000)<>COLUMNS(C1000:F1000),COUNTBLANK(H1000:AB1000)<>COLUMNS(H1000:AB1000))),"ATTENZIONE!!! NON TUTTI I CAMPI OBBLIGATORI SONO STATI COMPILATI","")
G1001: =VLOOKUP(F1001,[1]Label!$C$2:$D$1504,2,FALSE) -> #N/A | AC1001: =IF(AND(OR(AD1001=FALSE,AE1001=FALSE),OR(COUNTBLANK(C1001:F1001)<>COLUMNS(C1001:F1001),COUNTBLANK(H1001:AB1001)<>COLUMNS(H1001:AB1001))),"KO","") | AD1001: =IF(OR(ISBLANK(C1001),ISBLANK(D1001),ISBLANK(E1001),ISBLANK(F1001),ISBLANK(H1001),ISBLANK(J1001),ISBLANK(K1001),ISBLANK(L1001),ISBLANK(M1001),ISBLANK(N1001),ISBLANK(O1001),ISBLANK(P1001),ISBLANK(Q1001),ISBLANK(S1001),ISBLANK(U1001),ISBLANK(V1001),ISBLANK(W1001),ISBLANK(X1001),ISBLANK(Y1001),ISBLANK(Z1001),ISBLANK(AA1001),ISBLANK(AB1001)),FALSE,TRUE) -> FALSE | AE1001: =IF((Q1001="Voucher"=NOT(ISBLANK(R1001))),TRUE,FALSE) -> TRUE | AF1001: =IF(AND(AC1001="KO",OR(COUNTBLANK(C1001:F1001)<>COLUMNS(C1001:F1001),COUNTBLANK(H1001:AB1001)<>COLUMNS(H1001:AB1001))),"ATTENZIONE!!! NON TUTTI I CAMPI OBBLIGATORI SONO STATI COMPILATI","")
G1002: =VLOOKUP(F1002,[1]Label!$C$2:$D$1504,2,FALSE) -> #N/A | AC1002: =IF(AND(OR(AD1002=FALSE,AE1002=FALSE),OR(COUNTBLANK(C1002:F1002)<>COLUMNS(C1002:F1002),COUNTBLANK(H1002:AB1002)<>COLUMNS(H1002:AB1002))),"KO","") | AD1002: =IF(OR(ISBLANK(C1002),ISBLANK(D1002),ISBLANK(E1002),ISBLANK(F1002),ISBLANK(H1002),ISBLANK(J1002),ISBLANK(K1002),ISBLANK(L1002),ISBLANK(M1002),ISBLANK(N1002),ISBLANK(O1002),ISBLANK(P1002),ISBLANK(Q1002),ISBLANK(S1002),ISBLANK(U1002),ISBLANK(V1002),ISBLANK(W1002),ISBLANK(X1002),ISBLANK(Y1002),ISBLANK(Z1002),ISBLANK(AA1002),ISBLANK(AB1002)),FALSE,TRUE) -> FALSE | AE1002: =IF((Q1002="Voucher"=NOT(ISBLANK(R1002))),TRUE,FALSE) -> TRUE | AF1002: =IF(AND(AC1002="KO",OR(COUNTBLANK(C1002:F1002)<>COLUMNS(C1002:F1002),COUNTBLANK(H1002:AB1002)<>COLUMNS(H1002:AB1002))),"ATTENZIONE!!! NON TUTTI I CAMPI OBBLIGATORI SONO STATI COMPILATI","")
G1003: =VLOOKUP(F1003,[1]Label!$C$2:$D$1504,2,FALSE) -> #N/A | AC1003: =IF(AND(OR(AD1003=FALSE,AE1003=FALSE),OR(COUNTBLANK(C1003:F1003)<>COLUMNS(C1003:F1003),COUNTBLANK(H1003:AB1003)<>COLUMNS(H1003:AB1003))),"KO","") | AD1003: =IF(OR(ISBLANK(C1003),ISBLANK(D1003),ISBLANK(E1003),ISBLANK(F1003),ISBLANK(H1003),ISBLANK(J1003),ISBLANK(K1003),ISBLANK(L1003),ISBLANK(M1003),ISBLANK(N1003),ISBLANK(O1003),ISBLANK(P1003),ISBLANK(Q1003),ISBLANK(S1003),ISBLANK(U1003),ISBLANK(V1003),ISBLANK(W1003),ISBLANK(X1003),ISBLANK(Y1003),ISBLANK(Z1003),ISBLANK(AA1003),ISBLANK(AB1003)),FALSE,TRUE) -> FALSE | AE1003: =IF((Q1003="Voucher"=NOT(ISBLANK(R1003))),TRUE,FALSE) -> TRUE | AF1003: =IF(AND(AC1003="KO",OR(COUNTBLANK(C1003:F1003)<>COLUMNS(C1003:F1003),COUNTBLANK(H1003:AB1003)<>COLUMNS(H1003:AB1003))),"ATTENZIONE!!! NON TUTTI I CAMPI OBBLIGATORI SONO STATI COMPILATI","")
G1004: =VLOOKUP(F1004,[1]Label!$C$2:$D$1504,2,FALSE) -> #N/A | AC1004: =IF(AND(OR(AD1004=FALSE,AE1004=FALSE),OR(COUNTBLANK(C1004:F1004)<>COLUMNS(C1004:F1004),COUNTBLANK(H1004:AB1004)<>COLUMNS(H1004:AB1004))),"KO","") | AD1004: =IF(OR(ISBLANK(C1004),ISBLANK(D1004),ISBLANK(E1004),ISBLANK(F1004),ISBLANK(H1004),ISBLANK(J1004),ISBLANK(K1004),ISBLANK(L1004),ISBLANK(M1004),ISBLANK(N1004),ISBLANK(O1004),ISBLANK(P1004),ISBLANK(Q1004),ISBLANK(S1004),ISBLANK(U1004),ISBLANK(V1004),ISBLANK(W1004),ISBLANK(X1004),ISBLANK(Y1004),ISBLANK(Z1004),ISBLANK(AA1004),ISBLANK(AB1004)),FALSE,TRUE) -> FALSE | AE1004: =IF((Q1004="Voucher"=NOT(ISBLANK(R1004))),TRUE,FALSE) -> TRUE | AF1004: =IF(AND(AC1004="KO",OR(COUNTBLANK(C1004:F1004)<>COLUMNS(C1004:F1004),COUNTBLANK(H1004:AB1004)<>COLUMNS(H1004:AB1004))),"ATTENZIONE!!! NON TUTTI I CAMPI OBBLIGATORI SONO STATI COMPILATI","")
G1005: =VLOOKUP(F1005,[1]Label!$C$2:$D$1504,2,FALSE) -> #N/A | AC1005: =IF(AND(OR(AD1005=FALSE,AE1005=FALSE),OR(COUNTBLANK(C1005:F1005)<>COLUMNS(C1005:F1005),COUNTBLANK(H1005:AB1005)<>COLUMNS(H1005:AB1005))),"KO","") | AD1005: =IF(OR(ISBLANK(C1005),ISBLANK(D1005),ISBLANK(E1005),ISBLANK(F1005),ISBLANK(H1005),ISBLANK(J1005),ISBLANK(K1005),ISBLANK(L1005),ISBLANK(M1005),ISBLANK(N1005),ISBLANK(O1005),ISBLANK(P1005),ISBLANK(Q1005),ISBLANK(S1005),ISBLANK(U1005),ISBLANK(V1005),ISBLANK(W1005),ISBLANK(X1005),ISBLANK(Y1005),ISBLANK(Z1005),ISBLANK(AA1005),ISBLANK(AB1005)),FALSE,TRUE) -> FALSE | AE1005: =IF((Q1005="Voucher"=NOT(ISBLANK(R1005))),TRUE,FALSE) -> TRUE | AF1005: =IF(AND(AC1005="KO",OR(COUNTBLANK(C1005:F1005)<>COLUMNS(C1005:F1005),COUNTBLANK(H1005:AB1005)<>COLUMNS(H1005:AB1005))),"ATTENZIONE!!! NON TUTTI I CAMPI OBBLIGATORI SONO STATI COMPILATI","")
G1006: =VLOOKUP(F1006,[1]Label!$C$2:$D$1504,2,FALSE) -> #N/A | AC1006: =IF(AND(OR(AD1006=FALSE,AE1006=FALSE),OR(COUNTBLANK(C1006:F1006)<>COLUMNS(C1006:F1006),COUNTBLANK(H1006:AB1006)<>COLUMNS(H1006:AB1006))),"KO","") | AD1006: =IF(OR(ISBLANK(C1006),ISBLANK(D1006),ISBLANK(E1006),ISBLANK(F1006),ISBLANK(H1006),ISBLANK(J1006),ISBLANK(K1006),ISBLANK(L1006),ISBLANK(M1006),ISBLANK(N1006),ISBLANK(O1006),ISBLANK(P1006),ISBLANK(Q1006),ISBLANK(S1006),ISBLANK(U1006),ISBLANK(V1006),ISBLANK(W1006),ISBLANK(X1006),ISBLANK(Y1006),ISBLANK(Z1006),ISBLANK(AA1006),ISBLANK(AB1006)),FALSE,TRUE) -> FALSE | AE1006: =IF((Q1006="Voucher"=NOT(ISBLANK(R1006))),TRUE,FALSE) -> TRUE | AF1006: =IF(AND(AC1006="KO",OR(COUNTBLANK(C1006:F1006)<>COLUMNS(C1006:F1006),COUNTBLANK(H1006:AB1006)<>COLUMNS(H1006:AB1006))),"ATTENZIONE!!! NON TUTTI I CAMPI OBBLIGATORI SONO STATI COMPILATI","")
G1007: =VLOOKUP(F1007,[1]Label!$C$2:$D$1504,2,FALSE) -> #N/A | AC1007: =IF(AND(OR(AD1007=FALSE,AE1007=FALSE),OR(COUNTBLANK(C1007:F1007)<>COLUMNS(C1007:F1007),COUNTBLANK(H1007:AB1007)<>COLUMNS(H1007:AB1007))),"KO","") | AD1007: =IF(OR(ISBLANK(C1007),ISBLANK(D1007),ISBLANK(E1007),ISBLANK(F1007),ISBLANK(H1007),ISBLANK(J1007),ISBLANK(K1007),ISBLANK(L1007),ISBLANK(M1007),ISBLANK(N1007),ISBLANK(O1007),ISBLANK(P1007),ISBLANK(Q1007),ISBLANK(S1007),ISBLANK(U1007),ISBLANK(V1007),ISBLANK(W1007),ISBLANK(X1007),ISBLANK(Y1007),ISBLANK(Z1007),ISBLANK(AA1007),ISBLANK(AB1007)),FALSE,TRUE) -> FALSE | AE1007: =IF((Q1007="Voucher"=NOT(ISBLANK(R1007))),TRUE,FALSE) -> TRUE | AF1007: =IF(AND(AC1007="KO",OR(COUNTBLANK(C1007:F1007)<>COLUMNS(C1007:F1007),COUNTBLANK(H1007:AB1007)<>COLUMNS(H1007:AB1007))),"ATTENZIONE!!! NON TUTTI I CAMPI OBBLIGATORI SONO STATI COMPILATI","")
G1008: =VLOOKUP(F1008,[1]Label!$C$2:$D$1504,2,FALSE) -> #N/A | AC1008: =IF(AND(OR(AD1008=FALSE,AE1008=FALSE),OR(COUNTBLANK(C1008:F1008)<>COLUMNS(C1008:F1008),COUNTBLANK(H1008:AB1008)<>COLUMNS(H1008:AB1008))),"KO","") | AD1008: =IF(OR(ISBLANK(C1008),ISBLANK(D1008),ISBLANK(E1008),ISBLANK(F1008),ISBLANK(H1008),ISBLANK(J1008),ISBLANK(K1008),ISBLANK(L1008),ISBLANK(M1008),ISBLANK(N1008),ISBLANK(O1008),ISBLANK(P1008),ISBLANK(Q1008),ISBLANK(S1008),ISBLANK(U1008),ISBLANK(V1008),ISBLANK(W1008),ISBLANK(X1008),ISBLANK(Y1008),ISBLANK(Z1008),ISBLANK(AA1008),ISBLANK(AB1008)),FALSE,TRUE) -> FALSE | AE1008: =IF((Q1008="Voucher"=NOT(ISBLANK(R1008))),TRUE,FALSE) -> TRUE | AF1008: =IF(AND(AC1008="KO",OR(COUNTBLANK(C1008:F1008)<>COLUMNS(C1008:F1008),COUNTBLANK(H1008:AB1008)<>COLUMNS(H1008:AB1008))),"ATTENZIONE!!! NON TUTTI I CAMPI OBBLIGATORI SONO STATI COMPILATI","")
G1009: =VLOOKUP(F1009,[1]Label!$C$2:$D$1504,2,FALSE) -> #N/A | AC1009: =IF(AND(OR(AD1009=FALSE,AE1009=FALSE),OR(COUNTBLANK(C1009:F1009)<>COLUMNS(C1009:F1009),COUNTBLANK(H1009:AB1009)<>COLUMNS(H1009:AB1009))),"KO","") | AD1009: =IF(OR(ISBLANK(C1009),ISBLANK(D1009),ISBLANK(E1009),ISBLANK(F1009),ISBLANK(H1009),ISBLANK(J1009),ISBLANK(K1009),ISBLANK(L1009),ISBLANK(M1009),ISBLANK(N1009),ISBLANK(O1009),ISBLANK(P1009),ISBLANK(Q1009),ISBLANK(S1009),ISBLANK(U1009),ISBLANK(V1009),ISBLANK(W1009),ISBLANK(X1009),ISBLANK(Y1009),ISBLANK(Z1009),ISBLANK(AA1009),ISBLANK(AB1009)),FALSE,TRUE) -> FALSE | AE1009: =IF((Q1009="Voucher"=NOT(ISBLANK(R1009))),TRUE,FALSE) -> TRUE | AF1009: =IF(AND(AC1009="KO",OR(COUNTBLANK(C1009:F1009)<>COLUMNS(C1009:F1009),COUNTBLANK(H1009:AB1009)<>COLUMNS(H1009:AB1009))),"ATTENZIONE!!! NON TUTTI I CAMPI OBBLIGATORI SONO STATI COMPILATI","")
G1010: =VLOOKUP(F1010,[1]Label!$C$2:$D$1504,2,FALSE) -> #N/A | AC1010: =IF(AND(OR(AD1010=FALSE,AE1010=FALSE),OR(COUNTBLANK(C1010:F1010)<>COLUMNS(C1010:F1010),COUNTBLANK(H1010:AB1010)<>COLUMNS(H1010:AB1010))),"KO","") | AD1010: =IF(OR(ISBLANK(C1010),ISBLANK(D1010),ISBLANK(E1010),ISBLANK(F1010),ISBLANK(H1010),ISBLANK(J1010),ISBLANK(K1010),ISBLANK(L1010),ISBLANK(M1010),ISBLANK(N1010),ISBLANK(O1010),ISBLANK(P1010),ISBLANK(Q1010),ISBLANK(S1010),ISBLANK(U1010),ISBLANK(V1010),ISBLANK(W1010),ISBLANK(X1010),ISBLANK(Y1010),ISBLANK(Z1010),ISBLANK(AA1010),ISBLANK(AB1010)),FALSE,TRUE) -> FALSE | AE1010: =IF((Q1010="Voucher"=NOT(ISBLANK(R1010))),TRUE,FALSE) -> TRUE | AF1010: =IF(AND(AC1010="KO",OR(COUNTBLANK(C1010:F1010)<>COLUMNS(C1010:F1010),COUNTBLANK(H1010:AB1010)<>COLUMNS(H1010:AB1010))),"ATTENZIONE!!! NON TUTTI I CAMPI OBBLIGATORI SONO STATI COMPILATI","")
... G3998: =VLOOKUP(F3998,[1]Label!$C$2:$D$1504,2,FALSE) -> #N/A | AC3998: =IF(AND(OR(AD3998=FALSE,AE3998=FALSE),OR(COUNTBLANK(C3998:F3998)<>COLUMNS(C3998:F3998),COUNTBLANK(H3998:AB3998)<>COLUMNS(H3998:AB3998))),"KO","") | AD3998: =IF(OR(ISBLANK(C3998),ISBLANK(D3998),ISBLANK(E3998),ISBLANK(F3998),ISBLANK(H3998),ISBLANK(J3998),ISBLANK(K3998),ISBLANK(L3998),ISBLANK(M3998),ISBLANK(N3998),ISBLANK(O3998),ISBLANK(P3998),ISBLANK(Q3998),ISBLANK(S3998),ISBLANK(U3998),ISBLANK(V3998),ISBLANK(W3998),ISBLANK(X3998),ISBLANK(Y3998),ISBLANK(Z3998),ISBLANK(AA3998),ISBLANK(AB3998)),FALSE,TRUE) -> FALSE | AE3998: =IF((Q3998="Voucher"=NOT(ISBLANK(R3998))),TRUE,FALSE) -> TRUE | AF3998: =IF(AND(AC3998="KO",OR(COUNTBLANK(C3998:F3998)<>COLUMNS(C3998:F3998),COUNTBLANK(H3998:AB3998)<>COLUMNS(H3998:AB3998))),"ATTENZIONE!!! NON TUTTI I CAMPI OBBLIGATORI SONO STATI COMPILATI","")
G3999: =VLOOKUP(F3999,[1]Label!$C$2:$D$1504,2,FALSE) -> #N/A | AC3999: =IF(AND(OR(AD3999=FALSE,AE3999=FALSE),OR(COUNTBLANK(C3999:F3999)<>COLUMNS(C3999:F3999),COUNTBLANK(H3999:AB3999)<>COLUMNS(H3999:AB3999))),"KO","") | AD3999: =IF(OR(ISBLANK(C3999),ISBLANK(D3999),ISBLANK(E3999),ISBLANK(F3999),ISBLANK(H3999),ISBLANK(J3999),ISBLANK(K3999),ISBLANK(L3999),ISBLANK(M3999),ISBLANK(N3999),ISBLANK(O3999),ISBLANK(P3999),ISBLANK(Q3999),ISBLANK(S3999),ISBLANK(U3999),ISBLANK(V3999),ISBLANK(W3999),ISBLANK(X3999),ISBLANK(Y3999),ISBLANK(Z3999),ISBLANK(AA3999),ISBLANK(AB3999)),FALSE,TRUE) -> FALSE | AE3999: =IF((Q3999="Voucher"=NOT(ISBLANK(R3999))),TRUE,FALSE) -> TRUE | AF3999: =IF(AND(AC3999="KO",OR(COUNTBLANK(C3999:F3999)<>COLUMNS(C3999:F3999),COUNTBLANK(H3999:AB3999)<>COLUMNS(H3999:AB3999))),"ATTENZIONE!!! NON TUTTI I CAMPI OBBLIGATORI SONO STATI COMPILATI","") | AQ3999: Paderno Franciacorta | AR3999: 017130
G4000: =VLOOKUP(F4000,[1]Label!$C$2:$D$1504,2,FALSE) -> #N/A | AC4000: =IF(AND(OR(AD4000=FALSE,AE4000=FALSE),OR(COUNTBLANK(C4000:F4000)<>COLUMNS(C4000:F4000),COUNTBLANK(H4000:AB4000)<>COLUMNS(H4000:AB4000))),"KO","") | AD4000: =IF(OR(ISBLANK(C4000),ISBLANK(D4000),ISBLANK(E4000),ISBLANK(F4000),ISBLANK(H4000),ISBLANK(J4000),ISBLANK(K4000),ISBLANK(L4000),ISBLANK(M4000),ISBLANK(N4000),ISBLANK(O4000),ISBLANK(P4000),ISBLANK(Q4000),ISBLANK(S4000),ISBLANK(U4000),ISBLANK(V4000),ISBLANK(W4000),ISBLANK(X4000),ISBLANK(Y4000),ISBLANK(Z4000),ISBLANK(AA4000),ISBLANK(AB4000)),FALSE,TRUE) -> FALSE | AE4000: =IF((Q4000="Voucher"=NOT(ISBLANK(R4000))),TRUE,FALSE) -> TRUE | AF4000: =IF(AND(AC4000="KO",OR(COUNTBLANK(C4000:F4000)<>COLUMNS(C4000:F4000),COUNTBLANK(H4000:AB4000)<>COLUMNS(H4000:AB4000))),"ATTENZIONE!!! NON TUTTI I CAMPI OBBLIGATORI SONO STATI COMPILATI","") | AQ4000: Paderno Ponchielli | AR4000: 019065
G4001: =VLOOKUP(F4001,[1]Label!$C$2:$D$1504,2,FALSE) -> #N/A | AC4001: =IF(AND(OR(AD4001=FALSE,AE4001=FALSE),OR(COUNTBLANK(C4001:F4001)<>COLUMNS(C4001:F4001),COUNTBLANK(H4001:AB4001)<>COLUMNS(H4001:AB4001))),"KO","") | AD4001: =IF(OR(ISBLANK(C4001),ISBLANK(D4001),ISBLANK(E4001),ISBLANK(F4001),ISBLANK(H4001),ISBLANK(J4001),ISBLANK(K4001),ISBLANK(L4001),ISBLANK(M4001),ISBLANK(N4001),ISBLANK(O4001),ISBLANK(P4001),ISBLANK(Q4001),ISBLANK(S4001),ISBLANK(U4001),ISBLANK(V4001),ISBLANK(W4001),ISBLANK(X4001),ISBLANK(Y4001),ISBLANK(Z4001),ISBLANK(AA4001),ISBLANK(AB4001)),FALSE,TRUE) -> FALSE | AE4001: =IF((Q4001="Voucher"=NOT(ISBLANK(R4001))),TRUE,FALSE) -> TRUE | AF4001: =IF(AND(AC4001="KO",OR(COUNTBLANK(C4001:F4001)<>COLUMNS(C4001:F4001),COUNTBLANK(H4001:AB4001)<>COLUMNS(H4001:AB4001))),"ATTENZIONE!!! NON TUTTI I CAMPI OBBLIGATORI SONO STATI COMPILATI","") | AQ4001: Pagazzano | AR4001: 016154
G4002: =VLOOKUP(F4002,[1]Label!$C$2:$D$1504,2,FALSE) -> #N/A | AC4002: =IF(AND(OR(AD4002=FALSE,AE4002=FALSE),OR(COUNTBLANK(C4002:F4002)<>COLUMNS(C4002:F4002),COUNTBLANK(H4002:AB4002)<>COLUMNS(H4002:AB4002))),"KO","") | AD4002: =IF(OR(ISBLANK(C4002),ISBLANK(D4002),ISBLANK(E4002),ISBLANK(F4002),ISBLANK(H4002),ISBLANK(J4002),ISBLANK(K4002),ISBLANK(L4002),ISBLANK(M4002),ISBLANK(N4002),ISBLANK(O4002),ISBLANK(P4002),ISBLANK(Q4002),ISBLANK(S4002),ISBLANK(U4002),ISBLANK(V4002),ISBLANK(W4002),ISBLANK(X4002),ISBLANK(Y4002),ISBLANK(Z4002),ISBLANK(AA4002),ISBLANK(AB4002)),FALSE,TRUE) -> FALSE | AE4002: =IF((Q4002="Voucher"=NOT(ISBLANK(R4002))),TRUE,FALSE) -> TRUE | AF4002: =IF(AND(AC4002="KO",OR(COUNTBLANK(C4002:F4002)<>COLUMNS(C4002:F4002),COUNTBLANK(H4002:AB4002)<>COLUMNS(H4002:AB4002))),"ATTENZIONE!!! NON TUTTI I CAMPI OBBLIGATORI SONO STATI COMPILATI","") | AQ4002: Pagnona | AR4002: 097063
G4003: =VLOOKUP(F4003,[1]Label!$C$2:$D$1504,2,FALSE) -> #N/A | AC4003: =IF(AND(OR(AD4003=FALSE,AE4003=FALSE),OR(COUNTBLANK(C4003:F4003)<>COLUMNS(C4003:F4003),COUNTBLANK(H4003:AB4003)<>COLUMNS(H4003:AB4003))),"KO","") | AD4003: =IF(OR(ISBLANK(C4003),ISBLANK(D4003),ISBLANK(E4003),ISBLANK(F4003),ISBLANK(H4003),ISBLANK(J4003),ISBLANK(K4003),ISBLANK(L4003),ISBLANK(M4003),ISBLANK(N4003),ISBLANK(O4003),ISBLANK(P4003),ISBLANK(Q4003),ISBLANK(S4003),ISBLANK(U4003),ISBLANK(V4003),ISBLANK(W4003),ISBLANK(X4003),ISBLANK(Y4003),ISBLANK(Z4003),ISBLANK(AA4003),ISBLANK(AB4003)),FALSE,TRUE) -> FALSE | AE4003: =IF((Q4003="Voucher"=NOT(ISBLANK(R4003))),TRUE,FALSE) -> TRUE | AF4003: =IF(AND(AC4003="KO",OR(COUNTBLANK(C4003:F4003)<>COLUMNS(C4003:F4003),COUNTBLANK(H4003:AB4003)<>COLUMNS(H4003:AB4003))),"ATTENZIONE!!! NON TUTTI I CAMPI OBBLIGATORI SONO STATI COMPILATI","") | AQ4003: Paisco Loveno | AR4003: 017131
G4004: =VLOOKUP(F4004,[1]Label!$C$2:$D$1504,2,FALSE) -> #N/A | AC4004: =IF(AND(OR(AD4004=FALSE,AE4004=FALSE),OR(COUNTBLANK(C4004:F4004)<>COLUMNS(C4004:F4004),COUNTBLANK(H4004:AB4004)<>COLUMNS(H4004:AB4004))),"KO","") | AD4004: =IF(OR(ISBLANK(C4004),ISBLANK(D4004),ISBLANK(E4004),ISBLANK(F4004),ISBLANK(H4004),ISBLANK(J4004),ISBLANK(K4004),ISBLANK(L4004),ISBLANK(M4004),ISBLANK(N4004),ISBLANK(O4004),ISBLANK(P4004),ISBLANK(Q4004),ISBLANK(S4004),ISBLANK(U4004),ISBLANK(V4004),ISBLANK(W4004),ISBLANK(X4004),ISBLANK(Y4004),ISBLANK(Z4004),ISBLANK(AA4004),ISBLANK(AB4004)),FALSE,TRUE) -> FALSE | AE4004: =IF((Q4004="Voucher"=NOT(ISBLANK(R4004))),TRUE,FALSE) -> TRUE | AF4004: =IF(AND(AC4004="KO",OR(COUNTBLANK(C4004:F4004)<>COLUMNS(C4004:F4004),COUNTBLANK(H4004:AB4004)<>COLUMNS(H4004:AB4004))),"ATTENZIONE!!! NON TUTTI I CAMPI OBBLIGATORI SONO STATI COMPILATI","") | AQ4004: Paitone | AR4004: 017132
G4005: =VLOOKUP(F4005,[1]Label!$C$2:$D$1504,2,FALSE) -> #N/A | AC4005: =IF(AND(OR(AD4005=FALSE,AE4005=FALSE),OR(COUNTBLANK(C4005:F4005)<>COLUMNS(C4005:F4005),COUNTBLANK(H4005:AB4005)<>COLUMNS(H4005:AB4005))),"KO","") | AD4005: =IF(OR(ISBLANK(C4005),ISBLANK(D4005),ISBLANK(E4005),ISBLANK(F4005),ISBLANK(H4005),ISBLANK(J4005),ISBLANK(K4005),ISBLANK(L4005),ISBLANK(M4005),ISBLANK(N4005),ISBLANK(O4005),ISBLANK(P4005),ISBLANK(Q4005),ISBLANK(S4005),ISBLANK(U4005),ISBLANK(V4005),ISBLANK(W4005),ISBLANK(X4005),ISBLANK(Y4005),ISBLANK(Z4005),ISBLANK(AA4005),ISBLANK(AB4005)),FALSE,TRUE) -> FALSE | AE4005: =IF((Q4005="Voucher"=NOT(ISBLANK(R4005))),TRUE,FALSE) -> TRUE | AF4005: =IF(AND(AC4005="KO",OR(COUNTBLANK(C4005:F4005)<>COLUMNS(C4005:F4005),COUNTBLANK(H4005:AB4005)<>COLUMNS(H4005:AB4005))),"ATTENZIONE!!! NON TUTTI I CAMPI OBBLIGATORI SONO STATI COMPILATI","") | AQ4005: Paladina | AR4005: 016155
G4006: =VLOOKUP(F4006,[1]Label!$C$2:$D$1504,2,FALSE) -> #N/A | AC4006: =IF(AND(OR(AD4006=FALSE,AE4006=FALSE),OR(COUNTBLANK(C4006:F4006)<>COLUMNS(C4006:F4006),COUNTBLANK(H4006:AB4006)<>COLUMNS(H4006:AB4006))),"KO","") | AD4006: =IF(OR(ISBLANK(C4006),ISBLANK(D4006),ISBLANK(E4006),ISBLANK(F4006),ISBLANK(H4006),ISBLANK(J4006),ISBLANK(K4006),ISBLANK(L4006),ISBLANK(M4006),ISBLANK(N4006),ISBLANK(O4006),ISBLANK(P4006),ISBLANK(Q4006),ISBLANK(S4006),ISBLANK(U4006),ISBLANK(V4006),ISBLANK(W4006),ISBLANK(X4006),ISBLANK(Y4006),ISBLANK(Z4006),ISBLANK(AA4006),ISBLANK(AB4006)),FALSE,TRUE) -> FALSE | AE4006: =IF((Q4006="Voucher"=NOT(ISBLANK(R4006))),TRUE,FALSE) -> TRUE | AF4006: =IF(AND(AC4006="KO",OR(COUNTBLANK(C4006:F4006)<>COLUMNS(C4006:F4006),COUNTBLANK(H4006:AB4006)<>COLUMNS(H4006:AB4006))),"ATTENZIONE!!! NON TUTTI I CAMPI OBBLIGATORI SONO STATI COMPILATI","") | AQ4006: Palazzago | AR4006: 016156
G4007: =VLOOKUP(F4007,[1]Label!$C$2:$D$1504,2,FALSE) -> #N/A | AC4007: =IF(AND(OR(AD4007=FALSE,AE4007=FALSE),OR(COUNTBLANK(C4007:F4007)<>COLUMNS(C4007:F4007),COUNTBLANK(H4007:AB4007)<>COLUMNS(H4007:AB4007))),"KO","") | AD4007: =IF(OR(ISBLANK(C4007),ISBLANK(D4007),ISBLANK(E4007),ISBLANK(F4007),ISBLANK(H4007),ISBLANK(J4007),ISBLANK(K4007),ISBLANK(L4007),ISBLANK(M4007),ISBLANK(N4007),ISBLANK(O4007),ISBLANK(P4007),ISBLANK(Q4007),ISBLANK(S4007),ISBLANK(U4007),ISBLANK(V4007),ISBLANK(W4007),ISBLANK(X4007),ISBLANK(Y4007),ISBLANK(Z4007),ISBLANK(AA4007),ISBLANK(AB4007)),FALSE,TRUE) -> FALSE | AE4007: =IF((Q4007="Voucher"=NOT(ISBLANK(R4007))),TRUE,FALSE) -> TRUE | AF4007: =IF(AND(AC4007="KO",OR(COUNTBLANK(C4007:F4007)<>COLUMNS(C4007:F4007),COUNTBLANK(H4007:AB4007)<>COLUMNS(H4007:AB4007))),"ATTENZIONE!!! NON TUTTI I CAMPI OBBLIGATORI SONO STATI COMPILATI","") | AQ4007: Palazzo Pignano | AR4007: 019066
G4008: =VLOOKUP(F4008,[1]Label!$C$2:$D$1504,2,FALSE) -> #N/A | AC4008: =IF(AND(OR(AD4008=FALSE,AE4008=FALSE),OR(COUNTBLANK(C4008:F4008)<>COLUMNS(C4008:F4008),COUNTBLANK(H4008:AB4008)<>COLUMNS(H4008:AB4008))),"KO","") | AD4008: =IF(OR(ISBLANK(C4008),ISBLANK(D4008),ISBLANK(E4008),ISBLANK(F4008),ISBLANK(H4008),ISBLANK(J4008),ISBLANK(K4008),ISBLANK(L4008),ISBLANK(M4008),ISBLANK(N4008),ISBLANK(O4008),ISBLANK(P4008),ISBLANK(Q4008),ISBLANK(S4008),ISBLANK(U4008),ISBLANK(V4008),ISBLANK(W4008),ISBLANK(X4008),ISBLANK(Y4008),ISBLANK(Z4008),ISBLANK(AA4008),ISBLANK(AB4008)),FALSE,TRUE) -> FALSE | AE4008: =IF((Q4008="Voucher"=NOT(ISBLANK(R4008))),TRUE,FALSE) -> TRUE | AF4008: =IF(AND(AC4008="KO",OR(COUNTBLANK(C4008:F4008)<>COLUMNS(C4008:F4008),COUNTBLANK(H4008:AB4008)<>COLUMNS(H4008:AB4008))),"ATTENZIONE!!! NON TUTTI I CAMPI OBBLIGATORI SONO STATI COMPILATI","") | AQ4008: Palazzolo sull'Oglio | AR4008: 017133
G4009: =VLOOKUP(F4009,[1]Label!$C$2:$D$1504,2,FALSE) -> #N/A | AC4009: =IF(AND(OR(AD4009=FALSE,AE4009=FALSE),OR(COUNTBLANK(C4009:F4009)<>COLUMNS(C4009:F4009),COUNTBLANK(H4009:AB4009)<>COLUMNS(H4009:AB4009))),"KO","") | AD4009: =IF(OR(ISBLANK(C4009),ISBLANK(D4009),ISBLANK(E4009),ISBLANK(F4009),ISBLANK(H4009),ISBLANK(J4009),ISBLANK(K4009),ISBLANK(L4009),ISBLANK(M4009),ISBLANK(N4009),ISBLANK(O4009),ISBLANK(P4009),ISBLANK(Q4009),ISBLANK(S4009),ISBLANK(U4009),ISBLANK(V4009),ISBLANK(W4009),ISBLANK(X4009),ISBLANK(Y4009),ISBLANK(Z4009),ISBLANK(AA4009),ISBLANK(AB4009)),FALSE,TRUE) -> FALSE | AE4009: =IF((Q4009="Voucher"=NOT(ISBLANK(R4009))),TRUE,FALSE) -> TRUE | AF4009: =IF(AND(AC4009="KO",OR(COUNTBLANK(C4009:F4009)<>COLUMNS(C4009:F4009),COUNTBLANK(H4009:AB4009)<>COLUMNS(H4009:AB4009))),"ATTENZIONE!!! NON TUTTI I CAMPI OBBLIGATORI SONO STATI COMPILATI","") | AQ4009: Palestro | AR4009: 018107
G4010: =VLOOKUP(F4010,[1]Label!$C$2:$D$1504,2,FALSE) -> #N/A | AC4010: =IF(AND(OR(AD4010=FALSE,AE4010=FALSE),OR(COUNTBLANK(C4010:F4010)<>COLUMNS(C4010:F4010),COUNTBLANK(H4010:AB4010)<>COLUMNS(H4010:AB4010))),"KO","") | AD4010: =IF(OR(ISBLANK(C4010),ISBLANK(D4010),ISBLANK(E4010),ISBLANK(F4010),ISBLANK(H4010),ISBLANK(J4010),ISBLANK(K4010),ISBLANK(L4010),ISBLANK(M4010),ISBLANK(N4010),ISBLANK(O4010),ISBLANK(P4010),ISBLANK(Q4010),ISBLANK(S4010),ISBLANK(U4010),ISBLANK(V4010),ISBLANK(W4010),ISBLANK(X4010),ISBLANK(Y4010),ISBLANK(Z4010),ISBLANK(AA4010),ISBLANK(AB4010)),FALSE,TRUE) -> FALSE | AE4010: =IF((Q4010="Voucher"=NOT(ISBLANK(R4010))),TRUE,FALSE) -> TRUE | AF4010: =IF(AND(AC4010="KO",OR(COUNTBLANK(C4010:F4010)<>COLUMNS(C4010:F4010),COUNTBLANK(H4010:AB4010)<>COLUMNS(H4010:AB4010))),"ATTENZIONE!!! NON TUTTI I CAMPI OBBLIGATORI SONO STATI COMPILATI","") | AQ4010: Palosco | AR4010: 016157
... G4100: =VLOOKUP(F4100,[1]Label!$C$2:$D$1504,2,FALSE) -> #N/A | AC4100: =IF(AND(OR(AD4100=FALSE,AE4100=FALSE),OR(COUNTBLANK(C4100:F4100)<>COLUMNS(C4100:F4100),COUNTBLANK(H4100:AB4100)<>COLUMNS(H4100:AB4100))),"KO","") | AD4100: =IF(OR(ISBLANK(C4100),ISBLANK(D4100),ISBLANK(E4100),ISBLANK(F4100),ISBLANK(H4100),ISBLANK(J4100),ISBLANK(K4100),ISBLANK(L4100),ISBLANK(M4100),ISBLANK(N4100),ISBLANK(O4100),ISBLANK(P4100),ISBLANK(Q4100),ISBLANK(S4100),ISBLANK(U4100),ISBLANK(V4100),ISBLANK(W4100),ISBLANK(X4100),ISBLANK(Y4100),ISBLANK(Z4100),ISBLANK(AA4100),ISBLANK(AB4100)),FALSE,TRUE) -> FALSE | AE4100: =IF((Q4100="Voucher"=NOT(ISBLANK(R4100))),TRUE,FALSE) -> TRUE | AF4100: =IF(AND(AC4100="KO",OR(COUNTBLANK(C4100:F4100)<>COLUMNS(C4100:F4100),COUNTBLANK(H4100:AB4100)<>COLUMNS(H4100:AB4100))),"ATTENZIONE!!! NON TUTTI I CAMPI OBBLIGATORI SONO STATI COMPILATI","") | AQ4100: Porlezza | AR4100: 013189
AQ4101: Portalbera | AR4101: 018118
AQ4102: Porto Ceresio | AR4102: 012113
AQ4103: Porto Mantovano | AR4103: 020045
AQ4104: Porto Valtravaglia | AR4104: 012114
AQ4105: Postalesio | AR4105: 014053
AQ4106: Pozzaglio ed Uniti | AR4106: 019077
AQ4107: Pozzo d'Adda | AR4107: 015177
AQ4108: Pozzolengo | AR4108: 017151
AQ4109: Pozzuolo Martesana | AR4109: 015178
AQ4110: Pradalunga | AR4110: 016173
AQ4111: Pralboino | AR4111: 017152
AQ4112: Prata Camportaccio | AR4112: 014054
... AQ4552: Zone | AR4552: 017205

Sheet ADM
A1: Anno di rendicontazione | B1: =[1]Ente_gestore!B1 -> 2025
A2: Denominazione Ambito | B2: =[1]Ente_gestore!B2 -> Cremona
A3: Denominazione Ente gestore | B3: =SAD_SADH!C3 -> Comune di
A4: Tipologia UdO | B4: ADM | C4: Assistenza Domiciliare Minori | Q4: =SUM(Q105:Q1600) -> 0 | T4: =SUM(T105:T1600) -> 0 | U4: =SUM(U105:U1600) -> 0 | V4: =SUM(V105:V1600) -> 0 | W4: =SUM(W105:W1600) -> 0 | X4: =SUM(X105:X1600) -> 0 | Y4: =SUM(Y105:Y1600) -> 0 | Z4: =SUM(Z105:Z1600) -> 0 | AA4: =SUM(AA105:AA1600) -> 0
A5: Dati anagrafici utente | G5: Periodo di erogazione del servizio | I5: Specifiche utenza | N5: Integrazione con altri servizi | P5: Tipologia del Servizio | R5: Tipologia prestazioni erogate | T5: Numero Accessi/ore Personale
A6: Cognome e Nome Beneficiario | B6: Codice individuale utente | C6: Data di nascita utente | D6: Genere utente | E6: Denominazione Comune di residenza utente | F6: Codice ISTAT Comune di residenza utente (in automatico) | G6: Data inizio presa in carico | H6: Data fine presa in carico | I6: Utente disabile | J6: Invalidità riconosciuta | K6: Utente psichiatrico | L6: Condizione familiare | M6: Presenza Caregiver | N6: Già in carico presso Servizi Sociosanitari | O6: Già in carico presso Servizi Sanitari | P6: Tipologia di gestione del servizio | Q6: Valore complessivo del Voucher utilizzato dall'utente durante il periodo rendicontato | R6: Prestazione prevalente | S6: Eventuale prestazione secondaria | T6: Numero totale Accessi ASA/OSS annuali | U6: Numero totale Ore ASA/OSS annuali | V6: Numero Accessi Educatori o figure equipollenti | W6: Numero totale Ore Educatori o figure equipollenti | X6: Numero Accessi Personale non qualificato | Y6: Numero totale ore Personale non qualificato | Z6: Numero Accessi Personale Volontario | AA6: Numero Ore Personale Volontario
B7: XXXXXXXXXXXXXXXX | C7: 44194 | D7: XXXXXXX | E7: XXXXXXXXXXXXXXXXXXXXXXXXXXXXXXXXXXXXXXXXXXXXXXXXXX | F7: XXXXXXXX | G7: 44195 | H7: 44196 | I7: XX | J7: XX | K7: XX | L7: XXXXXXXXXXX | M7: XX | N7: XX | O7: XX | P7: XXXXXXXXXXXXXXXXXXX | Q7: 999999 | R7: XXXXXXXXXXXXXXXXXXXXXXXXXXXXXXXXXXXXXXXXXXXXXXXXXXXXXXXXXXXXXXXXXXXXXXXXXXXXXXXXXXXXXXXXXXXXXXXXXXXXXXXXXXXXXXXXXXXXXXXXXXXXXXXXXXXXXXXXXXXXXXXXXXXXXXXXXXXXXXXXXXXXXXXXX | S7: XXXXXXXXXXXXXXXXXXXXXXXXXXXXXXXXXXXXXXXXXXXXXXXXXXXXXXXXXXXXXXXXXXXXXXXXXXXXXXXXXXXXXXXXXXXXXXXXXXXXXXXXXXXXXXXXXXXXXXXXXXXXXXXXXXXXXXXXXXXXXXXXXXXXXXXXXXXXXXXXXXXXXXXXX | T7: 999999 | U7: 999999 | V7: 999999 | W7: 999999 | X7: 999999 | Y7: 999999 | Z7: 999999 | AA7: 999999 | AB7: =IF(AND(OR(AC7=FALSE,AD7=FALSE),OR(COUNTBLANK(B7:E7)<>COLUMNS(B7:E7),COUNTBLANK(G7:AA7)<>COLUMNS(G7:AA7))),"KO","") -> KO | AC7: =IF(OR(ISBLANK(B7),ISBLANK(C7),ISBLANK(D7),ISBLANK(E7),ISBLANK(G7),ISBLANK(I7),ISBLANK(J7),ISBLANK(K7),ISBLANK(L7),ISBLANK(M7),ISBLANK(N7),ISBLANK(O7),ISBLANK(P7),ISBLANK(R7),ISBLANK(T7),ISBLANK(U7),ISBLANK(V7),ISBLANK(W7),ISBLANK(X7),ISBLANK(Y7),ISBLANK(Z7),ISBLANK(AA7)),FALSE,TRUE) -> TRUE | AD7: =IF((P7="Voucher"=NOT(ISBLANK(Q7))),TRUE,FALSE) -> FALSE | AE7: =IF(AND(AB7="KO",OR(COUNTBLANK(B7:E7)<>COLUMNS(B7:E7),COUNTBLANK(G7:AA7)<>COLUMNS(G7:AA7))),"ATTENZIONE!!! NON TUTTI I CAMPI OBBLIGATORI SONO STATI COMPILATI","") -> ATTENZIONE!!! NON TUTTI I CAMPI OBBLIGATORI SONO STATI COMPILATI | AF7: =SUM(T7:Z7) -> 6999993 | AG7: =IF(AA7="KO","ATTENZIONE!!! NON TUTTI I CAMPI OBBLIGATORI SONO STATI COMPILATI","") | AQ7: Comune fuori Regione Lombardia | AR7: 999999
B8: XXXXXXXXXXXXXXXX | C8: 44194 | D8: XXXXXXX | E8: XXXXXXXXXXXXXXXXXXXXXXXXXXXXXXXXXXXXXXXXXXXXXXXXXX | F8: XXXXXXXX | G8: 44195 | H8: 44196 | I8: XX | J8: XX | K8: XX | L8: XXXXXXXXXXX | M8: XX | N8: XX | O8: XX | P8: XXXXXXXXXXXXXXXXXXX | Q8: 999999 | R8: XXXXXXXXXXXXXXXXXXXXXXXXXXXXXXXXXXXXXXXXXXXXXXXXXXXXXXXXXXXXXXXXXXXXXXXXXXXXXXXXXXXXXXXXXXXXXXXXXXXXXXXXXXXXXXXXXXXXXXXXXXXXXXXXXXXXXXXXXXXXXXXXXXXXXXXXXXXXXXXXXXXXXXXXX | S8: XXXXXXXXXXXXXXXXXXXXXXXXXXXXXXXXXXXXXXXXXXXXXXXXXXXXXXXXXXXXXXXXXXXXXXXXXXXXXXXXXXXXXXXXXXXXXXXXXXXXXXXXXXXXXXXXXXXXXXXXXXXXXXXXXXXXXXXXXXXXXXXXXXXXXXXXXXXXXXXXXXXXXXXXX | T8: 999999 | U8: 999999 | V8: 999999 | W8: 999999 | X8: 999999 | Y8: 999999 | Z8: 999999 | AA8: 999999 | AB8: =IF(AND(OR(AC8=FALSE,AD8=FALSE),OR(COUNTBLANK(B8:E8)<>COLUMNS(B8:E8),COUNTBLANK(G8:AA8)<>COLUMNS(G8:AA8))),"KO","") -> KO | AC8: =IF(OR(ISBLANK(B8),ISBLANK(C8),ISBLANK(D8),ISBLANK(E8),ISBLANK(G8),ISBLANK(I8),ISBLANK(J8),ISBLANK(K8),ISBLANK(L8),ISBLANK(M8),ISBLANK(N8),ISBLANK(O8),ISBLANK(P8),ISBLANK(R8),ISBLANK(T8),ISBLANK(U8),ISBLANK(V8),ISBLANK(W8),ISBLANK(X8),ISBLANK(Y8),ISBLANK(Z8),ISBLANK(AA8)),FALSE,TRUE) -> TRUE | AD8: =IF((P8="Voucher"=NOT(ISBLANK(Q8))),TRUE,FALSE) -> FALSE | AE8: =IF(AND(AB8="KO",OR(COUNTBLANK(B8:E8)<>COLUMNS(B8:E8),COUNTBLANK(G8:AA8)<>COLUMNS(G8:AA8))),"ATTENZIONE!!! NON TUTTI I CAMPI OBBLIGATORI SONO STATI COMPILATI","") -> ATTENZIONE!!! NON TUTTI I CAMPI OBBLIGATORI SONO STATI COMPILATI | AF8: =SUM(T8:Z8) -> 6999993 | AG8: =IF(AA8="KO","ATTENZIONE!!! NON TUTTI I CAMPI OBBLIGATORI SONO STATI COMPILATI","") | AQ8: Abbadia Cerreto | AR8: 098001
B9: XXXXXXXXXXXXXXXX | C9: 44194 | D9: XXXXXXX | E9: XXXXXXXXXXXXXXXXXXXXXXXXXXXXXXXXXXXXXXXXXXXXXXXXXX | F9: XXXXXXXX | G9: 44195 | H9: 44196 | I9: XX | J9: XX | K9: XX | L9: XXXXXXXXXXX | M9: XX | N9: XX | O9: XX | P9: XXXXXXXXXXXXXXXXXXX | Q9: 999999 | R9: XXXXXXXXXXXXXXXXXXXXXXXXXXXXXXXXXXXXXXXXXXXXXXXXXXXXXXXXXXXXXXXXXXXXXXXXXXXXXXXXXXXXXXXXXXXXXXXXXXXXXXXXXXXXXXXXXXXXXXXXXXXXXXXXXXXXXXXXXXXXXXXXXXXXXXXXXXXXXXXXXXXXXXXXX | S9: XXXXXXXXXXXXXXXXXXXXXXXXXXXXXXXXXXXXXXXXXXXXXXXXXXXXXXXXXXXXXXXXXXXXXXXXXXXXXXXXXXXXXXXXXXXXXXXXXXXXXXXXXXXXXXXXXXXXXXXXXXXXXXXXXXXXXXXXXXXXXXXXXXXXXXXXXXXXXXXXXXXXXXXXX | T9: 999999 | U9: 999999 | V9: 999999 | W9: 999999 | X9: 999999 | Y9: 999999 | Z9: 999999 | AA9: 999999 | AB9: =IF(AND(OR(AC9=FALSE,AD9=FALSE),OR(COUNTBLANK(B9:E9)<>COLUMNS(B9:E9),COUNTBLANK(G9:AA9)<>COLUMNS(G9:AA9))),"KO","") -> KO | AC9: =IF(OR(ISBLANK(B9),ISBLANK(C9),ISBLANK(D9),ISBLANK(E9),ISBLANK(G9),ISBLANK(I9),ISBLANK(J9),ISBLANK(K9),ISBLANK(L9),ISBLANK(M9),ISBLANK(N9),ISBLANK(O9),ISBLANK(P9),ISBLANK(R9),ISBLANK(T9),ISBLANK(U9),ISBLANK(V9),ISBLANK(W9),ISBLANK(X9),ISBLANK(Y9),ISBLANK(Z9),ISBLANK(AA9)),FALSE,TRUE) -> TRUE | AD9: =IF((P9="Voucher"=NOT(ISBLANK(Q9))),TRUE,FALSE) -> FALSE | AE9: =IF(AND(AB9="KO",OR(COUNTBLANK(B9:E9)<>COLUMNS(B9:E9),COUNTBLANK(G9:AA9)<>COLUMNS(G9:AA9))),"ATTENZIONE!!! NON TUTTI I CAMPI OBBLIGATORI SONO STATI COMPILATI","") -> ATTENZIONE!!! NON TUTTI I CAMPI OBBLIGATORI SONO STATI COMPILATI | AF9: =SUM(T9:Z9) -> 6999993 | AG9: =IF(AA9="KO","ATTENZIONE!!! NON TUTTI I CAMPI OBBLIGATORI SONO STATI COMPILATI","") | AQ9: Abbadia Lariana | AR9: 097001
B10: XXXXXXXXXXXXXXXX | C10: 44194 | D10: XXXXXXX | E10: XXXXXXXXXXXXXXXXXXXXXXXXXXXXXXXXXXXXXXXXXXXXXXXXXX | F10: XXXXXXXX | G10: 44195 | H10: 44196 | I10: XX | J10: XX | K10: XX | L10: XXXXXXXXXXX | M10: XX | N10: XX | O10: XX | P10: XXXXXXXXXXXXXXXXXXX | Q10: 999999 | R10: XXXXXXXXXXXXXXXXXXXXXXXXXXXXXXXXXXXXXXXXXXXXXXXXXXXXXXXXXXXXXXXXXXXXXXXXXXXXXXXXXXXXXXXXXXXXXXXXXXXXXXXXXXXXXXXXXXXXXXXXXXXXXXXXXXXXXXXXXXXXXXXXXXXXXXXXXXXXXXXXXXXXXXXXX | S10: XXXXXXXXXXXXXXXXXXXXXXXXXXXXXXXXXXXXXXXXXXXXXXXXXXXXXXXXXXXXXXXXXXXXXXXXXXXXXXXXXXXXXXXXXXXXXXXXXXXXXXXXXXXXXXXXXXXXXXXXXXXXXXXXXXXXXXXXXXXXXXXXXXXXXXXXXXXXXXXXXXXXXXXXX | T10: 999999 | U10: 999999 | V10: 999999 | W10: 999999 | X10: 999999 | Y10: 999999 | Z10: 999999 | AA10: 999999 | AB10: =IF(AND(OR(AC10=FALSE,AD10=FALSE),OR(COUNTBLANK(B10:E10)<>COLUMNS(B10:E10),COUNTBLANK(G10:AA10)<>COLUMNS(G10:AA10))),"KO","") -> KO | AC10: =IF(OR(ISBLANK(B10),ISBLANK(C10),ISBLANK(D10),ISBLANK(E10),ISBLANK(G10),ISBLANK(I10),ISBLANK(J10),ISBLANK(K10),ISBLANK(L10),ISBLANK(M10),ISBLANK(N10),ISBLANK(O10),ISBLANK(P10),ISBLANK(R10),ISBLANK(T10),ISBLANK(U10),ISBLANK(V10),ISBLANK(W10),ISBLANK(X10),ISBLANK(Y10),ISBLANK(Z10),ISBLANK(AA10)),FALSE,TRUE) -> TRUE | AD10: =IF((P10="Voucher"=NOT(ISBLANK(Q10))),TRUE,FALSE) -> FALSE | AE10: =IF(AND(AB10="KO",OR(COUNTBLANK(B10:E10)<>COLUMNS(B10:E10),COUNTBLANK(G10:AA10)<>COLUMNS(G10:AA10))),"ATTENZIONE!!! NON TUTTI I CAMPI OBBLIGATORI SONO STATI COMPILATI","") -> ATTENZIONE!!! NON TUTTI I CAMPI OBBLIGATORI SONO STATI COMPILATI | AF10: =SUM(T10:Z10) -> 6999993 | AG10: =IF(AA10="KO","ATTENZIONE!!! NON TUTTI I CAMPI OBBLIGATORI SONO STATI COMPILATI","") | AQ10: Abbiategrasso | AR10: 015002
B11: XXXXXXXXXXXXXXXX | C11: 44194 | D11: XXXXXXX | E11: XXXXXXXXXXXXXXXXXXXXXXXXXXXXXXXXXXXXXXXXXXXXXXXXXX | F11: XXXXXXXX | G11: 44195 | H11: 44196 | I11: XX | J11: XX | K11: XX | L11: XXXXXXXXXXX | M11: XX | N11: XX | O11: XX | P11: XXXXXXXXXXXXXXXXXXX | Q11: 999999 | R11: XXXXXXXXXXXXXXXXXXXXXXXXXXXXXXXXXXXXXXXXXXXXXXXXXXXXXXXXXXXXXXXXXXXXXXXXXXXXXXXXXXXXXXXXXXXXXXXXXXXXXXXXXXXXXXXXXXXXXXXXXXXXXXXXXXXXXXXXXXXXXXXXXXXXXXXXXXXXXXXXXXXXXXXXX | S11: XXXXXXXXXXXXXXXXXXXXXXXXXXXXXXXXXXXXXXXXXXXXXXXXXXXXXXXXXXXXXXXXXXXXXXXXXXXXXXXXXXXXXXXXXXXXXXXXXXXXXXXXXXXXXXXXXXXXXXXXXXXXXXXXXXXXXXXXXXXXXXXXXXXXXXXXXXXXXXXXXXXXXXXXX | T11: 999999 | U11: 999999 | V11: 999999 | W11: 999999 | X11: 999999 | Y11: 999999 | Z11: 999999 | AA11: 999999 | AB11: =IF(AND(OR(AC11=FALSE,AD11=FALSE),OR(COUNTBLANK(B11:E11)<>COLUMNS(B11:E11),COUNTBLANK(G11:AA11)<>COLUMNS(G11:AA11))),"KO","") -> KO | AC11: =IF(OR(ISBLANK(B11),ISBLANK(C11),ISBLANK(D11),ISBLANK(E11),ISBLANK(G11),ISBLANK(I11),ISBLANK(J11),ISBLANK(K11),ISBLANK(L11),ISBLANK(M11),ISBLANK(N11),ISBLANK(O11),ISBLANK(P11),ISBLANK(R11),ISBLANK(T11),ISBLANK(U11),ISBLANK(V11),ISBLANK(W11),ISBLANK(X11),ISBLANK(Y11),ISBLANK(Z11),ISBLANK(AA11)),FALSE,TRUE) -> TRUE | AD11: =IF((P11="Voucher"=NOT(ISBLANK(Q11))),TRUE,FALSE) -> FALSE | AE11: =IF(AND(AB11="KO",OR(COUNTBLANK(B11:E11)<>COLUMNS(B11:E11),COUNTBLANK(G11:AA11)<>COLUMNS(G11:AA11))),"ATTENZIONE!!! NON TUTTI I CAMPI OBBLIGATORI SONO STATI COMPILATI","") -> ATTENZIONE!!! NON TUTTI I CAMPI OBBLIGATORI SONO STATI COMPILATI | AF11: =SUM(T11:Z11) -> 6999993 | AG11: =IF(AA11="KO","ATTENZIONE!!! NON TUTTI I CAMPI OBBLIGATORI SONO STATI COMPILATI","") | AQ11: Acquafredda | AR11: 017001
B12: XXXXXXXXXXXXXXXX | C12: 44194 | D12: XXXXXXX | E12: XXXXXXXXXXXXXXXXXXXXXXXXXXXXXXXXXXXXXXXXXXXXXXXXXX | F12: XXXXXXXX | G12: 44195 | H12: 44196 | I12: XX | J12: XX | K12: XX | L12: XXXXXXXXXXX | M12: XX | N12: XX | O12: XX | P12: XXXXXXXXXXXXXXXXXXX | Q12: 999999 | R12: XXXXXXXXXXXXXXXXXXXXXXXXXXXXXXXXXXXXXXXXXXXXXXXXXXXXXXXXXXXXXXXXXXXXXXXXXXXXXXXXXXXXXXXXXXXXXXXXXXXXXXXXXXXXXXXXXXXXXXXXXXXXXXXXXXXXXXXXXXXXXXXXXXXXXXXXXXXXXXXXXXXXXXXXX | S12: XXXXXXXXXXXXXXXXXXXXXXXXXXXXXXXXXXXXXXXXXXXXXXXXXXXXXXXXXXXXXXXXXXXXXXXXXXXXXXXXXXXXXXXXXXXXXXXXXXXXXXXXXXXXXXXXXXXXXXXXXXXXXXXXXXXXXXXXXXXXXXXXXXXXXXXXXXXXXXXXXXXXXXXXX | T12: 999999 | U12: 999999 | V12: 999999 | W12: 999999 | X12: 999999 | Y12: 999999 | Z12: 999999 | AA12: 999999 | AB12: =IF(AND(OR(AC12=FALSE,AD12=FALSE),OR(COUNTBLANK(B12:E12)<>COLUMNS(B12:E12),COUNTBLANK(G12:AA12)<>COLUMNS(G12:AA12))),"KO","") -> KO | AC12: =IF(OR(ISBLANK(B12),ISBLANK(C12),ISBLANK(D12),ISBLANK(E12),ISBLANK(G12),ISBLANK(I12),ISBLANK(J12),ISBLANK(K12),ISBLANK(L12),ISBLANK(M12),ISBLANK(N12),ISBLANK(O12),ISBLANK(P12),ISBLANK(R12),ISBLANK(T12),ISBLANK(U12),ISBLANK(V12),ISBLANK(W12),ISBLANK(X12),ISBLANK(Y12),ISBLANK(Z12),ISBLANK(AA12)),FALSE,TRUE) -> TRUE | AD12: =IF((P12="Voucher"=NOT(ISBLANK(Q12))),TRUE,FALSE) -> FALSE | AE12: =IF(AND(AB12="KO",OR(COUNTBLANK(B12:E12)<>COLUMNS(B12:E12),COUNTBLANK(G12:AA12)<>COLUMNS(G12:AA12))),"ATTENZIONE!!! NON TUTTI I CAMPI OBBLIGATORI SONO STATI COMPILATI","") -> ATTENZIONE!!! NON TUTTI I CAMPI OBBLIGATORI SONO STATI COMPILATI | AF12: =SUM(T12:Z12) -> 6999993 | AG12: =IF(AA12="KO","ATTENZIONE!!! NON TUTTI I CAMPI OBBLIGATORI SONO STATI COMPILATI","") | AQ12: Acquanegra Cremonese | AR12: 019001
B13: XXXXXXXXXXXXXXXX | C13: 44194 | D13: XXXXXXX | E13: XXXXXXXXXXXXXXXXXXXXXXXXXXXXXXXXXXXXXXXXXXXXXXXXXX | F13: XXXXXXXX | G13: 44195 | H13: 44196 | I13: XX | J13: XX | K13: XX | L13: XXXXXXXXXXX | M13: XX | N13: XX | O13: XX | P13: XXXXXXXXXXXXXXXXXXX | Q13: 999999 | R13: XXXXXXXXXXXXXXXXXXXXXXXXXXXXXXXXXXXXXXXXXXXXXXXXXXXXXXXXXXXXXXXXXXXXXXXXXXXXXXXXXXXXXXXXXXXXXXXXXXXXXXXXXXXXXXXXXXXXXXXXXXXXXXXXXXXXXXXXXXXXXXXXXXXXXXXXXXXXXXXXXXXXXXXXX | S13: XXXXXXXXXXXXXXXXXXXXXXXXXXXXXXXXXXXXXXXXXXXXXXXXXXXXXXXXXXXXXXXXXXXXXXXXXXXXXXXXXXXXXXXXXXXXXXXXXXXXXXXXXXXXXXXXXXXXXXXXXXXXXXXXXXXXXXXXXXXXXXXXXXXXXXXXXXXXXXXXXXXXXXXXX | T13: 999999 | U13: 999999 | V13: 999999 | W13: 999999 | X13: 999999 | Y13: 999999 | Z13: 999999 | AA13: 999999 | AB13: =IF(AND(OR(AC13=FALSE,AD13=FALSE),OR(COUNTBLANK(B13:E13)<>COLUMNS(B13:E13),COUNTBLANK(G13:AA13)<>COLUMNS(G13:AA13))),"KO","") -> KO | AC13: =IF(OR(ISBLANK(B13),ISBLANK(C13),ISBLANK(D13),ISBLANK(E13),ISBLANK(G13),ISBLANK(I13),ISBLANK(J13),ISBLANK(K13),ISBLANK(L13),ISBLANK(M13),ISBLANK(N13),ISBLANK(O13),ISBLANK(P13),ISBLANK(R13),ISBLANK(T13),ISBLANK(U13),ISBLANK(V13),ISBLANK(W13),ISBLANK(X13),ISBLANK(Y13),ISBLANK(Z13),ISBLANK(AA13)),FALSE,TRUE) -> TRUE | AD13: =IF((P13="Voucher"=NOT(ISBLANK(Q13))),TRUE,FALSE) -> FALSE | AE13: =IF(AND(AB13="KO",OR(COUNTBLANK(B13:E13)<>COLUMNS(B13:E13),COUNTBLANK(G13:AA13)<>COLUMNS(G13:AA13))),"ATTENZIONE!!! NON TUTTI I CAMPI OBBLIGATORI SONO STATI COMPILATI","") -> ATTENZIONE!!! NON TUTTI I CAMPI OBBLIGATORI SONO STATI COMPILATI | AF13: =SUM(T13:Z13) -> 6999993 | AG13: =IF(AA13="KO","ATTENZIONE!!! NON TUTTI I CAMPI OBBLIGATORI SONO STATI COMPILATI","") | AQ13: Acquanegra sul Chiese | AR13: 020001
B14: XXXXXXXXXXXXXXXX | C14: 44194 | D14: XXXXXXX | E14: XXXXXXXXXXXXXXXXXXXXXXXXXXXXXXXXXXXXXXXXXXXXXXXXXX | F14: XXXXXXXX | G14: 44195 | H14: 44196 | I14: XX | J14: XX | K14: XX | L14: XXXXXXXXXXX | M14: XX | N14: XX | O14: XX | P14: XXXXXXXXXXXXXXXXXXX | Q14: 999999 | R14: XXXXXXXXXXXXXXXXXXXXXXXXXXXXXXXXXXXXXXXXXXXXXXXXXXXXXXXXXXXXXXXXXXXXXXXXXXXXXXXXXXXXXXXXXXXXXXXXXXXXXXXXXXXXXXXXXXXXXXXXXXXXXXXXXXXXXXXXXXXXXXXXXXXXXXXXXXXXXXXXXXXXXXXXX | S14: XXXXXXXXXXXXXXXXXXXXXXXXXXXXXXXXXXXXXXXXXXXXXXXXXXXXXXXXXXXXXXXXXXXXXXXXXXXXXXXXXXXXXXXXXXXXXXXXXXXXXXXXXXXXXXXXXXXXXXXXXXXXXXXXXXXXXXXXXXXXXXXXXXXXXXXXXXXXXXXXXXXXXXXXX | T14: 999999 | U14: 999999 | V14: 999999 | W14: 999999 | X14: 999999 | Y14: 999999 | Z14: 999999 | AA14: 999999 | AB14: =IF(AND(OR(AC14=FALSE,AD14=FALSE),OR(COUNTBLANK(B14:E14)<>COLUMNS(B14:E14),COUNTBLANK(G14:AA14)<>COLUMNS(G14:AA14))),"KO","") -> KO | AC14: =IF(OR(ISBLANK(B14),ISBLANK(C14),ISBLANK(D14),ISBLANK(E14),ISBLANK(G14),ISBLANK(I14),ISBLANK(J14),ISBLANK(K14),ISBLANK(L14),ISBLANK(M14),ISBLANK(N14),ISBLANK(O14),ISBLANK(P14),ISBLANK(R14),ISBLANK(T14),ISBLANK(U14),ISBLANK(V14),ISBLANK(W14),ISBLANK(X14),ISBLANK(Y14),ISBLANK(Z14),ISBLANK(AA14)),FALSE,TRUE) -> TRUE | AD14: =IF((P14="Voucher"=NOT(ISBLANK(Q14))),TRUE,FALSE) -> FALSE | AE14: =IF(AND(AB14="KO",OR(COUNTBLANK(B14:E14)<>COLUMNS(B14:E14),COUNTBLANK(G14:AA14)<>COLUMNS(G14:AA14))),"ATTENZIONE!!! NON TUTTI I CAMPI OBBLIGATORI SONO STATI COMPILATI","") -> ATTENZIONE!!! NON TUTTI I CAMPI OBBLIGATORI SONO STATI COMPILATI | AF14: =SUM(T14:Z14) -> 6999993 | AG14: =IF(AA14="KO","ATTENZIONE!!! NON TUTTI I CAMPI OBBLIGATORI SONO STATI COMPILATI","") | AQ14: Adrara San Martino | AR14: 016001
B15: XXXXXXXXXXXXXXXX | C15: 44194 | D15: XXXXXXX | E15: XXXXXXXXXXXXXXXXXXXXXXXXXXXXXXXXXXXXXXXXXXXXXXXXXX | F15: XXXXXXXX | G15: 44195 | H15: 44196 | I15: XX | J15: XX | K15: XX | L15: XXXXXXXXXXX | M15: XX | N15: XX | O15: XX | P15: XXXXXXXXXXXXXXXXXXX | Q15: 999999 | R15: XXXXXXXXXXXXXXXXXXXXXXXXXXXXXXXXXXXXXXXXXXXXXXXXXXXXXXXXXXXXXXXXXXXXXXXXXXXXXXXXXXXXXXXXXXXXXXXXXXXXXXXXXXXXXXXXXXXXXXXXXXXXXXXXXXXXXXXXXXXXXXXXXXXXXXXXXXXXXXXXXXXXXXXXX | S15: XXXXXXXXXXXXXXXXXXXXXXXXXXXXXXXXXXXXXXXXXXXXXXXXXXXXXXXXXXXXXXXXXXXXXXXXXXXXXXXXXXXXXXXXXXXXXXXXXXXXXXXXXXXXXXXXXXXXXXXXXXXXXXXXXXXXXXXXXXXXXXXXXXXXXXXXXXXXXXXXXXXXXXXXX | T15: 999999 | U15: 999999 | V15: 999999 | W15: 999999 | X15: 999999 | Y15: 999999 | Z15: 999999 | AA15: 999999 | AB15: =IF(AND(OR(AC15=FALSE,AD15=FALSE),OR(COUNTBLANK(B15:E15)<>COLUMNS(B15:E15),COUNTBLANK(G15:AA15)<>COLUMNS(G15:AA15))),"KO","") -> KO | AC15: =IF(OR(ISBLANK(B15),ISBLANK(C15),ISBLANK(D15),ISBLANK(E15),ISBLANK(G15),ISBLANK(I15),ISBLANK(J15),ISBLANK(K15),ISBLANK(L15),ISBLANK(M15),ISBLANK(N15),ISBLANK(O15),ISBLANK(P15),ISBLANK(R15),ISBLANK(T15),ISBLANK(U15),ISBLANK(V15),ISBLANK(W15),ISBLANK(X15),ISBLANK(Y15),ISBLANK(Z15),ISBLANK(AA15)),FALSE,TRUE) -> TRUE | AD15: =IF((P15="Voucher"=NOT(ISBLANK(Q15))),TRUE,FALSE) -> FALSE | AE15: =IF(AND(AB15="KO",OR(COUNTBLANK(B15:E15)<>COLUMNS(B15:E15),COUNTBLANK(G15:AA15)<>COLUMNS(G15:AA15))),"ATTENZIONE!!! NON TUTTI I CAMPI OBBLIGATORI SONO STATI COMPILATI","") -> ATTENZIONE!!! NON TUTTI I CAMPI OBBLIGATORI SONO STATI COMPILATI | AF15: =SUM(T15:Z15) -> 6999993 | AG15: =IF(AA15="KO","ATTENZIONE!!! NON TUTTI I CAMPI OBBLIGATORI SONO STATI COMPILATI","") | AQ15: Adrara San Rocco | AR15: 016002
B16: XXXXXXXXXXXXXXXX | C16: 44194 | D16: XXXXXXX | E16: XXXXXXXXXXXXXXXXXXXXXXXXXXXXXXXXXXXXXXXXXXXXXXXXXX | F16: XXXXXXXX | G16: 44195 | H16: 44196 | I16: XX | J16: XX | K16: XX | L16: XXXXXXXXXXX | M16: XX | N16: XX | O16: XX | P16: XXXXXXXXXXXXXXXXXXX | Q16: 999999 | R16: XXXXXXXXXXXXXXXXXXXXXXXXXXXXXXXXXXXXXXXXXXXXXXXXXXXXXXXXXXXXXXXXXXXXXXXXXXXXXXXXXXXXXXXXXXXXXXXXXXXXXXXXXXXXXXXXXXXXXXXXXXXXXXXXXXXXXXXXXXXXXXXXXXXXXXXXXXXXXXXXXXXXXXXXX | S16: XXXXXXXXXXXXXXXXXXXXXXXXXXXXXXXXXXXXXXXXXXXXXXXXXXXXXXXXXXXXXXXXXXXXXXXXXXXXXXXXXXXXXXXXXXXXXXXXXXXXXXXXXXXXXXXXXXXXXXXXXXXXXXXXXXXXXXXXXXXXXXXXXXXXXXXXXXXXXXXXXXXXXXXXX | T16: 999999 | U16: 999999 | V16: 999999 | W16: 999999 | X16: 999999 | Y16: 999999 | Z16: 999999 | AA16: 999999 | AB16: =IF(AND(OR(AC16=FALSE,AD16=FALSE),OR(COUNTBLANK(B16:E16)<>COLUMNS(B16:E16),COUNTBLANK(G16:AA16)<>COLUMNS(G16:AA16))),"KO","") -> KO | AC16: =IF(OR(ISBLANK(B16),ISBLANK(C16),ISBLANK(D16),ISBLANK(E16),ISBLANK(G16),ISBLANK(I16),ISBLANK(J16),ISBLANK(K16),ISBLANK(L16),ISBLANK(M16),ISBLANK(N16),ISBLANK(O16),ISBLANK(P16),ISBLANK(R16),ISBLANK(T16),ISBLANK(U16),ISBLANK(V16),ISBLANK(W16),ISBLANK(X16),ISBLANK(Y16),ISBLANK(Z16),ISBLANK(AA16)),FALSE,TRUE) -> TRUE | AD16: =IF((P16="Voucher"=NOT(ISBLANK(Q16))),TRUE,FALSE) -> FALSE | AE16: =IF(AND(AB16="KO",OR(COUNTBLANK(B16:E16)<>COLUMNS(B16:E16),COUNTBLANK(G16:AA16)<>COLUMNS(G16:AA16))),"ATTENZIONE!!! NON TUTTI I CAMPI OBBLIGATORI SONO STATI COMPILATI","") -> ATTENZIONE!!! NON TUTTI I CAMPI OBBLIGATORI SONO STATI COMPILATI | AF16: =SUM(T16:Z16) -> 6999993 | AG16: =IF(AA16="KO","ATTENZIONE!!! NON TUTTI I CAMPI OBBLIGATORI SONO STATI COMPILATI","") | AQ16: Adro | AR16: 017002
B17: XXXXXXXXXXXXXXXX | C17: 44194 | D17: XXXXXXX | E17: XXXXXXXXXXXXXXXXXXXXXXXXXXXXXXXXXXXXXXXXXXXXXXXXXX | F17: XXXXXXXX | G17: 44195 | H17: 44196 | I17: XX | J17: XX | K17: XX | L17: XXXXXXXXXXX | M17: XX | N17: XX | O17: XX | P17: XXXXXXXXXXXXXXXXXXX | Q17: 999999 | R17: XXXXXXXXXXXXXXXXXXXXXXXXXXXXXXXXXXXXXXXXXXXXXXXXXXXXXXXXXXXXXXXXXXXXXXXXXXXXXXXXXXXXXXXXXXXXXXXXXXXXXXXXXXXXXXXXXXXXXXXXXXXXXXXXXXXXXXXXXXXXXXXXXXXXXXXXXXXXXXXXXXXXXXXXX | S17: XXXXXXXXXXXXXXXXXXXXXXXXXXXXXXXXXXXXXXXXXXXXXXXXXXXXXXXXXXXXXXXXXXXXXXXXXXXXXXXXXXXXXXXXXXXXXXXXXXXXXXXXXXXXXXXXXXXXXXXXXXXXXXXXXXXXXXXXXXXXXXXXXXXXXXXXXXXXXXXXXXXXXXXXX | T17: 999999 | U17: 999999 | V17: 999999 | W17: 999999 | X17: 999999 | Y17: 999999 | Z17: 999999 | AA17: 999999 | AB17: =IF(AND(OR(AC17=FALSE,AD17=FALSE),OR(COUNTBLANK(B17:E17)<>COLUMNS(B17:E17),COUNTBLANK(G17:AA17)<>COLUMNS(G17:AA17))),"KO","") -> KO | AC17: =IF(OR(ISBLANK(B17),ISBLANK(C17),ISBLANK(D17),ISBLANK(E17),ISBLANK(G17),ISBLANK(I17),ISBLANK(J17),ISBLANK(K17),ISBLANK(L17),ISBLANK(M17),ISBLANK(N17),ISBLANK(O17),ISBLANK(P17),ISBLANK(R17),ISBLANK(T17),ISBLANK(U17),ISBLANK(V17),ISBLANK(W17),ISBLANK(X17),ISBLANK(Y17),ISBLANK(Z17),ISBLANK(AA17)),FALSE,TRUE) -> TRUE | AD17: =IF((P17="Voucher"=NOT(ISBLANK(Q17))),TRUE,FALSE) -> FALSE | AE17: =IF(AND(AB17="KO",OR(COUNTBLANK(B17:E17)<>COLUMNS(B17:E17),COUNTBLANK(G17:AA17)<>COLUMNS(G17:AA17))),"ATTENZIONE!!! NON TUTTI I CAMPI OBBLIGATORI SONO STATI COMPILATI","") -> ATTENZIONE!!! NON TUTTI I CAMPI OBBLIGATORI SONO STATI COMPILATI | AF17: =SUM(T17:Z17) -> 6999993 | AG17: =IF(AA17="KO","ATTENZIONE!!! NON TUTTI I CAMPI OBBLIGATORI SONO STATI COMPILATI","") | AQ17: Agnadello | AR17: 019002
B18: XXXXXXXXXXXXXXXX | C18: 44194 | D18: XXXXXXX | E18: XXXXXXXXXXXXXXXXXXXXXXXXXXXXXXXXXXXXXXXXXXXXXXXXXX | F18: XXXXXXXX | G18: 44195 | H18: 44196 | I18: XX | J18: XX | K18: XX | L18: XXXXXXXXXXX | M18: XX | N18: XX | O18: XX | P18: XXXXXXXXXXXXXXXXXXX | Q18: 999999 | R18: XXXXXXXXXXXXXXXXXXXXXXXXXXXXXXXXXXXXXXXXXXXXXXXXXXXXXXXXXXXXXXXXXXXXXXXXXXXXXXXXXXXXXXXXXXXXXXXXXXXXXXXXXXXXXXXXXXXXXXXXXXXXXXXXXXXXXXXXXXXXXXXXXXXXXXXXXXXXXXXXXXXXXXXXX | S18: XXXXXXXXXXXXXXXXXXXXXXXXXXXXXXXXXXXXXXXXXXXXXXXXXXXXXXXXXXXXXXXXXXXXXXXXXXXXXXXXXXXXXXXXXXXXXXXXXXXXXXXXXXXXXXXXXXXXXXXXXXXXXXXXXXXXXXXXXXXXXXXXXXXXXXXXXXXXXXXXXXXXXXXXX | T18: 999999 | U18: 999999 | V18: 999999 | W18: 999999 | X18: 999999 | Y18: 999999 | Z18: 999999 | AA18: 999999 | AB18: =IF(AND(OR(AC18=FALSE,AD18=FALSE),OR(COUNTBLANK(B18:E18)<>COLUMNS(B18:E18),COUNTBLANK(G18:AA18)<>COLUMNS(G18:AA18))),"KO","") -> KO | AC18: =IF(OR(ISBLANK(B18),ISBLANK(C18),ISBLANK(D18),ISBLANK(E18),ISBLANK(G18),ISBLANK(I18),ISBLANK(J18),ISBLANK(K18),ISBLANK(L18),ISBLANK(M18),ISBLANK(N18),ISBLANK(O18),ISBLANK(P18),ISBLANK(R18),ISBLANK(T18),ISBLANK(U18),ISBLANK(V18),ISBLANK(W18),ISBLANK(X18),ISBLANK(Y18),ISBLANK(Z18),ISBLANK(AA18)),FALSE,TRUE) -> TRUE | AD18: =IF((P18="Voucher"=NOT(ISBLANK(Q18))),TRUE,FALSE) -> FALSE | AE18: =IF(AND(AB18="KO",OR(COUNTBLANK(B18:E18)<>COLUMNS(B18:E18),COUNTBLANK(G18:AA18)<>COLUMNS(G18:AA18))),"ATTENZIONE!!! NON TUTTI I CAMPI OBBLIGATORI SONO STATI COMPILATI","") -> ATTENZIONE!!! NON TUTTI I CAMPI OBBLIGATORI SONO STATI COMPILATI | AF18: =SUM(T18:Z18) -> 6999993 | AG18: =IF(AA18="KO","ATTENZIONE!!! NON TUTTI I CAMPI OBBLIGATORI SONO STATI COMPILATI","") | AQ18: Agnosine | AR18: 017003
... B104: XXXXXXXXXXXXXXXX | C104: 44194 | D104: XXXXXXX | E104: XXXXXXXXXXXXXXXXXXXXXXXXXXXXXXXXXXXXXXXXXXXXXXXXXX | F104: XXXXXXXX | G104: 44195 | H104: 44196 | I104: XX | J104: XX | K104: XX | L104: XXXXXXXXXXX | M104: XX | N104: XX | O104: XX | P104: XXXXXXXXXXXXXXXXXXX | Q104: 999999 | R104: XXXXXXXXXXXXXXXXXXXXXXXXXXXXXXXXXXXXXXXXXXXXXXXXXXXXXXXXXXXXXXXXXXXXXXXXXXXXXXXXXXXXXXXXXXXXXXXXXXXXXXXXXXXXXXXXXXXXXXXXXXXXXXXXXXXXXXXXXXXXXXXXXXXXXXXXXXXXXXXXXXXXXXXXX | S104: XXXXXXXXXXXXXXXXXXXXXXXXXXXXXXXXXXXXXXXXXXXXXXXXXXXXXXXXXXXXXXXXXXXXXXXXXXXXXXXXXXXXXXXXXXXXXXXXXXXXXXXXXXXXXXXXXXXXXXXXXXXXXXXXXXXXXXXXXXXXXXXXXXXXXXXXXXXXXXXXXXXXXXXXX | T104: 999999 | U104: 999999 | V104: 999999 | W104: 999999 | X104: 999999 | Y104: 999999 | Z104: 999999 | AA104: 999999 | AB104: =IF(AND(OR(AC104=FALSE,AD104=FALSE),OR(COUNTBLANK(B104:E104)<>COLUMNS(B104:E104),COUNTBLANK(G104:AA104)<>COLUMNS(G104:AA104))),"KO","") -> KO | AC104: =IF(OR(ISBLANK(B104),ISBLANK(C104),ISBLANK(D104),ISBLANK(E104),ISBLANK(G104),ISBLANK(I104),ISBLANK(J104),ISBLANK(K104),ISBLANK(L104),ISBLANK(M104),ISBLANK(N104),ISBLANK(O104),ISBLANK(P104),ISBLANK(R104),ISBLANK(T104),ISBLANK(U104),ISBLANK(V104),ISBLANK(W104),ISBLANK(X104),ISBLANK(Y104),ISBLANK(Z104),ISBLANK(AA104)),FALSE,TRUE) -> TRUE | AD104: =IF((P104="Voucher"=NOT(ISBLANK(Q104))),TRUE,FALSE) -> FALSE | AE104: =IF(AND(AB104="KO",OR(COUNTBLANK(B104:E104)<>COLUMNS(B104:E104),COUNTBLANK(G104:AA104)<>COLUMNS(G104:AA104))),"ATTENZIONE!!! NON TUTTI I CAMPI OBBLIGATORI SONO STATI COMPILATI","") -> ATTENZIONE!!! NON TUTTI I CAMPI OBBLIGATORI SONO STATI COMPILATI | AF104: =SUM(T104:Z104) -> 6999993 | AG104: =IF(AA104="KO","ATTENZIONE!!! NON TUTTI I CAMPI OBBLIGATORI SONO STATI COMPILATI","") | AQ104: Bascapè | AR104: 018009
F105: =VLOOKUP(E105,[1]Label!$C$2:$D$1504,2,FALSE) -> #N/A | AB105: =IF(AND(OR(AC105=FALSE,AD105=FALSE),OR(COUNTBLANK(B105:E105)<>COLUMNS(B105:E105),COUNTBLANK(G105:AA105)<>COLUMNS(G105:AA105))),"KO","") | AC105: =IF(OR(ISBLANK(B105),ISBLANK(C105),ISBLANK(D105),ISBLANK(E105),ISBLANK(G105),ISBLANK(I105),ISBLANK(J105),ISBLANK(K105),ISBLANK(L105),ISBLANK(M105),ISBLANK(N105),ISBLANK(O105),ISBLANK(P105),ISBLANK(R105),ISBLANK(T105),ISBLANK(U105),ISBLANK(V105),ISBLANK(W105),ISBLANK(X105),ISBLANK(Y105),ISBLANK(Z105),ISBLANK(AA105)),FALSE,TRUE) -> FALSE | AD105: =IF((P105="Voucher"=NOT(ISBLANK(Q105))),TRUE,FALSE) -> TRUE | AE105: =IF(AND(AB105="KO",OR(COUNTBLANK(B105:E105)<>COLUMNS(B105:E105),COUNTBLANK(G105:AA105)<>COLUMNS(G105:AA105))),"ATTENZIONE!!! NON TUTTI I CAMPI OBBLIGATORI SONO STATI COMPILATI","") | AF105: =SUM(T105:Z105) -> 0 | AG105: =IF(AA105="KO","ATTENZIONE!!! NON TUTTI I CAMPI OBBLIGATORI SONO STATI COMPILATI","") | AQ105: Basiano | AR105: 015014
F106: =VLOOKUP(E106,[1]Label!$C$2:$D$1504,2,FALSE) -> #N/A | AB106: =IF(AND(OR(AC106=FALSE,AD106=FALSE),OR(COUNTBLANK(B106:E106)<>COLUMNS(B106:E106),COUNTBLANK(G106:AA106)<>COLUMNS(G106:AA106))),"KO","") | AC106: =IF(OR(ISBLANK(B106),ISBLANK(C106),ISBLANK(D106),ISBLANK(E106),ISBLANK(G106),ISBLANK(I106),ISBLANK(J106),ISBLANK(K106),ISBLANK(L106),ISBLANK(M106),ISBLANK(N106),ISBLANK(O106),ISBLANK(P106),ISBLANK(R106),ISBLANK(T106),ISBLANK(U106),ISBLANK(V106),ISBLANK(W106),ISBLANK(X106),ISBLANK(Y106),ISBLANK(Z106),ISBLANK(AA106)),FALSE,TRUE) -> FALSE | AD106: =IF((P106="Voucher"=NOT(ISBLANK(Q106))),TRUE,FALSE) -> TRUE | AE106: =IF(AND(AB106="KO",OR(COUNTBLANK(B106:E106)<>COLUMNS(B106:E106),COUNTBLANK(G106:AA106)<>COLUMNS(G106:AA106))),"ATTENZIONE!!! NON TUTTI I CAMPI OBBLIGATORI SONO STATI COMPILATI","") | AF106: =SUM(T106:Z106) -> 0 | AG106: =IF(AA106="KO","ATTENZIONE!!! NON TUTTI I CAMPI OBBLIGATORI SONO STATI COMPILATI","") | AQ106: Basiglio | AR106: 015015
F107: =VLOOKUP(E107,[1]Label!$C$2:$D$1504,2,FALSE) -> #N/A | AB107: =IF(AND(OR(AC107=FALSE,AD107=FALSE),OR(COUNTBLANK(B107:E107)<>COLUMNS(B107:E107),COUNTBLANK(G107:AA107)<>COLUMNS(G107:AA107))),"KO","") | AC107: =IF(OR(ISBLANK(B107),ISBLANK(C107),ISBLANK(D107),ISBLANK(E107),ISBLANK(G107),ISBLANK(I107),ISBLANK(J107),ISBLANK(K107),ISBLANK(L107),ISBLANK(M107),ISBLANK(N107),ISBLANK(O107),ISBLANK(P107),ISBLANK(R107),ISBLANK(T107),ISBLANK(U107),ISBLANK(V107),ISBLANK(W107),ISBLANK(X107),ISBLANK(Y107),ISBLANK(Z107),ISBLANK(AA107)),FALSE,TRUE) -> FALSE | AD107: =IF((P107="Voucher"=NOT(ISBLANK(Q107))),TRUE,FALSE) -> TRUE | AE107: =IF(AND(AB107="KO",OR(COUNTBLANK(B107:E107)<>COLUMNS(B107:E107),COUNTBLANK(G107:AA107)<>COLUMNS(G107:AA107))),"ATTENZIONE!!! NON TUTTI I CAMPI OBBLIGATORI SONO STATI COMPILATI","") | AF107: =SUM(T107:Z107) -> 0 | AG107: =IF(AA107="KO","ATTENZIONE!!! NON TUTTI I CAMPI OBBLIGATORI SONO STATI COMPILATI","") | AQ107: Bassano Bresciano | AR107: 017013
F108: =VLOOKUP(E108,[1]Label!$C$2:$D$1504,2,FALSE) -> #N/A | AB108: =IF(AND(OR(AC108=FALSE,AD108=FALSE),OR(COUNTBLANK(B108:E108)<>COLUMNS(B108:E108),COUNTBLANK(G108:AA108)<>COLUMNS(G108:AA108))),"KO","") | AC108: =IF(OR(ISBLANK(B108),ISBLANK(C108),ISBLANK(D108),ISBLANK(E108),ISBLANK(G108),ISBLANK(I108),ISBLANK(J108),ISBLANK(K108),ISBLANK(L108),ISBLANK(M108),ISBLANK(N108),ISBLANK(O108),ISBLANK(P108),ISBLANK(R108),ISBLANK(T108),ISBLANK(U108),ISBLANK(V108),ISBLANK(W108),ISBLANK(X108),ISBLANK(Y108),ISBLANK(Z108),ISBLANK(AA108)),FALSE,TRUE) -> FALSE | AD108: =IF((P108="Voucher"=NOT(ISBLANK(Q108))),TRUE,FALSE) -> TRUE | AE108: =IF(AND(AB108="KO",OR(COUNTBLANK(B108:E108)<>COLUMNS(B108:E108),COUNTBLANK(G108:AA108)<>COLUMNS(G108:AA108))),"ATTENZIONE!!! NON TUTTI I CAMPI OBBLIGATORI SONO STATI COMPILATI","") | AF108: =SUM(T108:Z108) -> 0 | AG108: =IF(AA108="KO","ATTENZIONE!!! NON TUTTI I CAMPI OBBLIGATORI SONO STATI COMPILATI","") | AQ108: Bastida de' Dossi | AR108: 018010
F109: =VLOOKUP(E109,[1]Label!$C$2:$D$1504,2,FALSE) -> #N/A | AB109: =IF(AND(OR(AC109=FALSE,AD109=FALSE),OR(COUNTBLANK(B109:E109)<>COLUMNS(B109:E109),COUNTBLANK(G109:AA109)<>COLUMNS(G109:AA109))),"KO","") | AC109: =IF(OR(ISBLANK(B109),ISBLANK(C109),ISBLANK(D109),ISBLANK(E109),ISBLANK(G109),ISBLANK(I109),ISBLANK(J109),ISBLANK(K109),ISBLANK(L109),ISBLANK(M109),ISBLANK(N109),ISBLANK(O109),ISBLANK(P109),ISBLANK(R109),ISBLANK(T109),ISBLANK(U109),ISBLANK(V109),ISBLANK(W109),ISBLANK(X109),ISBLANK(Y109),ISBLANK(Z109),ISBLANK(AA109)),FALSE,TRUE) -> FALSE | AD109: =IF((P109="Voucher"=NOT(ISBLANK(Q109))),TRUE,FALSE) -> TRUE | AE109: =IF(AND(AB109="KO",OR(COUNTBLANK(B109:E109)<>COLUMNS(B109:E109),COUNTBLANK(G109:AA109)<>COLUMNS(G109:AA109))),"ATTENZIONE!!! NON TUTTI I CAMPI OBBLIGATORI SONO STATI COMPILATI","") | AF109: =SUM(T109:Z109) -> 0 | AG109: =IF(AA109="KO","ATTENZIONE!!! NON TUTTI I CAMPI OBBLIGATORI SONO STATI COMPILATI","") | AQ109: Bastida Pancarana | AR109: 018011
F110: =VLOOKUP(E110,[1]Label!$C$2:$D$1504,2,FALSE) -> #N/A | AB110: =IF(AND(OR(AC110=FALSE,AD110=FALSE),OR(COUNTBLANK(B110:E110)<>COLUMNS(B110:E110),COUNTBLANK(G110:AA110)<>COLUMNS(G110:AA110))),"KO","") | AC110: =IF(OR(ISBLANK(B110),ISBLANK(C110),ISBLANK(D110),ISBLANK(E110),ISBLANK(G110),ISBLANK(I110),ISBLANK(J110),ISBLANK(K110),ISBLANK(L110),ISBLANK(M110),ISBLANK(N110),ISBLANK(O110),ISBLANK(P110),ISBLANK(R110),ISBLANK(T110),ISBLANK(U110),ISBLANK(V110),ISBLANK(W110),ISBLANK(X110),ISBLANK(Y110),ISBLANK(Z110),ISBLANK(AA110)),FALSE,TRUE) -> FALSE | AD110: =IF((P110="Voucher"=NOT(ISBLANK(Q110))),TRUE,FALSE) -> TRUE | AE110: =IF(AND(AB110="KO",OR(COUNTBLANK(B110:E110)<>COLUMNS(B110:E110),COUNTBLANK(G110:AA110)<>COLUMNS(G110:AA110))),"ATTENZIONE!!! NON TUTTI I CAMPI OBBLIGATORI SONO STATI COMPILATI","") | AF110: =SUM(T110:Z110) -> 0 | AG110: =IF(AA110="KO","ATTENZIONE!!! NON TUTTI I CAMPI OBBLIGATORI SONO STATI COMPILATI","") | AQ110: Battuda | AR110: 018012
F111: =VLOOKUP(E111,[1]Label!$C$2:$D$1504,2,FALSE) -> #N/A | AB111: =IF(AND(OR(AC111=FALSE,AD111=FALSE),OR(COUNTBLANK(B111:E111)<>COLUMNS(B111:E111),COUNTBLANK(G111:AA111)<>COLUMNS(G111:AA111))),"KO","") | AC111: =IF(OR(ISBLANK(B111),ISBLANK(C111),ISBLANK(D111),ISBLANK(E111),ISBLANK(G111),ISBLANK(I111),ISBLANK(J111),ISBLANK(K111),ISBLANK(L111),ISBLANK(M111),ISBLANK(N111),ISBLANK(O111),ISBLANK(P111),ISBLANK(R111),ISBLANK(T111),ISBLANK(U111),ISBLANK(V111),ISBLANK(W111),ISBLANK(X111),ISBLANK(Y111),ISBLANK(Z111),ISBLANK(AA111)),FALSE,TRUE) -> FALSE | AD111: =IF((P111="Voucher"=NOT(ISBLANK(Q111))),TRUE,FALSE) -> TRUE | AE111: =IF(AND(AB111="KO",OR(COUNTBLANK(B111:E111)<>COLUMNS(B111:E111),COUNTBLANK(G111:AA111)<>COLUMNS(G111:AA111))),"ATTENZIONE!!! NON TUTTI I CAMPI OBBLIGATORI SONO STATI COMPILATI","") | AF111: =SUM(T111:Z111) -> 0 | AG111: =IF(AA111="KO","ATTENZIONE!!! NON TUTTI I CAMPI OBBLIGATORI SONO STATI COMPILATI","") | AQ111: Bedero Valcuvia | AR111: 012010
F112: =VLOOKUP(E112,[1]Label!$C$2:$D$1504,2,FALSE) -> #N/A | AB112: =IF(AND(OR(AC112=FALSE,AD112=FALSE),OR(COUNTBLANK(B112:E112)<>COLUMNS(B112:E112),COUNTBLANK(G112:AA112)<>COLUMNS(G112:AA112))),"KO","") | AC112: =IF(OR(ISBLANK(B112),ISBLANK(C112),ISBLANK(D112),ISBLANK(E112),ISBLANK(G112),ISBLANK(I112),ISBLANK(J112),ISBLANK(K112),ISBLANK(L112),ISBLANK(M112),ISBLANK(N112),ISBLANK(O112),ISBLANK(P112),ISBLANK(R112),ISBLANK(T112),ISBLANK(U112),ISBLANK(V112),ISBLANK(W112),ISBLANK(X112),ISBLANK(Y112),ISBLANK(Z112),ISBLANK(AA112)),FALSE,TRUE) -> FALSE | AD112: =IF((P112="Voucher"=NOT(ISBLANK(Q112))),TRUE,FALSE) -> TRUE | AE112: =IF(AND(AB112="KO",OR(COUNTBLANK(B112:E112)<>COLUMNS(B112:E112),COUNTBLANK(G112:AA112)<>COLUMNS(G112:AA112))),"ATTENZIONE!!! NON TUTTI I CAMPI OBBLIGATORI SONO STATI COMPILATI","") | AF112: =SUM(T112:Z112) -> 0 | AG112: =IF(AA112="KO","ATTENZIONE!!! NON TUTTI I CAMPI OBBLIGATORI SONO STATI COMPILATI","") | AQ112: Bedizzole | AR112: 017014
F113: =VLOOKUP(E113,[1]Label!$C$2:$D$1504,2,FALSE) -> #N/A | AB113: =IF(AND(OR(AC113=FALSE,AD113=FALSE),OR(COUNTBLANK(B113:E113)<>COLUMNS(B113:E113),COUNTBLANK(G113:AA113)<>COLUMNS(G113:AA113))),"KO","") | AC113: =IF(OR(ISBLANK(B113),ISBLANK(C113),ISBLANK(D113),ISBLANK(E113),ISBLANK(G113),ISBLANK(I113),ISBLANK(J113),ISBLANK(K113),ISBLANK(L113),ISBLANK(M113),ISBLANK(N113),ISBLANK(O113),ISBLANK(P113),ISBLANK(R113),ISBLANK(T113),ISBLANK(U113),ISBLANK(V113),ISBLANK(W113),ISBLANK(X113),ISBLANK(Y113),ISBLANK(Z113),ISBLANK(AA113)),FALSE,TRUE) -> FALSE | AD113: =IF((P113="Voucher"=NOT(ISBLANK(Q113))),TRUE,FALSE) -> TRUE | AE113: =IF(AND(AB113="KO",OR(COUNTBLANK(B113:E113)<>COLUMNS(B113:E113),COUNTBLANK(G113:AA113)<>COLUMNS(G113:AA113))),"ATTENZIONE!!! NON TUTTI I CAMPI OBBLIGATORI SONO STATI COMPILATI","") | AF113: =SUM(T113:Z113) -> 0 | AG113: =IF(AA113="KO","ATTENZIONE!!! NON TUTTI I CAMPI OBBLIGATORI SONO STATI COMPILATI","") | AQ113: Bedulita | AR113: 016022
F114: =VLOOKUP(E114,[1]Label!$C$2:$D$1504,2,FALSE) -> #N/A | AB114: =IF(AND(OR(AC114=FALSE,AD114=FALSE),OR(COUNTBLANK(B114:E114)<>COLUMNS(B114:E114),COUNTBLANK(G114:AA114)<>COLUMNS(G114:AA114))),"KO","") | AC114: =IF(OR(ISBLANK(B114),ISBLANK(C114),ISBLANK(D114),ISBLANK(E114),ISBLANK(G114),ISBLANK(I114),ISBLANK(J114),ISBLANK(K114),ISBLANK(L114),ISBLANK(M114),ISBLANK(N114),ISBLANK(O114),ISBLANK(P114),ISBLANK(R114),ISBLANK(T114),ISBLANK(U114),ISBLANK(V114),ISBLANK(W114),ISBLANK(X114),ISBLANK(Y114),ISBLANK(Z114),ISBLANK(AA114)),FALSE,TRUE) -> FALSE | AD114: =IF((P114="Voucher"=NOT(ISBLANK(Q114))),TRUE,FALSE) -> TRUE | AE114: =IF(AND(AB114="KO",OR(COUNTBLANK(B114:E114)<>COLUMNS(B114:E114),COUNTBLANK(G114:AA114)<>COLUMNS(G114:AA114))),"ATTENZIONE!!! NON TUTTI I CAMPI OBBLIGATORI SONO STATI COMPILATI","") | AF114: =SUM(T114:Z114) -> 0 | AG114: =IF(AA114="KO","ATTENZIONE!!! NON TUTTI I CAMPI OBBLIGATORI SONO STATI COMPILATI","") | AQ114: Belgioioso | AR114: 018013
F115: =VLOOKUP(E115,[1]Label!$C$2:$D$1504,2,FALSE) -> #N/A | AB115: =IF(AND(OR(AC115=FALSE,AD115=FALSE),OR(COUNTBLANK(B115:E115)<>COLUMNS(B115:E115),COUNTBLANK(G115:AA115)<>COLUMNS(G115:AA115))),"KO","") | AC115: =IF(OR(ISBLANK(B115),ISBLANK(C115),ISBLANK(D115),ISBLANK(E115),ISBLANK(G115),ISBLANK(I115),ISBLANK(J115),ISBLANK(K115),ISBLANK(L115),ISBLANK(M115),ISBLANK(N115),ISBLANK(O115),ISBLANK(P115),ISBLANK(R115),ISBLANK(T115),ISBLANK(U115),ISBLANK(V115),ISBLANK(W115),ISBLANK(X115),ISBLANK(Y115),ISBLANK(Z115),ISBLANK(AA115)),FALSE,TRUE) -> FALSE | AD115: =IF((P115="Voucher"=NOT(ISBLANK(Q115))),TRUE,FALSE) -> TRUE | AE115: =IF(AND(AB115="KO",OR(COUNTBLANK(B115:E115)<>COLUMNS(B115:E115),COUNTBLANK(G115:AA115)<>COLUMNS(G115:AA115))),"ATTENZIONE!!! NON TUTTI I CAMPI OBBLIGATORI SONO STATI COMPILATI","") | AF115: =SUM(T115:Z115) -> 0 | AG115: =IF(AA115="KO","ATTENZIONE!!! NON TUTTI I CAMPI OBBLIGATORI SONO STATI COMPILATI","") | AQ115: Bellagio | AR115: 013019
F116: =VLOOKUP(E116,[1]Label!$C$2:$D$1504,2,FALSE) -> #N/A | AB116: =IF(AND(OR(AC116=FALSE,AD116=FALSE),OR(COUNTBLANK(B116:E116)<>COLUMNS(B116:E116),COUNTBLANK(G116:AA116)<>COLUMNS(G116:AA116))),"KO","") | AC116: =IF(OR(ISBLANK(B116),ISBLANK(C116),ISBLANK(D116),ISBLANK(E116),ISBLANK(G116),ISBLANK(I116),ISBLANK(J116),ISBLANK(K116),ISBLANK(L116),ISBLANK(M116),ISBLANK(N116),ISBLANK(O116),ISBLANK(P116),ISBLANK(R116),ISBLANK(T116),ISBLANK(U116),ISBLANK(V116),ISBLANK(W116),ISBLANK(X116),ISBLANK(Y116),ISBLANK(Z116),ISBLANK(AA116)),FALSE,TRUE) -> FALSE | AD116: =IF((P116="Voucher"=NOT(ISBLANK(Q116))),TRUE,FALSE) -> TRUE | AE116: =IF(AND(AB116="KO",OR(COUNTBLANK(B116:E116)<>COLUMNS(B116:E116),COUNTBLANK(G116:AA116)<>COLUMNS(G116:AA116))),"ATTENZIONE!!! NON TUTTI I CAMPI OBBLIGATORI SONO STATI COMPILATI","") | AF116: =SUM(T116:Z116) -> 0 | AG116: =IF(AA116="KO","ATTENZIONE!!! NON TUTTI I CAMPI OBBLIGATORI SONO STATI COMPILATI","") | AQ116: Bellano | AR116: 097008
... F399: =VLOOKUP(E399,[1]Label!$C$2:$D$1504,2,FALSE) -> #N/A | AB399: =IF(AND(OR(AC399=FALSE,AD399=FALSE),OR(COUNTBLANK(B399:E399)<>COLUMNS(B399:E399),COUNTBLANK(G399:AA399)<>COLUMNS(G399:AA399))),"KO","") | AC399: =IF(OR(ISBLANK(B399),ISBLANK(C399),ISBLANK(D399),ISBLANK(E399),ISBLANK(G399),ISBLANK(I399),ISBLANK(J399),ISBLANK(K399),ISBLANK(L399),ISBLANK(M399),ISBLANK(N399),ISBLANK(O399),ISBLANK(P399),ISBLANK(R399),ISBLANK(T399),ISBLANK(U399),ISBLANK(V399),ISBLANK(W399),ISBLANK(X399),ISBLANK(Y399),ISBLANK(Z399),ISBLANK(AA399)),FALSE,TRUE) -> FALSE | AD399: =IF((P399="Voucher"=NOT(ISBLANK(Q399))),TRUE,FALSE) -> TRUE | AE399: =IF(AND(AB399="KO",OR(COUNTBLANK(B399:E399)<>COLUMNS(B399:E399),COUNTBLANK(G399:AA399)<>COLUMNS(G399:AA399))),"ATTENZIONE!!! NON TUTTI I CAMPI OBBLIGATORI SONO STATI COMPILATI","") | AF399: =SUM(T399:Z399) -> 0 | AG399: =IF(AA399="KO","ATTENZIONE!!! NON TUTTI I CAMPI OBBLIGATORI SONO STATI COMPILATI","") | AQ399: Cazzago Brabbia | AR399: 012049
F400: =VLOOKUP(E400,[1]Label!$C$2:$D$1504,2,FALSE) -> #N/A | AB400: =IF(AND(OR(AC400=FALSE,AD400=FALSE),OR(COUNTBLANK(B400:E400)<>COLUMNS(B400:E400),COUNTBLANK(G400:AA400)<>COLUMNS(G400:AA400))),"KO","") | AC400: =IF(OR(ISBLANK(B400),ISBLANK(C400),ISBLANK(D400),ISBLANK(E400),ISBLANK(G400),ISBLANK(I400),ISBLANK(J400),ISBLANK(K400),ISBLANK(L400),ISBLANK(M400),ISBLANK(N400),ISBLANK(O400),ISBLANK(P400),ISBLANK(R400),ISBLANK(T400),ISBLANK(U400),ISBLANK(V400),ISBLANK(W400),ISBLANK(X400),ISBLANK(Y400),ISBLANK(Z400),ISBLANK(AA400)),FALSE,TRUE) -> FALSE | AD400: =IF((P400="Voucher"=NOT(ISBLANK(Q400))),TRUE,FALSE) -> TRUE | AE400: =IF(AND(AB400="KO",OR(COUNTBLANK(B400:E400)<>COLUMNS(B400:E400),COUNTBLANK(G400:AA400)<>COLUMNS(G400:AA400))),"ATTENZIONE!!! NON TUTTI I CAMPI OBBLIGATORI SONO STATI COMPILATI","") | AF400: =SUM(T400:Z400) -> 0 | AQ400: Cazzago San Martino | AR400: 017046
F401: =VLOOKUP(E401,[1]Label!$C$2:$D$1504,2,FALSE) -> #N/A | AB401: =IF(AND(OR(AC401=FALSE,AD401=FALSE),OR(COUNTBLANK(B401:E401)<>COLUMNS(B401:E401),COUNTBLANK(G401:AA401)<>COLUMNS(G401:AA401))),"KO","") | AC401: =IF(OR(ISBLANK(B401),ISBLANK(C401),ISBLANK(D401),ISBLANK(E401),ISBLANK(G401),ISBLANK(I401),ISBLANK(J401),ISBLANK(K401),ISBLANK(L401),ISBLANK(M401),ISBLANK(N401),ISBLANK(O401),ISBLANK(P401),ISBLANK(R401),ISBLANK(T401),ISBLANK(U401),ISBLANK(V401),ISBLANK(W401),ISBLANK(X401),ISBLANK(Y401),ISBLANK(Z401),ISBLANK(AA401)),FALSE,TRUE) -> FALSE | AD401: =IF((P401="Voucher"=NOT(ISBLANK(Q401))),TRUE,FALSE) -> TRUE | AE401: =IF(AND(AB401="KO",OR(COUNTBLANK(B401:E401)<>COLUMNS(B401:E401),COUNTBLANK(G401:AA401)<>COLUMNS(G401:AA401))),"ATTENZIONE!!! NON TUTTI I CAMPI OBBLIGATORI SONO STATI COMPILATI","") | AF401: =SUM(T401:Z401) -> 0 | AQ401: Cazzano Sant'Andrea | AR401: 016067
F402: =VLOOKUP(E402,[1]Label!$C$2:$D$1504,2,FALSE) -> #N/A | AB402: =IF(AND(OR(AC402=FALSE,AD402=FALSE),OR(COUNTBLANK(B402:E402)<>COLUMNS(B402:E402),COUNTBLANK(G402:AA402)<>COLUMNS(G402:AA402))),"KO","") | AC402: =IF(OR(ISBLANK(B402),ISBLANK(C402),ISBLANK(D402),ISBLANK(E402),ISBLANK(G402),ISBLANK(I402),ISBLANK(J402),ISBLANK(K402),ISBLANK(L402),ISBLANK(M402),ISBLANK(N402),ISBLANK(O402),ISBLANK(P402),ISBLANK(R402),ISBLANK(T402),ISBLANK(U402),ISBLANK(V402),ISBLANK(W402),ISBLANK(X402),ISBLANK(Y402),ISBLANK(Z402),ISBLANK(AA402)),FALSE,TRUE) -> FALSE | AD402: =IF((P402="Voucher"=NOT(ISBLANK(Q402))),TRUE,FALSE) -> TRUE | AE402: =IF(AND(AB402="KO",OR(COUNTBLANK(B402:E402)<>COLUMNS(B402:E402),COUNTBLANK(G402:AA402)<>COLUMNS(G402:AA402))),"ATTENZIONE!!! NON TUTTI I CAMPI OBBLIGATORI SONO STATI COMPILATI","") | AF402: =SUM(T402:Z402) -> 0 | AQ402: Cecima | AR402: 018042
F403: =VLOOKUP(E403,[1]Label!$C$2:$D$1504,2,FALSE) -> #N/A | AB403: =IF(AND(OR(AC403=FALSE,AD403=FALSE),OR(COUNTBLANK(B403:E403)<>COLUMNS(B403:E403),COUNTBLANK(G403:AA403)<>COLUMNS(G403:AA403))),"KO","") | AC403: =IF(OR(ISBLANK(B403),ISBLANK(C403),ISBLANK(D403),ISBLANK(E403),ISBLANK(G403),ISBLANK(I403),ISBLANK(J403),ISBLANK(K403),ISBLANK(L403),ISBLANK(M403),ISBLANK(N403),ISBLANK(O403),ISBLANK(P403),ISBLANK(R403),ISBLANK(T403),ISBLANK(U403),ISBLANK(V403),ISBLANK(W403),ISBLANK(X403),ISBLANK(Y403),ISBLANK(Z403),ISBLANK(AA403)),FALSE,TRUE) -> FALSE | AD403: =IF((P403="Voucher"=NOT(ISBLANK(Q403))),TRUE,FALSE) -> TRUE | AE403: =IF(AND(AB403="KO",OR(COUNTBLANK(B403:E403)<>COLUMNS(B403:E403),COUNTBLANK(G403:AA403)<>COLUMNS(G403:AA403))),"ATTENZIONE!!! NON TUTTI I CAMPI OBBLIGATORI SONO STATI COMPILATI","") | AF403: =SUM(T403:Z403) -> 0 | AQ403: Cedegolo | AR403: 017047
F404: =VLOOKUP(E404,[1]Label!$C$2:$D$1504,2,FALSE) -> #N/A | AB404: =IF(AND(OR(AC404=FALSE,AD404=FALSE),OR(COUNTBLANK(B404:E404)<>COLUMNS(B404:E404),COUNTBLANK(G404:AA404)<>COLUMNS(G404:AA404))),"KO","") | AC404: =IF(OR(ISBLANK(B404),ISBLANK(C404),ISBLANK(D404),ISBLANK(E404),ISBLANK(G404),ISBLANK(I404),ISBLANK(J404),ISBLANK(K404),ISBLANK(L404),ISBLANK(M404),ISBLANK(N404),ISBLANK(O404),ISBLANK(P404),ISBLANK(R404),ISBLANK(T404),ISBLANK(U404),ISBLANK(V404),ISBLANK(W404),ISBLANK(X404),ISBLANK(Y404),ISBLANK(Z404),ISBLANK(AA404)),FALSE,TRUE) -> FALSE | AD404: =IF((P404="Voucher"=NOT(ISBLANK(Q404))),TRUE,FALSE) -> TRUE | AE404: =IF(AND(AB404="KO",OR(COUNTBLANK(B404:E404)<>COLUMNS(B404:E404),COUNTBLANK(G404:AA404)<>COLUMNS(G404:AA404))),"ATTENZIONE!!! NON TUTTI I CAMPI OBBLIGATORI SONO STATI COMPILATI","") | AF404: =SUM(T404:Z404) -> 0 | AQ404: Cedrasco | AR404: 014016
F405: =VLOOKUP(E405,[1]Label!$C$2:$D$1504,2,FALSE) -> #N/A | AB405: =IF(AND(OR(AC405=FALSE,AD405=FALSE),OR(COUNTBLANK(B405:E405)<>COLUMNS(B405:E405),COUNTBLANK(G405:AA405)<>COLUMNS(G405:AA405))),"KO","") | AC405: =IF(OR(ISBLANK(B405),ISBLANK(C405),ISBLANK(D405),ISBLANK(E405),ISBLANK(G405),ISBLANK(I405),ISBLANK(J405),ISBLANK(K405),ISBLANK(L405),ISBLANK(M405),ISBLANK(N405),ISBLANK(O405),ISBLANK(P405),ISBLANK(R405),ISBLANK(T405),ISBLANK(U405),ISBLANK(V405),ISBLANK(W405),ISBLANK(X405),ISBLANK(Y405),ISBLANK(Z405),ISBLANK(AA405)),FALSE,TRUE) -> FALSE | AD405: =IF((P405="Voucher"=NOT(ISBLANK(Q405))),TRUE,FALSE) -> TRUE | AE405: =IF(AND(AB405="KO",OR(COUNTBLANK(B405:E405)<>COLUMNS(B405:E405),COUNTBLANK(G405:AA405)<>COLUMNS(G405:AA405))),"ATTENZIONE!!! NON TUTTI I CAMPI OBBLIGATORI SONO STATI COMPILATI","") | AF405: =SUM(T405:Z405) -> 0 | AQ405: Cella Dati | AR405: 019028
F406: =VLOOKUP(E406,[1]Label!$C$2:$D$1504,2,FALSE) -> #N/A | AB406: =IF(AND(OR(AC406=FALSE,AD406=FALSE),OR(COUNTBLANK(B406:E406)<>COLUMNS(B406:E406),COUNTBLANK(G406:AA406)<>COLUMNS(G406:AA406))),"KO","") | AC406: =IF(OR(ISBLANK(B406),ISBLANK(C406),ISBLANK(D406),ISBLANK(E406),ISBLANK(G406),ISBLANK(I406),ISBLANK(J406),ISBLANK(K406),ISBLANK(L406),ISBLANK(M406),ISBLANK(N406),ISBLANK(O406),ISBLANK(P406),ISBLANK(R406),ISBLANK(T406),ISBLANK(U406),ISBLANK(V406),ISBLANK(W406),ISBLANK(X406),ISBLANK(Y406),ISBLANK(Z406),ISBLANK(AA406)),FALSE,TRUE) -> FALSE | AD406: =IF((P406="Voucher"=NOT(ISBLANK(Q406))),TRUE,FALSE) -> TRUE | AE406: =IF(AND(AB406="KO",OR(COUNTBLANK(B406:E406)<>COLUMNS(B406:E406),COUNTBLANK(G406:AA406)<>COLUMNS(G406:AA406))),"ATTENZIONE!!! NON TUTTI I CAMPI OBBLIGATORI SONO STATI COMPILATI","") | AF406: =SUM(T406:Z406) -> 0 | AQ406: Cellatica | AR406: 017048
F407: =VLOOKUP(E407,[1]Label!$C$2:$D$1504,2,FALSE) -> #N/A | AB407: =IF(AND(OR(AC407=FALSE,AD407=FALSE),OR(COUNTBLANK(B407:E407)<>COLUMNS(B407:E407),COUNTBLANK(G407:AA407)<>COLUMNS(G407:AA407))),"KO","") | AC407: =IF(OR(ISBLANK(B407),ISBLANK(C407),ISBLANK(D407),ISBLANK(E407),ISBLANK(G407),ISBLANK(I407),ISBLANK(J407),ISBLANK(K407),ISBLANK(L407),ISBLANK(M407),ISBLANK(N407),ISBLANK(O407),ISBLANK(P407),ISBLANK(R407),ISBLANK(T407),ISBLANK(U407),ISBLANK(V407),ISBLANK(W407),ISBLANK(X407),ISBLANK(Y407),ISBLANK(Z407),ISBLANK(AA407)),FALSE,TRUE) -> FALSE | AD407: =IF((P407="Voucher"=NOT(ISBLANK(Q407))),TRUE,FALSE) -> TRUE | AE407: =IF(AND(AB407="KO",OR(COUNTBLANK(B407:E407)<>COLUMNS(B407:E407),COUNTBLANK(G407:AA407)<>COLUMNS(G407:AA407))),"ATTENZIONE!!! NON TUTTI I CAMPI OBBLIGATORI SONO STATI COMPILATI","") | AF407: =SUM(T407:Z407) -> 0 | AQ407: Cenate Sopra | AR407: 016068
F408: =VLOOKUP(E408,[1]Label!$C$2:$D$1504,2,FALSE) -> #N/A | AB408: =IF(AND(OR(AC408=FALSE,AD408=FALSE),OR(COUNTBLANK(B408:E408)<>COLUMNS(B408:E408),COUNTBLANK(G408:AA408)<>COLUMNS(G408:AA408))),"KO","") | AC408: =IF(OR(ISBLANK(B408),ISBLANK(C408),ISBLANK(D408),ISBLANK(E408),ISBLANK(G408),ISBLANK(I408),ISBLANK(J408),ISBLANK(K408),ISBLANK(L408),ISBLANK(M408),ISBLANK(N408),ISBLANK(O408),ISBLANK(P408),ISBLANK(R408),ISBLANK(T408),ISBLANK(U408),ISBLANK(V408),ISBLANK(W408),ISBLANK(X408),ISBLANK(Y408),ISBLANK(Z408),ISBLANK(AA408)),FALSE,TRUE) -> FALSE | AD408: =IF((P408="Voucher"=NOT(ISBLANK(Q408))),TRUE,FALSE) -> TRUE | AE408: =IF(AND(AB408="KO",OR(COUNTBLANK(B408:E408)<>COLUMNS(B408:E408),COUNTBLANK(G408:AA408)<>COLUMNS(G408:AA408))),"ATTENZIONE!!! NON TUTTI I CAMPI OBBLIGATORI SONO STATI COMPILATI","") | AF408: =SUM(T408:Z408) -> 0 | AQ408: Cenate Sotto | AR408: 016069
F409: =VLOOKUP(E409,[1]Label!$C$2:$D$1504,2,FALSE) -> #N/A | AB409: =IF(AND(OR(AC409=FALSE,AD409=FALSE),OR(COUNTBLANK(B409:E409)<>COLUMNS(B409:E409),COUNTBLANK(G409:AA409)<>COLUMNS(G409:AA409))),"KO","") | AC409: =IF(OR(ISBLANK(B409),ISBLANK(C409),ISBLANK(D409),ISBLANK(E409),ISBLANK(G409),ISBLANK(I409),ISBLANK(J409),ISBLANK(K409),ISBLANK(L409),ISBLANK(M409),ISBLANK(N409),ISBLANK(O409),ISBLANK(P409),ISBLANK(R409),ISBLANK(T409),ISBLANK(U409),ISBLANK(V409),ISBLANK(W409),ISBLANK(X409),ISBLANK(Y409),ISBLANK(Z409),ISBLANK(AA409)),FALSE,TRUE) -> FALSE | AD409: =IF((P409="Voucher"=NOT(ISBLANK(Q409))),TRUE,FALSE) -> TRUE | AE409: =IF(AND(AB409="KO",OR(COUNTBLANK(B409:E409)<>COLUMNS(B409:E409),COUNTBLANK(G409:AA409)<>COLUMNS(G409:AA409))),"ATTENZIONE!!! NON TUTTI I CAMPI OBBLIGATORI SONO STATI COMPILATI","") | AF409: =SUM(T409:Z409) -> 0 | AQ409: Cene | AR409: 016070
F410: =VLOOKUP(E410,[1]Label!$C$2:$D$1504,2,FALSE) -> #N/A | AB410: =IF(AND(OR(AC410=FALSE,AD410=FALSE),OR(COUNTBLANK(B410:E410)<>COLUMNS(B410:E410),COUNTBLANK(G410:AA410)<>COLUMNS(G410:AA410))),"KO","") | AC410: =IF(OR(ISBLANK(B410),ISBLANK(C410),ISBLANK(D410),ISBLANK(E410),ISBLANK(G410),ISBLANK(I410),ISBLANK(J410),ISBLANK(K410),ISBLANK(L410),ISBLANK(M410),ISBLANK(N410),ISBLANK(O410),ISBLANK(P410),ISBLANK(R410),ISBLANK(T410),ISBLANK(U410),ISBLANK(V410),ISBLANK(W410),ISBLANK(X410),ISBLANK(Y410),ISBLANK(Z410),ISBLANK(AA410)),FALSE,TRUE) -> FALSE | AD410: =IF((P410="Voucher"=NOT(ISBLANK(Q410))),TRUE,FALSE) -> TRUE | AE410: =IF(AND(AB410="KO",OR(COUNTBLANK(B410:E410)<>COLUMNS(B410:E410),COUNTBLANK(G410:AA410)<>COLUMNS(G410:AA410))),"ATTENZIONE!!! NON TUTTI I CAMPI OBBLIGATORI SONO STATI COMPILATI","") | AF410: =SUM(T410:Z410) -> 0 | AQ410: Cerano d'Intelvi | AR410: 013063
F411: =VLOOKUP(E411,[1]Label!$C$2:$D$1504,2,FALSE) -> #N/A | AB411: =IF(AND(OR(AC411=FALSE,AD411=FALSE),OR(COUNTBLANK(B411:E411)<>COLUMNS(B411:E411),COUNTBLANK(G411:AA411)<>COLUMNS(G411:AA411))),"KO","") | AC411: =IF(OR(ISBLANK(B411),ISBLANK(C411),ISBLANK(D411),ISBLANK(E411),ISBLANK(G411),ISBLANK(I411),ISBLANK(J411),ISBLANK(K411),ISBLANK(L411),ISBLANK(M411),ISBLANK(N411),ISBLANK(O411),ISBLANK(P411),ISBLANK(R411),ISBLANK(T411),ISBLANK(U411),ISBLANK(V411),ISBLANK(W411),ISBLANK(X411),ISBLANK(Y411),ISBLANK(Z411),ISBLANK(AA411)),FALSE,TRUE) -> FALSE | AD411: =IF((P411="Voucher"=NOT(ISBLANK(Q411))),TRUE,FALSE) -> TRUE | AE411: =IF(AND(AB411="KO",OR(COUNTBLANK(B411:E411)<>COLUMNS(B411:E411),COUNTBLANK(G411:AA411)<>COLUMNS(G411:AA411))),"ATTENZIONE!!! NON TUTTI I CAMPI OBBLIGATORI SONO STATI COMPILATI","") | AF411: =SUM(T411:Z411) -> 0 | AQ411: Ceranova | AR411: 018043
... F997: =VLOOKUP(E997,[1]Label!$C$2:$D$1504,2,FALSE) -> #N/A | AB997: =IF(AND(OR(AC997=FALSE,AD997=FALSE),OR(COUNTBLANK(B997:E997)<>COLUMNS(B997:E997),COUNTBLANK(G997:AA997)<>COLUMNS(G997:AA997))),"KO","") | AC997: =IF(OR(ISBLANK(B997),ISBLANK(C997),ISBLANK(D997),ISBLANK(E997),ISBLANK(G997),ISBLANK(I997),ISBLANK(J997),ISBLANK(K997),ISBLANK(L997),ISBLANK(M997),ISBLANK(N997),ISBLANK(O997),ISBLANK(P997),ISBLANK(R997),ISBLANK(T997),ISBLANK(U997),ISBLANK(V997),ISBLANK(W997),ISBLANK(X997),ISBLANK(Y997),ISBLANK(Z997),ISBLANK(AA997)),FALSE,TRUE) -> FALSE | AD997: =IF((P997="Voucher"=NOT(ISBLANK(Q997))),TRUE,FALSE) -> TRUE | AE997: =IF(AND(AB997="KO",OR(COUNTBLANK(B997:E997)<>COLUMNS(B997:E997),COUNTBLANK(G997:AA997)<>COLUMNS(G997:AA997))),"ATTENZIONE!!! NON TUTTI I CAMPI OBBLIGATORI SONO STATI COMPILATI","") | AF997: =SUM(T997:Z997) -> 0 | AQ997: Paderno d'Adda | AR997: 097062
F998: =VLOOKUP(E998,[1]Label!$C$2:$D$1504,2,FALSE) -> #N/A | AB998: =IF(AND(OR(AC998=FALSE,AD998=FALSE),OR(COUNTBLANK(B998:E998)<>COLUMNS(B998:E998),COUNTBLANK(G998:AA998)<>COLUMNS(G998:AA998))),"KO","") | AC998: =IF(OR(ISBLANK(B998),ISBLANK(C998),ISBLANK(D998),ISBLANK(E998),ISBLANK(G998),ISBLANK(I998),ISBLANK(J998),ISBLANK(K998),ISBLANK(L998),ISBLANK(M998),ISBLANK(N998),ISBLANK(O998),ISBLANK(P998),ISBLANK(R998),ISBLANK(T998),ISBLANK(U998),ISBLANK(V998),ISBLANK(W998),ISBLANK(X998),ISBLANK(Y998),ISBLANK(Z998),ISBLANK(AA998)),FALSE,TRUE) -> FALSE | AD998: =IF((P998="Voucher"=NOT(ISBLANK(Q998))),TRUE,FALSE) -> TRUE | AE998: =IF(AND(AB998="KO",OR(COUNTBLANK(B998:E998)<>COLUMNS(B998:E998),COUNTBLANK(G998:AA998)<>COLUMNS(G998:AA998))),"ATTENZIONE!!! NON TUTTI I CAMPI OBBLIGATORI SONO STATI COMPILATI","") | AF998: =SUM(T998:Z998) -> 0
F999: =VLOOKUP(E999,[1]Label!$C$2:$D$1504,2,FALSE) -> #N/A | AB999: =IF(AND(OR(AC999=FALSE,AD999=FALSE),OR(COUNTBLANK(B999:E999)<>COLUMNS(B999:E999),COUNTBLANK(G999:AA999)<>COLUMNS(G999:AA999))),"KO","") | AC999: =IF(OR(ISBLANK(B999),ISBLANK(C999),ISBLANK(D999),ISBLANK(E999),ISBLANK(G999),ISBLANK(I999),ISBLANK(J999),ISBLANK(K999),ISBLANK(L999),ISBLANK(M999),ISBLANK(N999),ISBLANK(O999),ISBLANK(P999),ISBLANK(R999),ISBLANK(T999),ISBLANK(U999),ISBLANK(V999),ISBLANK(W999),ISBLANK(X999),ISBLANK(Y999),ISBLANK(Z999),ISBLANK(AA999)),FALSE,TRUE) -> FALSE | AD999: =IF((P999="Voucher"=NOT(ISBLANK(Q999))),TRUE,FALSE) -> TRUE | AE999: =IF(AND(AB999="KO",OR(COUNTBLANK(B999:E999)<>COLUMNS(B999:E999),COUNTBLANK(G999:AA999)<>COLUMNS(G999:AA999))),"ATTENZIONE!!! NON TUTTI I CAMPI OBBLIGATORI SONO STATI COMPILATI","") | AF999: =SUM(T999:Z999) -> 0
F1000: =VLOOKUP(E1000,[1]Label!$C$2:$D$1504,2,FALSE) -> #N/A | AB1000: =IF(AND(OR(AC1000=FALSE,AD1000=FALSE),OR(COUNTBLANK(B1000:E1000)<>COLUMNS(B1000:E1000),COUNTBLANK(G1000:AA1000)<>COLUMNS(G1000:AA1000))),"KO","") | AC1000: =IF(OR(ISBLANK(B1000),ISBLANK(C1000),ISBLANK(D1000),ISBLANK(E1000),ISBLANK(G1000),ISBLANK(I1000),ISBLANK(J1000),ISBLANK(K1000),ISBLANK(L1000),ISBLANK(M1000),ISBLANK(N1000),ISBLANK(O1000),ISBLANK(P1000),ISBLANK(R1000),ISBLANK(T1000),ISBLANK(U1000),ISBLANK(V1000),ISBLANK(W1000),ISBLANK(X1000),ISBLANK(Y1000),ISBLANK(Z1000),ISBLANK(AA1000)),FALSE,TRUE) -> FALSE | AD1000: =IF((P1000="Voucher"=NOT(ISBLANK(Q1000))),TRUE,FALSE) -> TRUE | AE1000: =IF(AND(AB1000="KO",OR(COUNTBLANK(B1000:E1000)<>COLUMNS(B1000:E1000),COUNTBLANK(G1000:AA1000)<>COLUMNS(G1000:AA1000))),"ATTENZIONE!!! NON TUTTI I CAMPI OBBLIGATORI SONO STATI COMPILATI","") | AF1000: =SUM(T1000:Z1000) -> 0
F1001: =VLOOKUP(E1001,[1]Label!$C$2:$D$1504,2,FALSE) -> #N/A | AB1001: =IF(AND(OR(AC1001=FALSE,AD1001=FALSE),OR(COUNTBLANK(B1001:E1001)<>COLUMNS(B1001:E1001),COUNTBLANK(G1001:AA1001)<>COLUMNS(G1001:AA1001))),"KO","") | AC1001: =IF(OR(ISBLANK(B1001),ISBLANK(C1001),ISBLANK(D1001),ISBLANK(E1001),ISBLANK(G1001),ISBLANK(I1001),ISBLANK(J1001),ISBLANK(K1001),ISBLANK(L1001),ISBLANK(M1001),ISBLANK(N1001),ISBLANK(O1001),ISBLANK(P1001),ISBLANK(R1001),ISBLANK(T1001),ISBLANK(U1001),ISBLANK(V1001),ISBLANK(W1001),ISBLANK(X1001),ISBLANK(Y1001),ISBLANK(Z1001),ISBLANK(AA1001)),FALSE,TRUE) -> FALSE | AD1001: =IF((P1001="Voucher"=NOT(ISBLANK(Q1001))),TRUE,FALSE) -> TRUE | AE1001: =IF(AND(AB1001="KO",OR(COUNTBLANK(B1001:E1001)<>COLUMNS(B1001:E1001),COUNTBLANK(G1001:AA1001)<>COLUMNS(G1001:AA1001))),"ATTENZIONE!!! NON TUTTI I CAMPI OBBLIGATORI SONO STATI COMPILATI","") | AF1001: =SUM(T1001:Z1001) -> 0
F1002: =VLOOKUP(E1002,[1]Label!$C$2:$D$1504,2,FALSE) -> #N/A | AB1002: =IF(AND(OR(AC1002=FALSE,AD1002=FALSE),OR(COUNTBLANK(B1002:E1002)<>COLUMNS(B1002:E1002),COUNTBLANK(G1002:AA1002)<>COLUMNS(G1002:AA1002))),"KO","") | AC1002: =IF(OR(ISBLANK(B1002),ISBLANK(C1002),ISBLANK(D1002),ISBLANK(E1002),ISBLANK(G1002),ISBLANK(I1002),ISBLANK(J1002),ISBLANK(K1002),ISBLANK(L1002),ISBLANK(M1002),ISBLANK(N1002),ISBLANK(O1002),ISBLANK(P1002),ISBLANK(R1002),ISBLANK(T1002),ISBLANK(U1002),ISBLANK(V1002),ISBLANK(W1002),ISBLANK(X1002),ISBLANK(Y1002),ISBLANK(Z1002),ISBLANK(AA1002)),FALSE,TRUE) -> FALSE | AD1002: =IF((P1002="Voucher"=NOT(ISBLANK(Q1002))),TRUE,FALSE) -> TRUE | AE1002: =IF(AND(AB1002="KO",OR(COUNTBLANK(B1002:E1002)<>COLUMNS(B1002:E1002),COUNTBLANK(G1002:AA1002)<>COLUMNS(G1002:AA1002))),"ATTENZIONE!!! NON TUTTI I CAMPI OBBLIGATORI SONO STATI COMPILATI","") | AF1002: =SUM(T1002:Z1002) -> 0
F1003: =VLOOKUP(E1003,[1]Label!$C$2:$D$1504,2,FALSE) -> #N/A | AB1003: =IF(AND(OR(AC1003=FALSE,AD1003=FALSE),OR(COUNTBLANK(B1003:E1003)<>COLUMNS(B1003:E1003),COUNTBLANK(G1003:AA1003)<>COLUMNS(G1003:AA1003))),"KO","") | AC1003: =IF(OR(ISBLANK(B1003),ISBLANK(C1003),ISBLANK(D1003),ISBLANK(E1003),ISBLANK(G1003),ISBLANK(I1003),ISBLANK(J1003),ISBLANK(K1003),ISBLANK(L1003),ISBLANK(M1003),ISBLANK(N1003),ISBLANK(O1003),ISBLANK(P1003),ISBLANK(R1003),ISBLANK(T1003),ISBLANK(U1003),ISBLANK(V1003),ISBLANK(W1003),ISBLANK(X1003),ISBLANK(Y1003),ISBLANK(Z1003),ISBLANK(AA1003)),FALSE,TRUE) -> FALSE | AD1003: =IF((P1003="Voucher"=NOT(ISBLANK(Q1003))),TRUE,FALSE) -> TRUE | AE1003: =IF(AND(AB1003="KO",OR(COUNTBLANK(B1003:E1003)<>COLUMNS(B1003:E1003),COUNTBLANK(G1003:AA1003)<>COLUMNS(G1003:AA1003))),"ATTENZIONE!!! NON TUTTI I CAMPI OBBLIGATORI SONO STATI COMPILATI","") | AF1003: =SUM(T1003:Z1003) -> 0
F1004: =VLOOKUP(E1004,[1]Label!$C$2:$D$1504,2,FALSE) -> #N/A | AB1004: =IF(AND(OR(AC1004=FALSE,AD1004=FALSE),OR(COUNTBLANK(B1004:E1004)<>COLUMNS(B1004:E1004),COUNTBLANK(G1004:AA1004)<>COLUMNS(G1004:AA1004))),"KO","") | AC1004: =IF(OR(ISBLANK(B1004),ISBLANK(C1004),ISBLANK(D1004),ISBLANK(E1004),ISBLANK(G1004),ISBLANK(I1004),ISBLANK(J1004),ISBLANK(K1004),ISBLANK(L1004),ISBLANK(M1004),ISBLANK(N1004),ISBLANK(O1004),ISBLANK(P1004),ISBLANK(R1004),ISBLANK(T1004),ISBLANK(U1004),ISBLANK(V1004),ISBLANK(W1004),ISBLANK(X1004),ISBLANK(Y1004),ISBLANK(Z1004),ISBLANK(AA1004)),FALSE,TRUE) -> FALSE | AD1004: =IF((P1004="Voucher"=NOT(ISBLANK(Q1004))),TRUE,FALSE) -> TRUE | AE1004: =IF(AND(AB1004="KO",OR(COUNTBLANK(B1004:E1004)<>COLUMNS(B1004:E1004),COUNTBLANK(G1004:AA1004)<>COLUMNS(G1004:AA1004))),"ATTENZIONE!!! NON TUTTI I CAMPI OBBLIGATORI SONO STATI COMPILATI","") | AF1004: =SUM(T1004:Z1004) -> 0
F1005: =VLOOKUP(E1005,[1]Label!$C$2:$D$1504,2,FALSE) -> #N/A | AB1005: =IF(AND(OR(AC1005=FALSE,AD1005=FALSE),OR(COUNTBLANK(B1005:E1005)<>COLUMNS(B1005:E1005),COUNTBLANK(G1005:AA1005)<>COLUMNS(G1005:AA1005))),"KO","") | AC1005: =IF(OR(ISBLANK(B1005),ISBLANK(C1005),ISBLANK(D1005),ISBLANK(E1005),ISBLANK(G1005),ISBLANK(I1005),ISBLANK(J1005),ISBLANK(K1005),ISBLANK(L1005),ISBLANK(M1005),ISBLANK(N1005),ISBLANK(O1005),ISBLANK(P1005),ISBLANK(R1005),ISBLANK(T1005),ISBLANK(U1005),ISBLANK(V1005),ISBLANK(W1005),ISBLANK(X1005),ISBLANK(Y1005),ISBLANK(Z1005),ISBLANK(AA1005)),FALSE,TRUE) -> FALSE | AD1005: =IF((P1005="Voucher"=NOT(ISBLANK(Q1005))),TRUE,FALSE) -> TRUE | AE1005: =IF(AND(AB1005="KO",OR(COUNTBLANK(B1005:E1005)<>COLUMNS(B1005:E1005),COUNTBLANK(G1005:AA1005)<>COLUMNS(G1005:AA1005))),"ATTENZIONE!!! NON TUTTI I CAMPI OBBLIGATORI SONO STATI COMPILATI","") | AF1005: =SUM(T1005:Z1005) -> 0
F1006: =VLOOKUP(E1006,[1]Label!$C$2:$D$1504,2,FALSE) -> #N/A | AB1006: =IF(AND(OR(AC1006=FALSE,AD1006=FALSE),OR(COUNTBLANK(B1006:E1006)<>COLUMNS(B1006:E1006),COUNTBLANK(G1006:AA1006)<>COLUMNS(G1006:AA1006))),"KO","") | AC1006: =IF(OR(ISBLANK(B1006),ISBLANK(C1006),ISBLANK(D1006),ISBLANK(E1006),ISBLANK(G1006),ISBLANK(I1006),ISBLANK(J1006),ISBLANK(K1006),ISBLANK(L1006),ISBLANK(M1006),ISBLANK(N1006),ISBLANK(O1006),ISBLANK(P1006),ISBLANK(R1006),ISBLANK(T1006),ISBLANK(U1006),ISBLANK(V1006),ISBLANK(W1006),ISBLANK(X1006),ISBLANK(Y1006),ISBLANK(Z1006),ISBLANK(AA1006)),FALSE,TRUE) -> FALSE | AD1006: =IF((P1006="Voucher"=NOT(ISBLANK(Q1006))),TRUE,FALSE) -> TRUE | AE1006: =IF(AND(AB1006="KO",OR(COUNTBLANK(B1006:E1006)<>COLUMNS(B1006:E1006),COUNTBLANK(G1006:AA1006)<>COLUMNS(G1006:AA1006))),"ATTENZIONE!!! NON TUTTI I CAMPI OBBLIGATORI SONO STATI COMPILATI","") | AF1006: =SUM(T1006:Z1006) -> 0
F1007: =VLOOKUP(E1007,[1]Label!$C$2:$D$1504,2,FALSE) -> #N/A | AB1007: =IF(AND(OR(AC1007=FALSE,AD1007=FALSE),OR(COUNTBLANK(B1007:E1007)<>COLUMNS(B1007:E1007),COUNTBLANK(G1007:AA1007)<>COLUMNS(G1007:AA1007))),"KO","") | AC1007: =IF(OR(ISBLANK(B1007),ISBLANK(C1007),ISBLANK(D1007),ISBLANK(E1007),ISBLANK(G1007),ISBLANK(I1007),ISBLANK(J1007),ISBLANK(K1007),ISBLANK(L1007),ISBLANK(M1007),ISBLANK(N1007),ISBLANK(O1007),ISBLANK(P1007),ISBLANK(R1007),ISBLANK(T1007),ISBLANK(U1007),ISBLANK(V1007),ISBLANK(W1007),ISBLANK(X1007),ISBLANK(Y1007),ISBLANK(Z1007),ISBLANK(AA1007)),FALSE,TRUE) -> FALSE | AD1007: =IF((P1007="Voucher"=NOT(ISBLANK(Q1007))),TRUE,FALSE) -> TRUE | AE1007: =IF(AND(AB1007="KO",OR(COUNTBLANK(B1007:E1007)<>COLUMNS(B1007:E1007),COUNTBLANK(G1007:AA1007)<>COLUMNS(G1007:AA1007))),"ATTENZIONE!!! NON TUTTI I CAMPI OBBLIGATORI SONO STATI COMPILATI","") | AF1007: =SUM(T1007:Z1007) -> 0
F1008: =VLOOKUP(E1008,[1]Label!$C$2:$D$1504,2,FALSE) -> #N/A | AB1008: =IF(AND(OR(AC1008=FALSE,AD1008=FALSE),OR(COUNTBLANK(B1008:E1008)<>COLUMNS(B1008:E1008),COUNTBLANK(G1008:AA1008)<>COLUMNS(G1008:AA1008))),"KO","") | AC1008: =IF(OR(ISBLANK(B1008),ISBLANK(C1008),ISBLANK(D1008),ISBLANK(E1008),ISBLANK(G1008),ISBLANK(I1008),ISBLANK(J1008),ISBLANK(K1008),ISBLANK(L1008),ISBLANK(M1008),ISBLANK(N1008),ISBLANK(O1008),ISBLANK(P1008),ISBLANK(R1008),ISBLANK(T1008),ISBLANK(U1008),ISBLANK(V1008),ISBLANK(W1008),ISBLANK(X1008),ISBLANK(Y1008),ISBLANK(Z1008),ISBLANK(AA1008)),FALSE,TRUE) -> FALSE | AD1008: =IF((P1008="Voucher"=NOT(ISBLANK(Q1008))),TRUE,FALSE) -> TRUE | AE1008: =IF(AND(AB1008="KO",OR(COUNTBLANK(B1008:E1008)<>COLUMNS(B1008:E1008),COUNTBLANK(G1008:AA1008)<>COLUMNS(G1008:AA1008))),"ATTENZIONE!!! NON TUTTI I CAMPI OBBLIGATORI SONO STATI COMPILATI","") | AF1008: =SUM(T1008:Z1008) -> 0
F1009: =VLOOKUP(E1009,[1]Label!$C$2:$D$1504,2,FALSE) -> #N/A | AB1009: =IF(AND(OR(AC1009=FALSE,AD1009=FALSE),OR(COUNTBLANK(B1009:E1009)<>COLUMNS(B1009:E1009),COUNTBLANK(G1009:AA1009)<>COLUMNS(G1009:AA1009))),"KO","") | AC1009: =IF(OR(ISBLANK(B1009),ISBLANK(C1009),ISBLANK(D1009),ISBLANK(E1009),ISBLANK(G1009),ISBLANK(I1009),ISBLANK(J1009),ISBLANK(K1009),ISBLANK(L1009),ISBLANK(M1009),ISBLANK(N1009),ISBLANK(O1009),ISBLANK(P1009),ISBLANK(R1009),ISBLANK(T1009),ISBLANK(U1009),ISBLANK(V1009),ISBLANK(W1009),ISBLANK(X1009),ISBLANK(Y1009),ISBLANK(Z1009),ISBLANK(AA1009)),FALSE,TRUE) -> FALSE | AD1009: =IF((P1009="Voucher"=NOT(ISBLANK(Q1009))),TRUE,FALSE) -> TRUE | AE1009: =IF(AND(AB1009="KO",OR(COUNTBLANK(B1009:E1009)<>COLUMNS(B1009:E1009),COUNTBLANK(G1009:AA1009)<>COLUMNS(G1009:AA1009))),"ATTENZIONE!!! NON TUTTI I CAMPI OBBLIGATORI SONO STATI COMPILATI","") | AF1009: =SUM(T1009:Z1009) -> 0
... F1497: =VLOOKUP(E1497,[1]Label!$C$2:$D$1504,2,FALSE) -> #N/A | AB1497: =IF(AND(OR(AC1497=FALSE,AD1497=FALSE),OR(COUNTBLANK(B1497:E1497)<>COLUMNS(B1497:E1497),COUNTBLANK(G1497:AA1497)<>COLUMNS(G1497:AA1497))),"KO","") | AC1497: =IF(OR(ISBLANK(B1497),ISBLANK(C1497),ISBLANK(D1497),ISBLANK(E1497),ISBLANK(G1497),ISBLANK(I1497),ISBLANK(J1497),ISBLANK(K1497),ISBLANK(L1497),ISBLANK(M1497),ISBLANK(N1497),ISBLANK(O1497),ISBLANK(P1497),ISBLANK(R1497),ISBLANK(T1497),ISBLANK(U1497),ISBLANK(V1497),ISBLANK(W1497),ISBLANK(X1497),ISBLANK(Y1497),ISBLANK(Z1497),ISBLANK(AA1497)),FALSE,TRUE) -> FALSE | AD1497: =IF((P1497="Voucher"=NOT(ISBLANK(Q1497))),TRUE,FALSE) -> TRUE | AE1497: =IF(AND(AB1497="KO",OR(COUNTBLANK(B1497:E1497)<>COLUMNS(B1497:E1497),COUNTBLANK(G1497:AA1497)<>COLUMNS(G1497:AA1497))),"ATTENZIONE!!! NON TUTTI I CAMPI OBBLIGATORI SONO STATI COMPILATI","") | AF1497: =SUM(T1497:Z1497) -> 0
F1498: =VLOOKUP(E1498,[1]Label!$C$2:$D$1504,2,FALSE) -> #N/A | AB1498: =IF(AND(OR(AC1498=FALSE,AD1498=FALSE),OR(COUNTBLANK(B1498:E1498)<>COLUMNS(B1498:E1498),COUNTBLANK(G1498:AA1498)<>COLUMNS(G1498:AA1498))),"KO","") | AC1498: =IF(OR(ISBLANK(B1498),ISBLANK(C1498),ISBLANK(D1498),ISBLANK(E1498),ISBLANK(G1498),ISBLANK(I1498),ISBLANK(J1498),ISBLANK(K1498),ISBLANK(L1498),ISBLANK(M1498),ISBLANK(N1498),ISBLANK(O1498),ISBLANK(P1498),ISBLANK(R1498),ISBLANK(T1498),ISBLANK(U1498),ISBLANK(V1498),ISBLANK(W1498),ISBLANK(X1498),ISBLANK(Y1498),ISBLANK(Z1498),ISBLANK(AA1498)),FALSE,TRUE) -> FALSE | AD1498: =IF((P1498="Voucher"=NOT(ISBLANK(Q1498))),TRUE,FALSE) -> TRUE | AE1498: =IF(AND(AB1498="KO",OR(COUNTBLANK(B1498:E1498)<>COLUMNS(B1498:E1498),COUNTBLANK(G1498:AA1498)<>COLUMNS(G1498:AA1498))),"ATTENZIONE!!! NON TUTTI I CAMPI OBBLIGATORI SONO STATI COMPILATI","") | AF1498: =SUM(T1498:Z1498) -> 0 | AQ1498: Paderno Dugnano | AR1498: 015166
F1499: =VLOOKUP(E1499,[1]Label!$C$2:$D$1504,2,FALSE) -> #N/A | AB1499: =IF(AND(OR(AC1499=FALSE,AD1499=FALSE),OR(COUNTBLANK(B1499:E1499)<>COLUMNS(B1499:E1499),COUNTBLANK(G1499:AA1499)<>COLUMNS(G1499:AA1499))),"KO","") | AC1499: =IF(OR(ISBLANK(B1499),ISBLANK(C1499),ISBLANK(D1499),ISBLANK(E1499),ISBLANK(G1499),ISBLANK(I1499),ISBLANK(J1499),ISBLANK(K1499),ISBLANK(L1499),ISBLANK(M1499),ISBLANK(N1499),ISBLANK(O1499),ISBLANK(P1499),ISBLANK(R1499),ISBLANK(T1499),ISBLANK(U1499),ISBLANK(V1499),ISBLANK(W1499),ISBLANK(X1499),ISBLANK(Y1499),ISBLANK(Z1499),ISBLANK(AA1499)),FALSE,TRUE) -> FALSE | AD1499: =IF((P1499="Voucher"=NOT(ISBLANK(Q1499))),TRUE,FALSE) -> TRUE | AE1499: =IF(AND(AB1499="KO",OR(COUNTBLANK(B1499:E1499)<>COLUMNS(B1499:E1499),COUNTBLANK(G1499:AA1499)<>COLUMNS(G1499:AA1499))),"ATTENZIONE!!! NON TUTTI I CAMPI OBBLIGATORI SONO STATI COMPILATI","") | AF1499: =SUM(T1499:Z1499) -> 0 | AQ1499: Paderno Franciacorta | AR1499: 017130
F1500: =VLOOKUP(E1500,[1]Label!$C$2:$D$1504,2,FALSE) -> #N/A | AB1500: =IF(AND(OR(AC1500=FALSE,AD1500=FALSE),OR(COUNTBLANK(B1500:E1500)<>COLUMNS(B1500:E1500),COUNTBLANK(G1500:AA1500)<>COLUMNS(G1500:AA1500))),"KO","") | AC1500: =IF(OR(ISBLANK(B1500),ISBLANK(C1500),ISBLANK(D1500),ISBLANK(E1500),ISBLANK(G1500),ISBLANK(I1500),ISBLANK(J1500),ISBLANK(K1500),ISBLANK(L1500),ISBLANK(M1500),ISBLANK(N1500),ISBLANK(O1500),ISBLANK(P1500),ISBLANK(R1500),ISBLANK(T1500),ISBLANK(U1500),ISBLANK(V1500),ISBLANK(W1500),ISBLANK(X1500),ISBLANK(Y1500),ISBLANK(Z1500),ISBLANK(AA1500)),FALSE,TRUE) -> FALSE | AD1500: =IF((P1500="Voucher"=NOT(ISBLANK(Q1500))),TRUE,FALSE) -> TRUE | AE1500: =IF(AND(AB1500="KO",OR(COUNTBLANK(B1500:E1500)<>COLUMNS(B1500:E1500),COUNTBLANK(G1500:AA1500)<>COLUMNS(G1500:AA1500))),"ATTENZIONE!!! NON TUTTI I CAMPI OBBLIGATORI SONO STATI COMPILATI","") | AF1500: =SUM(T1500:Z1500) -> 0 | AQ1500: Paderno Ponchielli | AR1500: 019065
F1501: =VLOOKUP(E1501,[1]Label!$C$2:$D$1504,2,FALSE) -> #N/A | AB1501: =IF(AND(OR(AC1501=FALSE,AD1501=FALSE),OR(COUNTBLANK(B1501:E1501)<>COLUMNS(B1501:E1501),COUNTBLANK(G1501:AA1501)<>COLUMNS(G1501:AA1501))),"KO","") | AC1501: =IF(OR(ISBLANK(B1501),ISBLANK(C1501),ISBLANK(D1501),ISBLANK(E1501),ISBLANK(G1501),ISBLANK(I1501),ISBLANK(J1501),ISBLANK(K1501),ISBLANK(L1501),ISBLANK(M1501),ISBLANK(N1501),ISBLANK(O1501),ISBLANK(P1501),ISBLANK(R1501),ISBLANK(T1501),ISBLANK(U1501),ISBLANK(V1501),ISBLANK(W1501),ISBLANK(X1501),ISBLANK(Y1501),ISBLANK(Z1501),ISBLANK(AA1501)),FALSE,TRUE) -> FALSE | AD1501: =IF((P1501="Voucher"=NOT(ISBLANK(Q1501))),TRUE,FALSE) -> TRUE | AE1501: =IF(AND(AB1501="KO",OR(COUNTBLANK(B1501:E1501)<>COLUMNS(B1501:E1501),COUNTBLANK(G1501:AA1501)<>COLUMNS(G1501:AA1501))),"ATTENZIONE!!! NON TUTTI I CAMPI OBBLIGATORI SONO STATI COMPILATI","") | AF1501: =SUM(T1501:Z1501) -> 0 | AQ1501: Pagazzano | AR1501: 016154
F1502: =VLOOKUP(E1502,[1]Label!$C$2:$D$1504,2,FALSE) -> #N/A | AB1502: =IF(AND(OR(AC1502=FALSE,AD1502=FALSE),OR(COUNTBLANK(B1502:E1502)<>COLUMNS(B1502:E1502),COUNTBLANK(G1502:AA1502)<>COLUMNS(G1502:AA1502))),"KO","") | AC1502: =IF(OR(ISBLANK(B1502),ISBLANK(C1502),ISBLANK(D1502),ISBLANK(E1502),ISBLANK(G1502),ISBLANK(I1502),ISBLANK(J1502),ISBLANK(K1502),ISBLANK(L1502),ISBLANK(M1502),ISBLANK(N1502),ISBLANK(O1502),ISBLANK(P1502),ISBLANK(R1502),ISBLANK(T1502),ISBLANK(U1502),ISBLANK(V1502),ISBLANK(W1502),ISBLANK(X1502),ISBLANK(Y1502),ISBLANK(Z1502),ISBLANK(AA1502)),FALSE,TRUE) -> FALSE | AD1502: =IF((P1502="Voucher"=NOT(ISBLANK(Q1502))),TRUE,FALSE) -> TRUE | AE1502: =IF(AND(AB1502="KO",OR(COUNTBLANK(B1502:E1502)<>COLUMNS(B1502:E1502),COUNTBLANK(G1502:AA1502)<>COLUMNS(G1502:AA1502))),"ATTENZIONE!!! NON TUTTI I CAMPI OBBLIGATORI SONO STATI COMPILATI","") | AF1502: =SUM(T1502:Z1502) -> 0 | AQ1502: Pagnona | AR1502: 097063
F1503: =VLOOKUP(E1503,[1]Label!$C$2:$D$1504,2,FALSE) -> #N/A | AB1503: =IF(AND(OR(AC1503=FALSE,AD1503=FALSE),OR(COUNTBLANK(B1503:E1503)<>COLUMNS(B1503:E1503),COUNTBLANK(G1503:AA1503)<>COLUMNS(G1503:AA1503))),"KO","") | AC1503: =IF(OR(ISBLANK(B1503),ISBLANK(C1503),ISBLANK(D1503),ISBLANK(E1503),ISBLANK(G1503),ISBLANK(I1503),ISBLANK(J1503),ISBLANK(K1503),ISBLANK(L1503),ISBLANK(M1503),ISBLANK(N1503),ISBLANK(O1503),ISBLANK(P1503),ISBLANK(R1503),ISBLANK(T1503),ISBLANK(U1503),ISBLANK(V1503),ISBLANK(W1503),ISBLANK(X1503),ISBLANK(Y1503),ISBLANK(Z1503),ISBLANK(AA1503)),FALSE,TRUE) -> FALSE | AD1503: =IF((P1503="Voucher"=NOT(ISBLANK(Q1503))),TRUE,FALSE) -> TRUE | AE1503: =IF(AND(AB1503="KO",OR(COUNTBLANK(B1503:E1503)<>COLUMNS(B1503:E1503),COUNTBLANK(G1503:AA1503)<>COLUMNS(G1503:AA1503))),"ATTENZIONE!!! NON TUTTI I CAMPI OBBLIGATORI SONO STATI COMPILATI","") | AF1503: =SUM(T1503:Z1503) -> 0 | AQ1503: Paisco Loveno | AR1503: 017131
F1504: =VLOOKUP(E1504,[1]Label!$C$2:$D$1504,2,FALSE) -> #N/A | AB1504: =IF(AND(OR(AC1504=FALSE,AD1504=FALSE),OR(COUNTBLANK(B1504:E1504)<>COLUMNS(B1504:E1504),COUNTBLANK(G1504:AA1504)<>COLUMNS(G1504:AA1504))),"KO","") | AC1504: =IF(OR(ISBLANK(B1504),ISBLANK(C1504),ISBLANK(D1504),ISBLANK(E1504),ISBLANK(G1504),ISBLANK(I1504),ISBLANK(J1504),ISBLANK(K1504),ISBLANK(L1504),ISBLANK(M1504),ISBLANK(N1504),ISBLANK(O1504),ISBLANK(P1504),ISBLANK(R1504),ISBLANK(T1504),ISBLANK(U1504),ISBLANK(V1504),ISBLANK(W1504),ISBLANK(X1504),ISBLANK(Y1504),ISBLANK(Z1504),ISBLANK(AA1504)),FALSE,TRUE) -> FALSE | AD1504: =IF((P1504="Voucher"=NOT(ISBLANK(Q1504))),TRUE,FALSE) -> TRUE | AE1504: =IF(AND(AB1504="KO",OR(COUNTBLANK(B1504:E1504)<>COLUMNS(B1504:E1504),COUNTBLANK(G1504:AA1504)<>COLUMNS(G1504:AA1504))),"ATTENZIONE!!! NON TUTTI I CAMPI OBBLIGATORI SONO STATI COMPILATI","") | AF1504: =SUM(T1504:Z1504) -> 0 | AQ1504: Paitone | AR1504: 017132
F1505: =VLOOKUP(E1505,[1]Label!$C$2:$D$1504,2,FALSE) -> #N/A | AB1505: =IF(AND(OR(AC1505=FALSE,AD1505=FALSE),OR(COUNTBLANK(B1505:E1505)<>COLUMNS(B1505:E1505),COUNTBLANK(G1505:AA1505)<>COLUMNS(G1505:AA1505))),"KO","") | AC1505: =IF(OR(ISBLANK(B1505),ISBLANK(C1505),ISBLANK(D1505),ISBLANK(E1505),ISBLANK(G1505),ISBLANK(I1505),ISBLANK(J1505),ISBLANK(K1505),ISBLANK(L1505),ISBLANK(M1505),ISBLANK(N1505),ISBLANK(O1505),ISBLANK(P1505),ISBLANK(R1505),ISBLANK(T1505),ISBLANK(U1505),ISBLANK(V1505),ISBLANK(W1505),ISBLANK(X1505),ISBLANK(Y1505),ISBLANK(Z1505),ISBLANK(AA1505)),FALSE,TRUE) -> FALSE | AD1505: =IF((P1505="Voucher"=NOT(ISBLANK(Q1505))),TRUE,FALSE) -> TRUE | AE1505: =IF(AND(AB1505="KO",OR(COUNTBLANK(B1505:E1505)<>COLUMNS(B1505:E1505),COUNTBLANK(G1505:AA1505)<>COLUMNS(G1505:AA1505))),"ATTENZIONE!!! NON TUTTI I CAMPI OBBLIGATORI SONO STATI COMPILATI","") | AF1505: =SUM(T1505:Z1505) -> 0 | AQ1505: Paladina | AR1505: 016155
F1506: =VLOOKUP(E1506,[1]Label!$C$2:$D$1504,2,FALSE) -> #N/A | AB1506: =IF(AND(OR(AC1506=FALSE,AD1506=FALSE),OR(COUNTBLANK(B1506:E1506)<>COLUMNS(B1506:E1506),COUNTBLANK(G1506:AA1506)<>COLUMNS(G1506:AA1506))),"KO","") | AC1506: =IF(OR(ISBLANK(B1506),ISBLANK(C1506),ISBLANK(D1506),ISBLANK(E1506),ISBLANK(G1506),ISBLANK(I1506),ISBLANK(J1506),ISBLANK(K1506),ISBLANK(L1506),ISBLANK(M1506),ISBLANK(N1506),ISBLANK(O1506),ISBLANK(P1506),ISBLANK(R1506),ISBLANK(T1506),ISBLANK(U1506),ISBLANK(V1506),ISBLANK(W1506),ISBLANK(X1506),ISBLANK(Y1506),ISBLANK(Z1506),ISBLANK(AA1506)),FALSE,TRUE) -> FALSE | AD1506: =IF((P1506="Voucher"=NOT(ISBLANK(Q1506))),TRUE,FALSE) -> TRUE | AE1506: =IF(AND(AB1506="KO",OR(COUNTBLANK(B1506:E1506)<>COLUMNS(B1506:E1506),COUNTBLANK(G1506:AA1506)<>COLUMNS(G1506:AA1506))),"ATTENZIONE!!! NON TUTTI I CAMPI OBBLIGATORI SONO STATI COMPILATI","") | AF1506: =SUM(T1506:Z1506) -> 0 | AQ1506: Palazzago | AR1506: 016156
F1507: =VLOOKUP(E1507,[1]Label!$C$2:$D$1504,2,FALSE) -> #N/A | AB1507: =IF(AND(OR(AC1507=FALSE,AD1507=FALSE),OR(COUNTBLANK(B1507:E1507)<>COLUMNS(B1507:E1507),COUNTBLANK(G1507:AA1507)<>COLUMNS(G1507:AA1507))),"KO","") | AC1507: =IF(OR(ISBLANK(B1507),ISBLANK(C1507),ISBLANK(D1507),ISBLANK(E1507),ISBLANK(G1507),ISBLANK(I1507),ISBLANK(J1507),ISBLANK(K1507),ISBLANK(L1507),ISBLANK(M1507),ISBLANK(N1507),ISBLANK(O1507),ISBLANK(P1507),ISBLANK(R1507),ISBLANK(T1507),ISBLANK(U1507),ISBLANK(V1507),ISBLANK(W1507),ISBLANK(X1507),ISBLANK(Y1507),ISBLANK(Z1507),ISBLANK(AA1507)),FALSE,TRUE) -> FALSE | AD1507: =IF((P1507="Voucher"=NOT(ISBLANK(Q1507))),TRUE,FALSE) -> TRUE | AE1507: =IF(AND(AB1507="KO",OR(COUNTBLANK(B1507:E1507)<>COLUMNS(B1507:E1507),COUNTBLANK(G1507:AA1507)<>COLUMNS(G1507:AA1507))),"ATTENZIONE!!! NON TUTTI I CAMPI OBBLIGATORI SONO STATI COMPILATI","") | AF1507: =SUM(T1507:Z1507) -> 0 | AQ1507: Palazzo Pignano | AR1507: 019066
F1508: =VLOOKUP(E1508,[1]Label!$C$2:$D$1504,2,FALSE) -> #N/A | AB1508: =IF(AND(OR(AC1508=FALSE,AD1508=FALSE),OR(COUNTBLANK(B1508:E1508)<>COLUMNS(B1508:E1508),COUNTBLANK(G1508:AA1508)<>COLUMNS(G1508:AA1508))),"KO","") | AC1508: =IF(OR(ISBLANK(B1508),ISBLANK(C1508),ISBLANK(D1508),ISBLANK(E1508),ISBLANK(G1508),ISBLANK(I1508),ISBLANK(J1508),ISBLANK(K1508),ISBLANK(L1508),ISBLANK(M1508),ISBLANK(N1508),ISBLANK(O1508),ISBLANK(P1508),ISBLANK(R1508),ISBLANK(T1508),ISBLANK(U1508),ISBLANK(V1508),ISBLANK(W1508),ISBLANK(X1508),ISBLANK(Y1508),ISBLANK(Z1508),ISBLANK(AA1508)),FALSE,TRUE) -> FALSE | AD1508: =IF((P1508="Voucher"=NOT(ISBLANK(Q1508))),TRUE,FALSE) -> TRUE | AE1508: =IF(AND(AB1508="KO",OR(COUNTBLANK(B1508:E1508)<>COLUMNS(B1508:E1508),COUNTBLANK(G1508:AA1508)<>COLUMNS(G1508:AA1508))),"ATTENZIONE!!! NON TUTTI I CAMPI OBBLIGATORI SONO STATI COMPILATI","") | AF1508: =SUM(T1508:Z1508) -> 0 | AQ1508: Palazzolo sull'Oglio | AR1508: 017133
F1509: =VLOOKUP(E1509,[1]Label!$C$2:$D$1504,2,FALSE) -> #N/A | AB1509: =IF(AND(OR(AC1509=FALSE,AD1509=FALSE),OR(COUNTBLANK(B1509:E1509)<>COLUMNS(B1509:E1509),COUNTBLANK(G1509:AA1509)<>COLUMNS(G1509:AA1509))),"KO","") | AC1509: =IF(OR(ISBLANK(B1509),ISBLANK(C1509),ISBLANK(D1509),ISBLANK(E1509),ISBLANK(G1509),ISBLANK(I1509),ISBLANK(J1509),ISBLANK(K1509),ISBLANK(L1509),ISBLANK(M1509),ISBLANK(N1509),ISBLANK(O1509),ISBLANK(P1509),ISBLANK(R1509),ISBLANK(T1509),ISBLANK(U1509),ISBLANK(V1509),ISBLANK(W1509),ISBLANK(X1509),ISBLANK(Y1509),ISBLANK(Z1509),ISBLANK(AA1509)),FALSE,TRUE) -> FALSE | AD1509: =IF((P1509="Voucher"=NOT(ISBLANK(Q1509))),TRUE,FALSE) -> TRUE | AE1509: =IF(AND(AB1509="KO",OR(COUNTBLANK(B1509:E1509)<>COLUMNS(B1509:E1509),COUNTBLANK(G1509:AA1509)<>COLUMNS(G1509:AA1509))),"ATTENZIONE!!! NON TUTTI I CAMPI OBBLIGATORI SONO STATI COMPILATI","") | AF1509: =SUM(T1509:Z1509) -> 0 | AQ1509: Palestro | AR1509: 018107
... F1600: =VLOOKUP(E1600,[1]Label!$C$2:$D$1504,2,FALSE) -> #N/A | AB1600: =IF(AND(OR(AC1600=FALSE,AD1600=FALSE),OR(COUNTBLANK(B1600:E1600)<>COLUMNS(B1600:E1600),COUNTBLANK(G1600:AA1600)<>COLUMNS(G1600:AA1600))),"KO","") | AC1600: =IF(OR(ISBLANK(B1600),ISBLANK(C1600),ISBLANK(D1600),ISBLANK(E1600),ISBLANK(G1600),ISBLANK(I1600),ISBLANK(J1600),ISBLANK(K1600),ISBLANK(L1600),ISBLANK(M1600),ISBLANK(N1600),ISBLANK(O1600),ISBLANK(P1600),ISBLANK(R1600),ISBLANK(T1600),ISBLANK(U1600),ISBLANK(V1600),ISBLANK(W1600),ISBLANK(X1600),ISBLANK(Y1600),ISBLANK(Z1600),ISBLANK(AA1600)),FALSE,TRUE) -> FALSE | AD1600: =IF((P1600="Voucher"=NOT(ISBLANK(Q1600))),TRUE,FALSE) -> TRUE | AE1600: =IF(AND(AB1600="KO",OR(COUNTBLANK(B1600:E1600)<>COLUMNS(B1600:E1600),COUNTBLANK(G1600:AA1600)<>COLUMNS(G1600:AA1600))),"ATTENZIONE!!! NON TUTTI I CAMPI OBBLIGATORI SONO STATI COMPILATI","") | AF1600: =SUM(T1600:Z1600) -> 0 | AQ1600: Porlezza | AR1600: 013189
AQ1601: Portalbera | AR1601: 018118
AQ1602: Porto Ceresio | AR1602: 012113
AQ1603: Porto Mantovano | AR1603: 020045
AQ1604: Porto Valtravaglia | AR1604: 012114
AQ1605: Postalesio | AR1605: 014053
AQ1606: Pozzaglio ed Uniti | AR1606: 019077
AQ1607: Pozzo d'Adda | AR1607: 015177
AQ1608: Pozzolengo | AR1608: 017151
AQ1609: Pozzuolo Martesana | AR1609: 015178
AQ1610: Pradalunga | AR1610: 016173
AQ1611: Pralboino | AR1611: 017152
AQ1612: Prata Camportaccio | AR1612: 014054
... AQ2052: Zone | AR2052: 017205

Sheet Riepilogo Dati Economici 
A1: Anno di rendicontazione | B1: =[1]Ente_gestore!B1 -> 2025
A2: Denominazione Ambito | B2: =[1]Ente_gestore!B2 -> Cremona
A3: Denominazione Ente gestore | B3: =SAD_SADH!C3 -> Comune di
A4: Tipologia UdO | B4: RIEPILOGO DATI ECONOMICI
A7: Servizi Domiciliari - Rendicontazione Economico-finanziaria
B9: =B12+B13+B14 -> 0 | C9: =C12+C13+C14 -> 0 | D9: =D12+D13+D14 -> 0 | E9: =E12+E13+E14 -> 0 | F9: =F12+F13+F14 -> 0 | G9: =G12+G13+G14 -> 0 | H9: =H12+H13+H14 -> 0
A10: Tipologia del Servizio | B10: COLONNA A TOTALE COSTO DEL SERVIZIO - (per fare apparire il totale di spesa è necessario compilare la colonna A del foglio SAD/SADH) | C10: Voci a copertura dei costi della UdO nel periodo di rendicontazione | H10: PROVA
A11: UdO | C11: COLONNA B QUOTA A BILANCIO DEL COMUNE | D11: COLONNA C QUOTA RETTE DA UTENZA | E11: COLONNA D Contributi da altri Enti Pubblici (Comuni, Comunità Montane, Unione Comuni, Provincie, Aziende Speciali, Aziende Consortili, ecc..) | F11: COLONNA E Quota complementare trasferita da Azienda Sociale Cremonese a valere su FSR 2025 | G11: COLONNA F Altre tipologie di voci di entrata | H11: PROVA
A12: SAD | B12: =SUMIFS(SAD_SADH!R105:R719,SAD_SADH!A105:A719,SAD_SADH!A5) -> 0 | C12: 0 | D12: 0 | E12: 0 | F12: 0 | G12: 0 | H12: =B12-C12-D12-E12-F12-G12 -> 0
A13: SADH | B13: =SUMIFS(SAD_SADH!R105:R720,SAD_SADH!A105:A720,SAD_SADH!A6) -> 0 | C13: 0 | D13: 0 | E13: 0 | F13: 0 | G13: 0 | H13: =B13-C13-D13-E13-F13-G13 -> 0
A14: ADM | B14: =SUM(ADM!Q105:Q500) -> 0 | C14: 0 | D14: 0 | E14: 0 | F14: 0 | G14: 0 | H14: =B14-C14-D14-E14-F14-G14 -> 0
A18: NOTE PER COMPILAZIONE COLONNE | B18: CALCOLO AUTOMATICO Il totale costo per SAD e per SADH deve corrispondere al TOTALE COSTO DEL SERVIZIO del precedente foglio excel (avendo cura di scorporare SAD e SADH). Il totale costo per ADM è corrispondente al TOTALE COSTO SERVIZIO del precedente foglio ADM | C18: CALCOLO AUTOMATICO La quota a carico del Comune è data dalla DIFFERENZA tra la COLONNA A e le COLONNE C, D, E, F | D18: Indicare quanto introitato dall’utenza del servizio | E18: Indicare eventuali contributi economici da altri Enti Pubblici (NON inserire voci di quote pervenute da Azienda Sociale Cremonese) | F18: A CURA DI AZIENDA SOCIALE CREMONESE | G18: Indicare eventuali altre tipologie di Entrata che non rientrino nelle voci predefinite | H18: Il valore di questo campo deve corripondere a zero
