Workbook
Name Comuni: [1]Label!$C$2:$C$1504
Name Data_fine_periodo: [1]Foglio1!$J$3
Name Famigliare: [1]Label!$T$2:$T$4
Name Genere: [1]Label!$J$2:$J$3
Name GestioneSAD: [1]Label!$G$2:$G$4
Name Prestazione: [1]Label!$U$2:$U$9
Name PrestazioneADM: [1]Label!$V$2:$V$13
Name ValoriAssoluti: [1]Label!$I$2:$I$3

Sheet SAD_SADH
B1: Anno di rendicontazione | C1: =[1]Ente_gestore!B1 -> 2025 | BA1: SAD
B2: Denominazione Ambito | C2: =[1]Ente_gestore!B2 -> Cremona | BA2: SADH
B3: Denominazione Ente gestore | C3: Comune di
B4: Tipologia UdO | C4: SAD-SADH | D4: Servizio di Assistenza Domiciliare | R4: =SUM(R105:R4100) -> 0 | U4: =SUM(U105:U4100) -> 0 | V4: =SUM(V105:V4100) -> 0 | W4: =SUM(W105:W4100) -> 0 | X4: =SUM(X105:X4100) -> 0 | Y4: =SUM(Y105:Y4100) -> 0 | Z4: =SUM(Z105:Z4100) -> 0 | AA4: =SUM(AA105:AA4100) -> 0 | AB4: =SUM(AB105:AB4100) -> 0
A5: SAD | B5: Dati anagrafici utente | H5: Periodo di erogazione del servizio | J5: Specifiche utenza | O5: Integrazione con altri servizi | Q5: Tipologia del Servizio | S5: Tipologia prestazioni erogate | U5: Numero Accessi/ore Personale
A6: SADH | B6: Cognome e Nome Beneficiario | C6: Codice individuale utente | D6: Data di nascita utente | E6: Genere utente | F6: Denominazione Comune di residenza utente | G6: Codice ISTAT Comune di residenza utente (in automatico) | H6: Data inizio presa in carico | I6: Data fine presa in carico | J6: Utente disabile | K6: Invalidità riconosciuta | L6: Utente psichiatrico (in carico ai servizi) | M6: Condizione familiare | N6: Presenza Caregiver | O6: Già in carico presso Servizi Sociosanitari | P6: Già in carico presso Servizi Sanitari | Q6: Tipologia di gestione del servizio | R6: Valore complessivo del Voucher utilizzato dall'utente durante il periodo rendicontato | S6: Prestazione prevalente | T6: Eventuale prestazione secondaria | U6: Numero totale Accessi ASA/OSS annuali | V6: Numero totale Ore ASA/OSS annuali | W6: Numero Accessi Educatori o figure equipollenti | X6: Numero totale Ore Educatori o figure equipollenti | Y6: Numero Accessi Personale non qualificato | Z6: Numero totale ore Personale non qualificato | AA6: Numero Accessi Personale Volontario | AB6: Numero Ore Personale Volontario
C7: XXXXXXXXXXXXXXXX | D7: 44194 | E7: XXXXXXX | F7: XXXXXXXXXXXXXXXXXXXXXXXXXXXXXXXXXXXXXXXXXXXXXXXXXX | G7: XXXXXXXX | H7: 44195 | I7: 44196 | J7: XX | K7: XX | L7: XX | M7: XXXXXXXXXXX | N7: XX | O7: XX | P7: XX | Q7: XXXXXXXXXXXXXXXXXXX | R7: 999999 | S7: XXXXXXXXXXXXXXXXXXXXXXXXXXXXXXXXXXXXXXXXXXXXXXXXXXXXXXXXXXXXXXXXXXXXXXXXXXXXXXXXXXXXXXXXXXXXXXXXXXXXXXXXXXXXXXXXXXXXXXXXXXXXXXXXXXXXXXXXXXXXXXXXXXXXXXXXXXXXXXXXXXXXXXXXX | T7: XXXXXXXXXXXXXXXXXXXXXXXXXXXXXXXXXXXXXXXXXXXXXXXXXXXXXXXXXXXXXXXXXXXXXXXXXXXXXXXXXXXXXXXXXXXXXXXXXXXXXXXXXXXXXXXXXXXXXXXXXXXXXXXXXXXXXXXXXXXXXXXXXXXXXXXXXXXXXXXXXXXXXXXXX | U7: 999999 | V7: 999999 | W7: 999999 | X7: 999999 | Y7: 999999 | Z7: 999999 | AA7: 999999 | AB7: 999999 | AC7: =IF(AND(OR(AD7=FALSE,AE7=FALSE),OR(COUNTBLANK(C7:F7)<>COLUMNS(C7:F7),COUNTBLANK(H7:AB7)<>COLUMNS(H7:AB7))),"KO","") -> KO | AD7: =IF(OR(ISBLANK(C7),ISBLANK(D7),ISBLANK(E7),ISBLANK(F7),ISBLANK(H7),ISBLANK(J7),ISBLANK(K7),ISBLANK(L7),ISBLANK(M7),ISBLANK(N7),ISBLANK(O7),ISBLANK(P7),ISBLANK(Q7),ISBLANK(S7),ISBLANK(U7),ISBLANK(V7),ISBLANK(W7),ISBLANK(X7),ISBLANK(Y7),ISBLANK(Z7),ISBLANK(AA7),ISBLANK(AB7)),FALSE,TRUE) -> TRUE | AE7: =IF((Q7="Voucher"=NOT(ISBLANK(R7))),TRUE,FALSE) -> FALSE | AF7: =IF(AND(AC7="KO",OR(COUNTBLANK(C7:F7)<>COLUMNS(C7:F7),COUNTBLANK(H7:AB7)<>COLUMNS(H7:AB7))),"ATTENZIONE!!! NON TUTTI I CAMPI OBBLIGATORI SONO STATI COMPILATI","") -> ATTENZIONE!!! NON TUTTI I CAMPI OBBLIGATORI SONO STATI COMPILATI | AQ7: Comune fuori Regione Lombardia | AR7: 999999
C8: XXXXXXXXXXXXXXXX | D8: 44194 | E8: XXXXXXX | F8: XXXXXXXXXXXXXXXXXXXXXXXXXXXXXXXXXXXXXXXXXXXXXXXXXX | G8: XXXXXXXX | H8: 44195 | I8: 44196 | J8: XX | K8: XX | L8: XX | M8: XXXXXXXXXXX | N8: XX | O8: XX | P8: XX | Q8: XXXXXXXXXXXXXXXXXXX | R8: 999999 | S8: XXXXXXXXXXXXXXXXXXXXXXXXXXXXXXXXXXXXXXXXXXXXXXXXXXXXXXXXXXXXXXXXXXXXXXXXXXXXXXXXXXXXXXXXXXXXXXXXXXXXXXXXXXXXXXXXXXXXXXXXXXXXXXXXXXXXXXXXXXXXXXXXXXXXXXXXXXXXXXXXXXXXXXXXX | T8: XXXXXXXXXXXXXXXXXXXXXXXXXXXXXXXXXXXXXXXXXXXXXXXXXXXXXXXXXXXXXXXXXXXXXXXXXXXXXXXXXXXXXXXXXXXXXXXXXXXXXXXXXXXXXXXXXXXXXXXXXXXXXXXXXXXXXXXXXXXXXXXXXXXXXXXXXXXXXXXXXXXXXXXXX | U8: 999999 | V8: 999999 | W8: 999999 | X8: 999999 | Y8: 999999 | Z8: 999999 | AA8: 999999 | AB8: 999999 | AC8: =IF(AND(OR(AD8=FALSE,AE8=FALSE),OR(COUNTBLANK(C8:F8)<>COLUMNS(C8:F8),COUNTBLANK(H8:AB8)<>COLUMNS(H8:AB8))),"KO","") -> KO | AD8: =IF(OR(ISBLANK(C8),ISBLANK(D8),ISBLANK(E8),ISBLANK(F8),ISBLANK(H8),ISBLANK(J8),ISBLANK(K8),ISBLANK(L8),ISBLANK(M8),ISBLANK(N8),ISBLANK(O8),ISBLANK(P8),ISBLANK(Q8),ISBLANK(S8),ISBLANK(U8),ISBLANK(V8),ISBLANK(W8),ISBLANK(X8),ISBLANK(Y8),ISBLANK(Z8),ISBLANK(AA8),ISBLANK(AB8)),FALSE,TRUE) -> TRUE | AE8: =IF((Q8="Voucher"=NOT(ISBLANK(R8))),TRUE,FALSE) -> FALSE | AF8: =IF(AND(AC8="KO",OR(COUNTBLANK(C8:F8)<>COLUMNS(C8:F8),COUNTBLANK(H8:AB8)<>COLUMNS(H8:AB8))),"ATTENZIONE!!! NON TUTTI I CAMPI OBBLIGATORI SONO STATI COMPILATI","") -> ATTENZIONE!!! NON TUTTI I CAMPI OBBLIGATORI SONO STATI COMPILATI | AG8: =IF(AB8="KO","ATTENZIONE!!! NON TUTTI I CAMPI OBBLIGATORI SONO STATI COMPILATI","") | AQ8: Abbadia Cerreto | AR8: 098001
C9: XXXXXXXXXXXXXXXX | D9: 44194 | E9: XXXXXXX | F9: XXXXXXXXXXXXXXXXXXXXXXXXXXXXXXXXXXXXXXXXXXXXXXXXXX | G9: XXXXXXXX | H9: 44195 | I9: 44196 | J9: XX | K9: XX | L9: XX | M9: XXXXXXXXXXX | N9: XX | O9: XX | P9: XX | Q9: XXXXXXXXXXXXXXXXXXX | R9: 999999 | S9: XXXXXXXXXXXXXXXXXXXXXXXXXXXXXXXXXXXXXXXXXXXXXXXXXXXXXXXXXXXXXXXXXXXXXXXXXXXXXXXXXXXXXXXXXXXXXXXXXXXXXXXXXXXXXXXXXXXXXXXXXXXXXXXXXXXXXXXXXXXXXXXXXXXXXXXXXXXXXXXXXXXXXXXXX | T9: XXXXXXXXXXXXXXXXXXXXXXXXXXXXXXXXXXXXXXXXXXXXXXXXXXXXXXXXXXXXXXXXXXXXXXXXXXXXXXXXXXXXXXXXXXXXXXXXXXXXXXXXXXXXXXXXXXXXXXXXXXXXXXXXXXXXXXXXXXXXXXXXXXXXXXXXXXXXXXXXXXXXXXXXX | U9: 999999 | V9: 999999 | W9: 999999 | X9: 999999 | Y9: 999999 | Z9: 999999 | AA9: 999999 | AB9: 999999 | AC9: =IF(AND(OR(AD9=FALSE,AE9=FALSE),OR(COUNTBLANK(C9:F9)<>COLUMNS(C9:F9),COUNTBLANK(H9:AB9)<>COLUMNS(H9:AB9))),"KO","") -> KO | AD9: =IF(OR(ISBLANK(C9),ISBLANK(D9),ISBLANK(E9),ISBLANK(F9),ISBLANK(H9),ISBLANK(J9),ISBLANK(K9),ISBLANK(L9),ISBLANK(M9),ISBLANK(N9),ISBLANK(O9),ISBLANK(P9),ISBLANK(Q9),ISBLANK(S9),ISBLANK(U9),ISBLANK(V9),ISBLANK(W9),ISBLANK(X9),ISBLANK(Y9),ISBLANK(Z9),ISBLANK(AA9),ISBLANK(AB9)),FALSE,TRUE) -> TRUE | AE9: =IF((Q9="Voucher"=NOT(ISBLANK(R9))),TRUE,FALSE) -> FALSE | AF9: =IF(AND(AC9="KO",OR(COUNTBLANK(C9:F9)<>COLUMNS(C9:F9),COUNTBLANK(H9:AB9)<>COLUMNS(H9:AB9))),"ATTENZIONE!!! NON TUTTI I CAMPI OBBLIGATORI SONO STATI COMPILATI","") -> ATTENZIONE!!! NON TUTTI I CAMPI OBBLIGATORI SONO STATI COMPILATI | AG9: =IF(AB9="KO","ATTENZIONE!!! NON TUTTI I CAMPI OBBLIGATORI SONO STATI COMPILATI","") | AQ9: Abbadia Lariana | AR9: 097001
C10: XXXXXXXXXXXXXXXX | D10: 44194 | E10: XXXXXXX | F10: XXXXXXXXXXXXXXXXXXXXXXXXXXXXXXXXXXXXXXXXXXXXXXXXXX | G10: XXXXXXXX | H10: 44195 | I10: 44196 | J10: XX | K10: XX | L10: XX | M10: XXXXXXXXXXX | N10: XX | O10: XX | P10: XX | Q10: XXXXXXXXXXXXXXXXXXX | R10: 999999 | S10: XXXXXXXXXXXXXXXXXXXXXXXXXXXXXXXXXXXXXXXXXXXXXXXXXXXXXXXXXXXXXXXXXXXXXXXXXXXXXXXXXXXXXXXXXXXXXXXXXXXXXXXXXXXXXXXXXXXXXXXXXXXXXXXXXXXXXXXXXXXXXXXXXXXXXXXXXXXXXXXXXXXXXXXXX | T10: XXXXXXXXXXXXXXXXXXXXXXXXXXXXXXXXXXXXXXXXXXXXXXXXXXXXXXXXXXXXXXXXXXXXXXXXXXXXXXXXXXXXXXXXXXXXXXXXXXXXXXXXXXXXXXXXXXXXXXXXXXXXXXXXXXXXXXXXXXXXXXXXXXXXXXXXXXXXXXXXXXXXXXXXX | U10: 999999 | V10: 999999 | W10: 999999 | X10: 999999 | Y10: 999999 | Z10: 999999 | AA10: 999999 | AB10: 999999 | AC10: =IF(AND(OR(AD10=FALSE,AE10=FALSE),OR(COUNTBLANK(C10:F10)<>COLUMNS(C10:F10),COUNTBLANK(H10:AB10)<>COLUMNS(H10:AB10))),"KO","") -> KO | AD10: =IF(OR(ISBLANK(C10),ISBLANK(D10),ISBLANK(E10),ISBLANK(F10),ISBLANK(H10),ISBLANK(J10),ISBLANK(K10),ISBLANK(L10),ISBLANK(M10),ISBLANK(N10),ISBLANK(O10),ISBLANK(P10),ISBLANK(Q10),ISBLANK(S10),ISBLANK(U10),ISBLANK(V10),ISBLANK(W10),ISBLANK(X10),ISBLANK(Y10),ISBLANK(Z10),ISBLANK(AA10),ISBLANK(AB10)),FALSE,TRUE) -> TRUE | AE10: =IF((Q10="Voucher"=NOT(ISBLANK(R10))),TRUE,FALSE) -> FALSE | AF10: =IF(AND(AC10="KO",OR(COUNTBLANK(C10:F10)<>COLUMNS(C10:F10),COUNTBLANK(H10:AB10)<>COLUMNS(H10:AB10))),"ATTENZIONE!!! NON TUTTI I CAMPI OBBLIGATORI SONO STATI COMPILATI","") -> ATTENZIONE!!! NON TUTTI I CAMPI OBBLIGATORI SONO STATI COMPILATI | AG10: =IF(AB10="KO","ATTENZIONE!!! NON TUTTI I CAMPI OBBLIGATORI SONO STATI COMPILATI","") | AQ10: Abbiategrasso | AR10: 015002
C11: XXXXXXXXXXXXXXXX | D11: 44194 | E11: XXXXXXX | F11: XXXXXXXXXXXXXXXXXXXXXXXXXXXXXXXXXXXXXXXXXXXXXXXXXX | G11: XXXXXXXX | H11: 44195 | I11: 44196 | J11: XX | K11: XX | L11: XX | M11: XXXXXXXXXXX | N11: XX | O11: XX | P11: XX | Q11: XXXXXXXXXXXXXXXXXXX | R11: 999999 | S11: XXXXXXXXXXXXXXXXXXXXXXXXXXXXXXXXXXXXXXXXXXXXXXXXXXXXXXXXXXXXXXXXXXXXXXXXXXXXXXXXXXXXXXXXXXXXXXXXXXXXXXXXXXXXXXXXXXXXXXXXXXXXXXXXXXXXXXXXXXXXXXXXXXXXXXXXXXXXXXXXXXXXXXXXX | T11: XXXXXXXXXXXXXXXXXXXXXXXXXXXXXXXXXXXXXXXXXXXXXXXXXXXXXXXXXXXXXXXXXXXXXXXXXXXXXXXXXXXXXXXXXXXXXXXXXXXXXXXXXXXXXXXXXXXXXXXXXXXXXXXXXXXXXXXXXXXXXXXXXXXXXXXXXXXXXXXXXXXXXXXXX | U11: 999999 | V11: 999999 | W11: 999999 | X11: 999999 | Y11: 999999 | Z11: 999999 | AA11: 999999 | AB11: 999999 | AC11: =IF(AND(OR(AD11=FALSE,AE11=FALSE),OR(COUNTBLANK(C11:F11)<>COLUMNS(C11:F11),COUNTBLANK(H11:AB11)<>COLUMNS(H11:AB11))),"KO","") -> KO | AD11: =IF(OR(ISBLANK(C11),ISBLANK(D11),ISBLANK(E11),ISBLANK(F11),ISBLANK(H11),ISBLANK(J11),ISBLANK(K11),ISBLANK(L11),ISBLANK(M11),ISBLANK(N11),ISBLANK(O11),ISBLANK(P11),ISBLANK(Q11),ISBLANK(S11),ISBLANK(U11),ISBLANK(V11),ISBLANK(W11),ISBLANK(X11),ISBLANK(Y11),ISBLANK(Z11),ISBLANK(AA11),ISBLANK(AB11)),FALSE,TRUE) -> TRUE | AE11: =IF((Q11="Voucher"=NOT(ISBLANK(R11))),TRUE,FALSE) -> FALSE | AF11: =IF(AND(AC11="KO",OR(COUNTBLANK(C11:F11)<>COLUMNS(C11:F11),COUNTBLANK(H11:AB11)<>COLUMNS(H11:AB11))),"ATTENZIONE!!! NON TUTTI I CAMPI OBBLIGATORI SONO STATI COMPILATI","") -> ATTENZIONE!!! NON TUTTI I CAMPI OBBLIGATORI SONO STATI COMPILATI | AG11: =IF(AB11="KO","ATTENZIONE!!! NON TUTTI I CAMPI OBBLIGATORI SONO STATI COMPILATI","") | AQ11: Acquafredda | AR11: 017001
C12: XXXXXXXXXXXXXXXX | D12: 44194 | E12: XXXXXXX | F12: XXXXXXXXXXXXXXXXXXXXXXXXXXXXXXXXXXXXXXXXXXXXXXXXXX | G12: XXXXXXXX | H12: 44195 | I12: 44196 | J12: XX | K12: XX | L12: XX | M12: XXXXXXXXXXX | N12: XX | O12: XX | P12: XX | Q12: XXXXXXXXXXXXXXXXXXX | R12: 999999 | S12: XXXXXXXXXXXXXXXXXXXXXXXXXXXXXXXXXXXXXXXXXXXXXXXXXXXXXXXXXXXXXXXXXXXXXXXXXXXXXXXXXXXXXXXXXXXXXXXXXXXXXXXXXXXXXXXXXXXXXXXXXXXXXXXXXXXXXXXXXXXXXXXXXXXXXXXXXXXXXXXXXXXXXXXXX | T12: XXXXXXXXXXXXXXXXXXXXXXXXXXXXXXXXXXXXXXXXXXXXXXXXXXXXXXXXXXXXXXXXXXXXXXXXXXXXXXXXXXXXXXXXXXXXXXXXXXXXXXXXXXXXXXXXXXXXXXXXXXXXXXXXXXXXXXXXXXXXXXXXXXXXXXXXXXXXXXXXXXXXXXXXX | U12: 999999 | V12: 999999 | W12: 999999 | X12: 999999 | Y12: 999999 | Z12: 999999 | AA12: 999999 | AB12: 999999 | AC12: =IF(AND(OR(AD12=FALSE,AE12=FALSE),OR(COUNTBLANK(C12:F12)<>COLUMNS(C12:F12),COUNTBLANK(H12:AB12)<>COLUMNS(H12:AB12))),"KO","") -> KO | AD12: =IF(OR(ISBLANK(C12),ISBLANK(D12),ISBLANK(E12),ISBLANK(F12),ISBLANK(H12),ISBLANK(J12),ISBLANK(K12),ISBLANK(L12),ISBLANK(M12),ISBLANK(N12),ISBLANK(O12),ISBLANK(P12),ISBLANK(Q12),ISBLANK(S12),ISBLANK(U12),ISBLANK(V12),ISBLANK(W12),ISBLANK(X12),ISBLANK(Y12),ISBLANK(Z12),ISBLANK(AA12),ISBLANK(AB12)),FALSE,TRUE) -> TRUE | AE12: =IF((Q12="Voucher"=NOT(ISBLANK(R12))),TRUE,FALSE) -> FALSE | AF12: =IF(AND(AC12="KO",OR(COUNTBLANK(C12:F12)<>COLUMNS(C12:F12),COUNTBLANK(H12:AB12)<>COLUMNS(H12:AB12))),"ATTENZIONE!!! NON TUTTI I CAMPI OBBLIGATORI SONO STATI COMPILATI","") -> ATTENZIONE!!! NON TUTTI I CAMPI OBBLIGATORI SONO STATI COMPILATI | AG12: =IF(AB12="KO","ATTENZIONE!!! NON TUTTI I CAMPI OBBLIGATORI SONO STATI COMPILATI","") | AQ12: Acquanegra Cremonese | AR12: 019001
C13: XXXXXXXXXXXXXXXX | D13: 44194 | E13: XXXXXXX | F13: XXXXXXXXXXXXXXXXXXXXXXXXXXXXXXXXXXXXXXXXXXXXXXXXXX | G13: XXXXXXXX | H13: 44195 | I13: 44196 | J13: XX | K13: XX | L13: XX | M13: XXXXXXXXXXX | N13: XX | O13: XX | P13: XX | Q13: XXXXXXXXXXXXXXXXXXX | R13: 999999 | S13: XXXXXXXXXXXXXXXXXXXXXXXXXXXXXXXXXXXXXXXXXXXXXXXXXXXXXXXXXXXXXXXXXXXXXXXXXXXXXXXXXXXXXXXXXXXXXXXXXXXXXXXXXXXXXXXXXXXXXXXXXXXXXXXXXXXXXXXXXXXXXXXXXXXXXXXXXXXXXXXXXXXXXXXXX | T13: XXXXXXXXXXXXXXXXXXXXXXXXXXXXXXXXXXXXXXXXXXXXXXXXXXXXXXXXXXXXXXXXXXXXXXXXXXXXXXXXXXXXXXXXXXXXXXXXXXXXXXXXXXXXXXXXXXXXXXXXXXXXXXXXXXXXXXXXXXXXXXXXXXXXXXXXXXXXXXXXXXXXXXXXX | U13: 999999 | V13: 999999 | W13: 999999 | X13: 999999 | Y13: 999999 | Z13: 999999 | AA13: 999999 | AB13: 999999 | AC13: =IF(AND(OR(AD13=FALSE,AE13=FALSE),OR(COUNTBLANK(C13:F13)<>COLUMNS(C13:F13),COUNTBLANK(H13:AB13)<>COLUMNS(H13:AB13))),"KO","") -> KO | AD13: =IF(OR(ISBLANK(C13),ISBLANK(D13),ISBLANK(E13),ISBLANK(F13),ISBLANK(H13),ISBLANK(J13),ISBLANK(K13),ISBLANK(L13),ISBLANK(M13),ISBLANK(N13),ISBLANK(O13),ISBLANK(P13),ISBLANK(Q13),ISBLANK(S13),ISBLANK(U13),ISBLANK(V13),ISBLANK(W13),ISBLANK(X13),ISBLANK(Y13),ISBLANK(Z13),ISBLANK(AA13),ISBLANK(AB13)),FALSE,TRUE) -> TRUE | AE13: =IF((Q13="Voucher"=NOT(ISBLANK(R13))),TRUE,FALSE) -> FALSE | AF13: =IF(AND(AC13="KO",OR(COUNTBLANK(C13:F13)<>COLUMNS(C13:F13),COUNTBLANK(H13:AB13)<>COLUMNS(H13:AB13))),"ATTENZIONE!!! NON TUTTI I CAMPI OBBLIGATORI SONO STATI COMPILATI","") -> ATTENZIONE!!! NON TUTTI I CAMPI OBBLIGATORI SONO STATI COMPILATI | AG13: =IF(AB13="KO","ATTENZIONE!!! NON TUTTI I CAMPI OBBLIGATORI SONO STATI COMPILATI","") | AQ13: Acquanegra sul Chiese | AR13: 020001
C14: XXXXXXXXXXXXXXXX | D14: 44194 | E14: XXXXXXX | F14: XXXXXXXXXXXXXXXXXXXXXXXXXXXXXXXXXXXXXXXXXXXXXXXXXX | G14: XXXXXXXX | H14: 44195 | I14: 44196 | J14: XX | K14: XX | L14: XX | M14: XXXXXXXXXXX | N14: XX | O14: XX | P14: XX | Q14: XXXXXXXXXXXXXXXXXXX | R14: 999999 | S14: XXXXXXXXXXXXXXXXXXXXXXXXXXXXXXXXXXXXXXXXXXXXXXXXXXXXXXXXXXXXXXXXXXXXXXXXXXXXXXXXXXXXXXXXXXXXXXXXXXXXXXXXXXXXXXXXXXXXXXXXXXXXXXXXXXXXXXXXXXXXXXXXXXXXXXXXXXXXXXXXXXXXXXXXX | T14: XXXXXXXXXXXXXXXXXXXXXXXXXXXXXXXXXXXXXXXXXXXXXXXXXXXXXXXXXXXXXXXXXXXXXXXXXXXXXXXXXXXXXXXXXXXXXXXXXXXXXXXXXXXXXXXXXXXXXXXXXXXXXXXXXXXXXXXXXXXXXXXXXXXXXXXXXXXXXXXXXXXXXXXXX | U14: 999999 | V14: 999999 | W14: 999999 | X14: 999999 | Y14: 999999 | Z14: 999999 | AA14: 999999 | AB14: 999999 | AC14: =IF(AND(OR(AD14=FALSE,AE14=FALSE),OR(COUNTBLANK(C14:F14)<>COLUMNS(C14:F14),COUNTBLANK(H14:AB14)<>COLUMNS(H14:AB14))),"KO","") -> KO | AD14: =IF(OR(ISBLANK(C14),ISBLANK(D14),ISBLANK(E14),ISBLANK(F14),ISBLANK(H14),ISBLANK(J14),ISBLANK(K14),ISBLANK(L14),ISBLANK(M14),ISBLANK(N14),ISBLANK(O14),ISBLANK(P14),ISBLANK(Q14),ISBLANK(S14),ISBLANK(U14),ISBLANK(V14),ISBLANK(W14),ISBLANK(X14),ISBLANK(Y14),ISBLANK(Z14),ISBLANK(AA14),ISBLANK(AB14)),FALSE,TRUE) -> TRUE | AE14: =IF((Q14="Voucher"=NOT(ISBLANK(R14))),TRUE,FALSE) -> FALSE | AF14: =IF(AND(AC14="KO",OR(COUNTBLANK(C14:F14)<>COLUMNS(C14:F14),COUNTBLANK(H14:AB14)<>COLUMNS(H14:AB14))),"ATTENZIONE!!! NON TUTTI I CAMPI OBBLIGATORI SONO STATI COMPILATI","") -> ATTENZIONE!!! NON TUTTI I CAMPI OBBLIGATORI SONO STATI COMPILATI | AG14: =IF(AB14="KO","ATTENZIONE!!! NON TUTTI I CAMPI OBBLIGATORI SONO STATI COMPILATI","") | AQ14: Adrara San Martino | AR14: 016001
C15: XXXXXXXXXXXXXXXX | D15: 44194 | E15: XXXXXXX | F15: XXXXXXXXXXXXXXXXXXXXXXXXXXXXXXXXXXXXXXXXXXXXXXXXXX | G15: XXXXXXXX | H15: 44195 | I15: 44196 | J15: XX | K15: XX | L15: XX | M15: XXXXXXXXXXX | N15: XX | O15: XX | P15: XX | Q15: XXXXXXXXXXXXXXXXXXX | R15: 999999 | S15: XXXXXXXXXXXXXXXXXXXXXXXXXXXXXXXXXXXXXXXXXXXXXXXXXXXXXXXXXXXXXXXXXXXXXXXXXXXXXXXXXXXXXXXXXXXXXXXXXXXXXXXXXXXXXXXXXXXXXXXXXXXXXXXXXXXXXXXXXXXXXXXXXXXXXXXXXXXXXXXXXXXXXXXXX | T15: XXXXXXXXXXXXXXXXXXXXXXXXXXXXXXXXXXXXXXXXXXXXXXXXXXXXXXXXXXXXXXXXXXXXXXXXXXXXXXXXXXXXXXXXXXXXXXXXXXXXXXXXXXXXXXXXXXXXXXXXXXXXXXXXXXXXXXXXXXXXXXXXXXXXXXXXXXXXXXXXXXXXXXXXX | U15: 999999 | V15: 999999 | W15: 999999 | X15: 999999 | Y15: 999999 | Z15: 999999 | AA15: 999999 | AB15: 999999 | AC15: =IF(AND(OR(AD15=FALSE,AE15=FALSE),OR(COUNTBLANK(C15:F15)<>COLUMNS(C15:F15),COUNTBLANK(H15:AB15)<>COLUMNS(H15:AB15))),"KO","") -> KO | AD15: =IF(OR(ISBLANK(C15),ISBLANK(D15),ISBLANK(E15),ISBLANK(F15),ISBLANK(H15),ISBLANK(J15),ISBLANK(K15),ISBLANK(L15),ISBLANK(M15),ISBLANK(N15),ISBLANK(O15),ISBLANK(P15),ISBLANK(Q15),ISBLANK(S15),ISBLANK(U15),ISBLANK(V15),ISBLANK(W15),ISBLANK(X15),ISBLANK(Y15),ISBLANK(Z15),ISBLANK(AA15),ISBLANK(AB15)),FALSE,TRUE) -> TRUE | AE15: =IF((Q15="Voucher"=NOT(ISBLANK(R15))),TRUE,FALSE) -> FALSE | AF15: =IF(AND(AC15="KO",OR(COUNTBLANK(C15:F15)<>COLUMNS(C15:F15),COUNTBLANK(H15:AB15)<>COLUMNS(H15:AB15))),"ATTENZIONE!!! NON TUTTI I CAMPI OBBLIGATORI SONO STATI COMPILATI","") -> ATTENZIONE!!! NON TUTTI I CAMPI OBBLIGATORI SONO STATI COMPILATI | AG15: =IF(AB15="KO","ATTENZIONE!!! NON TUTTI I CAMPI OBBLIGATORI SONO STATI COMPILATI","") | AQ15: Adrara San Rocco | AR15: 016002
C16: XXXXXXXXXXXXXXXX | D16: 44194 | E16: XXXXXXX | F16: XXXXXXXXXXXXXXXXXXXXXXXXXXXXXXXXXXXXXXXXXXXXXXXXXX | G16: XXXXXXXX | H16: 44195 | I16: 44196 | J16: XX | K16: XX | L16: XX | M16: XXXXXXXXXXX | N16: XX | O16: XX | P16: XX | Q16: XXXXXXXXXXXXXXXXXXX | R16: 999999 | S16: XXXXXXXXXXXXXXXXXXXXXXXXXXXXXXXXXXXXXXXXXXXXXXXXXXXXXXXXXXXXXXXXXXXXXXXXXXXXXXXXXXXXXXXXXXXXXXXXXXXXXXXXXXXXXXXXXXXXXXXXXXXXXXXXXXXXXXXXXXXXXXXXXXXXXXXXXXXXXXXXXXXXXXXXX | T16: XXXXXXXXXXXXXXXXXXXXXXXXXXXXXXXXXXXXXXXXXXXXXXXXXXXXXXXXXXXXXXXXXXXXXXXXXXXXXXXXXXXXXXXXXXXXXXXXXXXXXXXXXXXXXXXXXXXXXXXXXXXXXXXXXXXXXXXXXXXXXXXXXXXXXXXXXXXXXXXXXXXXXXXXX | U16: 999999 | V16: 999999 | W16: 999999 | X16: 999999 | Y16: 999999 | Z16: 999999 | AA16: 999999 | AB16: 999999 | AC16: =IF(AND(OR(AD16=FALSE,AE16=FALSE),OR(COUNTBLANK(C16:F16)<>COLUMNS(C16:F16),COUNTBLANK(H16:AB16)<>COLUMNS(H16:AB16))),"KO","") -> KO | AD16: =IF(OR(ISBLANK(C16),ISBLANK(D16),ISBLANK(E16),ISBLANK(F16),ISBLANK(H16),ISBLANK(J16),ISBLANK(K16),ISBLANK(L16),ISBLANK(M16),ISBLANK(N16),ISBLANK(O16),ISBLANK(P16),ISBLANK(Q16),ISBLANK(S16),ISBLANK(U16),ISBLANK(V16),ISBLANK(W16),ISBLANK(X16),ISBLANK(Y16),ISBLANK(Z16),ISBLANK(AA16),ISBLANK(AB16)),FALSE,TRUE) -> TRUE | AE16: =IF((Q16="Voucher"=NOT(ISBLANK(R16))),TRUE,FALSE) -> FALSE | AF16: =IF(AND(AC16="KO",OR(COUNTBLANK(C16:F16)<>COLUMNS(C16:F16),COUNTBLANK(H16:AB16)<>COLUMNS(H16:AB16))),"ATTENZIONE!!! NON TUTTI I CAMPI OBBLIGATORI SONO STATI COMPILATI","") -> ATTENZIONE!!! NON TUTTI I CAMPI OBBLIGATORI SONO STATI COMPILATI | AG16: =IF(AB16="KO","ATTENZIONE!!! NON TUTTI I CAMPI OBBLIGATORI SONO STATI COMPILATI","") | AQ16: Adro | AR16: 017002
C17: XXXXXXXXXXXXXXXX | D17: 44194 | E17: XXXXXXX | F17: XXXXXXXXXXXXXXXXXXXXXXXXXXXXXXXXXXXXXXXXXXXXXXXXXX | G17: XXXXXXXX | H17: 44195 | I17: 44196 | J17: XX | K17: XX | L17: XX | M17: XXXXXXXXXXX | N17: XX | O17: XX | P17: XX | Q17: XXXXXXXXXXXXXXXXXXX | R17: 999999 | S17: XXXXXXXXXXXXXXXXXXXXXXXXXXXXXXXXXXXXXXXXXXXXXXXXXXXXXXXXXXXXXXXXXXXXXXXXXXXXXXXXXXXXXXXXXXXXXXXXXXXXXXXXXXXXXXXXXXXXXXXXXXXXXXXXXXXXXXXXXXXXXXXXXXXXXXXXXXXXXXXXXXXXXXXXX | T17: XXXXXXXXXXXXXXXXXXXXXXXXXXXXXXXXXXXXXXXXXXXXXXXXXXXXXXXXXXXXXXXXXXXXXXXXXXXXXXXXXXXXXXXXXXXXXXXXXXXXXXXXXXXXXXXXXXXXXXXXXXXXXXXXXXXXXXXXXXXXXXXXXXXXXXXXXXXXXXXXXXXXXXXXX | U17: 999999 | V17: 999999 | W17: 999999 | X17: 999999 | Y17: 999999 | Z17: 999999 | AA17: 999999 | AB17: 999999 | AC17: =IF(AND(OR(AD17=FALSE,AE17=FALSE),OR(COUNTBLANK(C17:F17)<>COLUMNS(C17:F17),COUNTBLANK(H17:AB17)<>COLUMNS(H17:AB17))),"KO","") -> KO | AD17: =IF(OR(ISBLANK(C17),ISBLANK(D17),ISBLANK(E17),ISBLANK(F17),ISBLANK(H17),ISBLANK(J17),ISBLANK(K17),ISBLANK(L17),ISBLANK(M17),ISBLANK(N17),ISBLANK(O17),ISBLANK(P17),ISBLANK(Q17),ISBLANK(S17),ISBLANK(U17),ISBLANK(V17),ISBLANK(W17),ISBLANK(X17),ISBLANK(Y17),ISBLANK(Z17),ISBLANK(AA17),ISBLANK(AB17)),FALSE,TRUE) -> TRUE | AE17: =IF((Q17="Voucher"=NOT(ISBLANK(R17))),TRUE,FALSE) -> FALSE | AF17: =IF(AND(AC17="KO",OR(COUNTBLANK(C17:F17)<>COLUMNS(C17:F17),COUNTBLANK(H17:AB17)<>COLUMNS(H17:AB17))),"ATTENZIONE!!! NON TUTTI I CAMPI OBBLIGATORI SONO STATI COMPILATI","") -> ATTENZIONE!!! NON TUTTI I CAMPI OBBLIGATORI SONO STATI COMPILATI | AG17: =IF(AB17="KO","ATTENZIONE!!! NON TUTTI I CAMPI OBBLIGATORI SONO STATI COMPILATI","") | AQ17: Agnadello | AR17: 019002
C18: XXXXXXXXXXXXXXXX | D18: 44194 | E18: XXXXXXX | F18: XXXXXXXXXXXXXXXXXXXXXXXXXXXXXXXXXXXXXXXXXXXXXXXXXX | G18: XXXXXXXX | H18: 44195 | I18: 44196 | J18: XX | K18: XX | L18: XX | M18: XXXXXXXXXXX | N18: XX | O18: XX | P18: XX | Q18: XXXXXXXXXXXXXXXXXXX | R18: 999999 | S18: XXXXXXXXXXXXXXXXXXXXXXXXXXXXXXXXXXXXXXXXXXXXXXXXXXXXXXXXXXXXXXXXXXXXXXXXXXXXXXXXXXXXXXXXXXXXXXXXXXXXXXXXXXXXXXXXXXXXXXXXXXXXXXXXXXXXXXXXXXXXXXXXXXXXXXXXXXXXXXXXXXXXXXXXX | T18: XXXXXXXXXXXXXXXXXXXXXXXXXXXXXXXXXXXXXXXXXXXXXXXXXXXXXXXXXXXXXXXXXXXXXXXXXXXXXXXXXXXXXXXXXXXXXXXXXXXXXXXXXXXXXXXXXXXXXXXXXXXXXXXXXXXXXXXXXXXXXXXXXXXXXXXXXXXXXXXXXXXXXXXXX | U18: 999999 | V18: 999999 | W18: 999999 | X18: 999999 | Y18: 999999 | Z18: 999999 | AA18: 999999 | AB18: 999999 | AC18: =IF(AND(OR(AD18=FALSE,AE18=FALSE),OR(COUNTBLANK(C18:F18)<>COLUMNS(C18:F18),COUNTBLANK(H18:AB18)<>COLUMNS(H18:AB18))),"KO","") -> KO | AD18: =IF(OR(ISBLANK(C18),ISBLANK(D18),ISBLANK(E18),ISBLANK(F18),ISBLANK(H18),ISBLANK(J18),ISBLANK(K18),ISBLANK(L18),ISBLANK(M18),ISBLANK(N18),ISBLANK(O18),ISBLANK(P18),ISBLANK(Q18),ISBLANK(S18),ISBLANK(U18),ISBLANK(V18),ISBLANK(W18),ISBLANK(X18),ISBLANK(Y18),ISBLANK(Z18),ISBLANK(AA18),ISBLANK(AB18)),FALSE,TRUE) -> TRUE | AE18: =IF((Q18="Voucher"=NOT(ISBLANK(R18))),TRUE,FALSE) -> FALSE | AF18: =IF(AND(AC18="KO",OR(COUNTBLANK(C18:F18)<>COLUMNS(C18:F18),COUNTBLANK(H18:AB18)<>COLUMNS(H18:AB18))),"ATTENZIONE!!! NON TUTTI I CAMPI OBBLIGATORI SONO STATI COMPILATI","") -> ATTENZIONE!!! NON TUTTI I CAMPI OBBLIGATORI SONO STATI COMPILATI | AG18: =IF(AB18="KO","ATTENZIONE!!! NON TUTTI I CAMPI OBBLIGATORI SONO STATI COMPILATI","") | AQ18: Agnosine | AR18: 017003
C19: XXXXXXXXXXXXXXXX | D19: 44194 | E19: XXXXXXX | F19: XXXXXXXXXXXXXXXXXXXXXXXXXXXXXXXXXXXXXXXXXXXXXXXXXX | G19: XXXXXXXX | H19: 44195 | I19: 44196 | J19: XX | K19: XX | L19: XX | M19: XXXXXXXXXXX | N19: XX | O19: XX | P19: XX | Q19: XXXXXXXXXXXXXXXXXXX | R19: 999999 | S19: XXXXXXXXXXXXXXXXXXXXXXXXXXXXXXXXXXXXXXXXXXXXXXXXXXXXXXXXXXXXXXXXXXXXXXXXXXXXXXXXXXXXXXXXXXXXXXXXXXXXXXXXXXXXXXXXXXXXXXXXXXXXXXXXXXXXXXXXXXXXXXXXXXXXXXXXXXXXXXXXXXXXXXXXX | T19: XXXXXXXXXXXXXXXXXXXXXXXXXXXXXXXXXXXXXXXXXXXXXXXXXXXXXXXXXXXXXXXXXXXXXXXXXXXXXXXXXXXXXXXXXXXXXXXXXXXXXXXXXXXXXXXXXXXXXXXXXXXXXXXXXXXXXXXXXXXXXXXXXXXXXXXXXXXXXXXXXXXXXXXXX | U19: 999999 | V19: 999999 | W19: 999999 | X19: 999999 | Y19: 999999 | Z19: 999999 | AA19: 999999 | AB19: 999999 | AC19: =IF(AND(OR(AD19=FALSE,AE19=FALSE),OR(COUNTBLANK(C19:F19)<>COLUMNS(C19:F19),COUNTBLANK(H19:AB19)<>COLUMNS(H19:AB19))),"KO","") -> KO | AD19: =IF(OR(ISBLANK(C19),ISBLANK(D19),ISBLANK(E19),ISBLANK(F19),ISBLANK(H19),ISBLANK(J19),ISBLANK(K19),ISBLANK(L19),ISBLANK(M19),ISBLANK(N19),ISBLANK(O19),ISBLANK(P19),ISBLANK(Q19),ISBLANK(S19),ISBLANK(U19),ISBLANK(V19),ISBLANK(W19),ISBLANK(X19),ISBLANK(Y19),ISBLANK(Z19),ISBLANK(AA19),ISBLANK(AB19)),FALSE,TRUE) -> TRUE | AE19: =IF((Q19="Voucher"=NOT(ISBLANK(R19))),TRUE,FALSE) -> FALSE | AF19: =IF(AND(AC19="KO",OR(COUNTBLANK(C19:F19)<>COLUMNS(C19:F19),COUNTBLANK(H19:AB19)<>COLUMNS(H19:AB19))),"ATTENZIONE!!! NON TUTTI I CAMPI OBBLIGATORI SONO STATI COMPILATI","") -> ATTENZIONE!!! NON TUTTI I CAMPI OBBLIGATORI SONO STATI COMPILATI | AG19: =IF(AB19="KO","ATTENZIONE!!! NON TUTTI I CAMPI OBBLIGATORI SONO STATI COMPILATI","") | AQ19: Agra | AR19: 012001
... C104: XXXXXXXXXXXXXXXX | D104: 44194 | E104: XXXXXXX | F104: XXXXXXXXXXXXXXXXXXXXXXXXXXXXXXXXXXXXXXXXXXXXXXXXXX | G104: XXXXXXXX | H104: 44195 | I104: 44196 | J104: XX | K104: XX | L104: XX | M104: XXXXXXXXXXX | N104: XX | O104: XX | P104: XX | Q104: XXXXXXXXXXXXXXXXXXX | R104: 999999 | S104: XXXXXXXXXXXXXXXXXXXXXXXXXXXXXXXXXXXXXXXXXXXXXXXXXXXXXXXXXXXXXXXXXXXXXXXXXXXXXXXXXXXXXXXXXXXXXXXXXXXXXXXXXXXXXXXXXXXXXXXXXXXXXXXXXXXXXXXXXXXXXXXXXXXXXXXXXXXXXXXXXXXXXXXXX | T104: XXXXXXXXXXXXXXXXXXXXXXXXXXXXXXXXXXXXXXXXXXXXXXXXXXXXXXXXXXXXXXXXXXXXXXXXXXXXXXXXXXXXXXXXXXXXXXXXXXXXXXXXXXXXXXXXXXXXXXXXXXXXXXXXXXXXXXXXXXXXXXXXXXXXXXXXXXXXXXXXXXXXXXXXX | U104: 999999 | V104: 999999 | W104: 999999 | X104: 999999 | Y104: 999999 | Z104: 999999 | AA104: 999999 | AB104: 999999 | AC104: =IF(AND(OR(AD104=FALSE,AE104=FALSE),OR(COUNTBLANK(C104:F104)<>COLUMNS(C104:F104),COUNTBLANK(H104:AB104)<>COLUMNS(H104:AB104))),"KO","") -> KO | AD104: =IF(OR(ISBLANK(C104),ISBLANK(D104),ISBLANK(E104),ISBLANK(F104),ISBLANK(H104),ISBLANK(J104),ISBLANK(K104),ISBLANK(L104),ISBLANK(M104),ISBLANK(N104),ISBLANK(O104),ISBLANK(P104),ISBLANK(Q104),ISBLANK(S104),ISBLANK(U104),ISBLANK(V104),ISBLANK(W104),ISBLANK(X104),ISBLANK(Y104),ISBLANK(Z104),ISBLANK(AA104),ISBLANK(AB104)),FALSE,TRUE) -> TRUE | AE104: =IF((Q104="Voucher"=NOT(ISBLANK(R104))),TRUE,FALSE) -> FALSE | AF104: =IF(AND(AC104="KO",OR(COUNTBLANK(C104:F104)<>COLUMNS(C104:F104),COUNTBLANK(H104:AB104)<>COLUMNS(H104:AB104))),"ATTENZIONE!!! NON TUTTI I CAMPI OBBLIGATORI SONO STATI COMPILATI","") -> ATTENZIONE!!! NON TUTTI I CAMPI OBBLIGATORI SONO STATI COMPILATI | AG104: =IF(AB104="KO","ATTENZIONE!!! NON TUTTI I CAMPI OBBLIGATORI SONO STATI COMPILATI","") | AQ104: Bascapè | AR104: 018009
G105: =VLOOKUP(F105,[1]Label!$C$2:$D$1504,2,FALSE) -> #N/A | AC105: =IF(AND(OR(AD105=FALSE,AE105=FALSE),OR(COUNTBLANK(C105:F105)<>COLUMNS(C105:F105),COUNTBLANK(H105:AB105)<>COLUMNS(H105:AB105))),"KO","") | AD105: =IF(OR(ISBLANK(C105),ISBLANK(D105),ISBLANK(E105),ISBLANK(F105),ISBLANK(H105),ISBLANK(J105),ISBLANK(K105),ISBLANK(L105),ISBLANK(M105),ISBLANK(N105),ISBLANK(O105),ISBLANK(P105),ISBLANK(Q105),ISBLANK(S105),ISBLANK(U105),ISBLANK(V105),ISBLANK(W105),ISBLANK(X105),ISBLANK(Y105),ISBLANK(Z105),ISBLANK(AA105),ISBLANK(AB105)),FALSE,TRUE) -> FALSE | AE105: =IF((Q105="Voucher"=NOT(ISBLANK(R105))),TRUE,FALSE) -> TRUE | AF105: =IF(AND(AC105="KO",OR(COUNTBLANK(C105:F105)<>COLUMNS(C105:F105),COUNTBLANK(H105:AB105)<>COLUMNS(H105:AB105))),"ATTENZIONE!!! NON TUTTI I CAMPI OBBLIGATORI SONO STATI COMPILATI","") | AG105: =IF(AB105="KO","ATTENZIONE!!! NON TUTTI I CAMPI OBBLIGATORI SONO STATI COMPILATI","") | AQ105: Basiano | AR105: 015014
G106: =VLOOKUP(F106,[1]Label!$C$2:$D$1504,2,FALSE) -> #N/A | AC106: =IF(AND(OR(AD106=FALSE,AE106=FALSE),OR(COUNTBLANK(C106:F106)<>COLUMNS(C106:F106),COUNTBLANK(H106:AB106)<>COLUMNS(H106:AB106))),"KO","") | AD106: =IF(OR(ISBLANK(C106),ISBLANK(D106),ISBLANK(E106),ISBLANK(F106),ISBLANK(H106),ISBLANK(J106),ISBLANK(K106),ISBLANK(L106),ISBLANK(M106),ISBLANK(N106),ISBLANK(O106),ISBLANK(P106),ISBLANK(Q106),ISBLANK(S106),ISBLANK(U106),ISBLANK(V106),ISBLANK(W106),ISBLANK(X106),ISBLANK(Y106),ISBLANK(Z106),ISBLANK(AA106),ISBLANK(AB106)),FALSE,TRUE) -> FALSE | AE106: =IF((Q106="Voucher"=NOT(ISBLANK(R106))),TRUE,FALSE) -> TRUE | AF106: =IF(AND(AC106="KO",OR(COUNTBLANK(C106:F106)<>COLUMNS(C106:F106),COUNTBLANK(H106:AB106)<>COLUMNS(H106:AB106))),"ATTENZIONE!!! NON TUTTI I CAMPI OBBLIGATORI SONO STATI COMPILATI","") | AG106: =IF(AB106="KO","ATTENZIONE!!! NON TUTTI I CAMPI OBBLIGATORI SONO STATI COMPILATI","") | AQ106: Basiglio | AR106: 015015
G107: =VLOOKUP(F107,[1]Label!$C$2:$D$1504,2,FALSE) -> #N/A | AC107: =IF(AND(OR(AD107=FALSE,AE107=FALSE),OR(COUNTBLANK(C107:F107)<>COLUMNS(C107:F107),COUNTBLANK(H107:AB107)<>COLUMNS(H107:AB107))),"KO","") | AD107: =IF(OR(ISBLANK(C107),ISBLANK(D107),ISBLANK(E107),ISBLANK(F107),ISBLANK(H107),ISBLANK(J107),ISBLANK(K107),ISBLANK(L107),ISBLANK(M107),ISBLANK(N107),ISBLANK(O107),ISBLANK(P107),ISBLANK(Q107),ISBLANK(S107),ISBLANK(U107),ISBLANK(V107),ISBLANK(W107),ISBLANK(X107),ISBLANK(Y107),ISBLANK(Z107),ISBLANK(AA107),ISBLANK(AB107)),FALSE,TRUE) -> FALSE | AE107: =IF((Q107="Voucher"=NOT(ISBLANK(R107))),TRUE,FALSE) -> TRUE | AF107: =IF(AND(AC107="KO",OR(COUNTBLANK(C107:F107)<>COLUMNS(C107:F107),COUNTBLANK(H107:AB107)<>COLUMNS(H107:AB107))),"ATTENZIONE!!! NON TUTTI I CAMPI OBBLIGATORI SONO STATI COMPILATI","") | AG107: =IF(AB107="KO","ATTENZIONE!!! NON TUTTI I CAMPI OBBLIGATORI SONO STATI COMPILATI","") | AQ107: Bassano Bresciano | AR107: 017013
G108: =VLOOKUP(F108,[1]Label!$C$2:$D$1504,2,FALSE) -> #N/A | AC108: =IF(AND(OR(AD108=FALSE,AE108=FALSE),OR(COUNTBLANK(C108:F108)<>COLUMNS(C108:F108),COUNTBLANK(H108:AB108)<>COLUMNS(H108:AB108))),"KO","") | AD108: =IF(OR(ISBLANK(C108),ISBLANK(D108),ISBLANK(E108),ISBLANK(F108),ISBLANK(H108),ISBLANK(J108),ISBLANK(K108),ISBLANK(L108),ISBLANK(M108),ISBLANK(N108),ISBLANK(O108),ISBLANK(P108),ISBLANK(Q108),ISBLANK(S108),ISBLANK(U108),ISBLANK(V108),ISBLANK(W108),ISBLANK(X108),ISBLANK(Y108),ISBLANK(Z108),ISBLANK(AA108),ISBLANK(AB108)),FALSE,TRUE) -> FALSE | AE108: =IF((Q108="Voucher"=NOT(ISBLANK(R108))),TRUE,FALSE) -> TRUE | AF108: =IF(AND(AC108="KO",OR(COUNTBLANK(C108:F108)<>COLUMNS(C108:F108),COUNTBLANK(H108:AB108)<>COLUMNS(H108:AB108))),"ATTENZIONE!!! NON TUTTI I CAMPI OBBLIGATORI SONO STATI COMPILATI","") | AG108: =IF(AB108="KO","ATTENZIONE!!! NON TUTTI I CAMPI OBBLIGATORI SONO STATI COMPILATI","") | AQ108: Bastida de' Dossi | AR108: 018010
G109: =VLOOKUP(F109,[1]Label!$C$2:$D$1504,2,FALSE) -> #N/A | AC109: =IF(AND(OR(AD109=FALSE,AE109=FALSE),OR(COUNTBLANK(C109:F109)<>COLUMNS(C109:F109),COUNTBLANK(H109:AB109)<>COLUMNS(H109:AB109))),"KO","") | AD109: =IF(OR(ISBLANK(C109),ISBLANK(D109),ISBLANK(E109),ISBLANK(F109),ISBLANK(H109),ISBLANK(J109),ISBLANK(K109),ISBLANK(L109),ISBLANK(M109),ISBLANK(N109),ISBLANK(O109),ISBLANK(P109),ISBLANK(Q109),ISBLANK(S109),ISBLANK(U109),ISBLANK(V109),ISBLANK(W109),ISBLANK(X109),ISBLANK(Y109),ISBLANK(Z109),ISBLANK(AA109),ISBLANK(AB109)),FALSE,TRUE) -> FALSE | AE109: =IF((Q109="Voucher"=NOT(ISBLANK(R109))),TRUE,FALSE) -> TRUE | AF109: =IF(AND(AC109="KO",OR(COUNTBLANK(C109:F109)<>COLUMNS(C109:F109),COUNTBLANK(H109:AB109)<>COLUMNS(H109:AB109))),"ATTENZIONE!!! NON TUTTI I CAMPI OBBLIGATORI SONO STATI COMPILATI","") | AG109: =IF(AB109="KO","ATTENZIONE!!! NON TUTTI I CAMPI OBBLIGATORI SONO STATI COMPILATI","") | AQ109: Bastida Pancarana | AR109: 018011
G110: =VLOOKUP(F110,[1]Label!$C$2:$D$1504,2,FALSE) -> #N/A | AC110: =IF(AND(OR(AD110=FALSE,AE110=FALSE),OR(COUNTBLANK(C110:F110)<>COLUMNS(C110:F110),COUNTBLANK(H110:AB110)<>COLUMNS(H110:AB110))),"KO","") | AD110: =IF(OR(ISBLANK(C110),ISBLANK(D110),ISBLANK(E110),ISBLANK(F110),ISBLANK(H110),ISBLANK(J110),ISBLANK(K110),ISBLANK(L110),ISBLANK(M110),ISBLANK(N110),ISBLANK(O110),ISBLANK(P110),ISBLANK(Q110),ISBLANK(S110),ISBLANK(U110),ISBLANK(V110),ISBLANK(W110),ISBLANK(X110),ISBLANK(Y110),ISBLANK(Z110),ISBLANK(AA110),ISBLANK(AB110)),FALSE,TRUE) -> FALSE | AE110: =IF((Q110="Voucher"=NOT(ISBLANK(R110))),TRUE,FALSE) -> TRUE | AF110: =IF(AND(AC110="KO",OR(COUNTBLANK(C110:F110)<>COLUMNS(C110:F110),COUNTBLANK(H110:AB110)<>COLUMNS(H110:AB110))),"ATTENZIONE!!! NON TUTTI I CAMPI OBBLIGATORI SONO STATI COMPILATI","") | AG110: =IF(AB110="KO","ATTENZIONE!!! NON TUTTI I CAMPI OBBLIGATORI SONO STATI COMPILATI","") | AQ110: Battuda | AR110: 018012
G111: =VLOOKUP(F111,[1]Label!$C$2:$D$1504,2,FALSE) -> #N/A | AC111: =IF(AND(OR(AD111=FALSE,AE111=FALSE),OR(COUNTBLANK(C111:F111)<>COLUMNS(C111:F111),COUNTBLANK(H111:AB111)<>COLUMNS(H111:AB111))),"KO","") | AD111: =IF(OR(ISBLANK(C111),ISBLANK(D111),ISBLANK(E111),ISBLANK(F111),ISBLANK(H111),ISBLANK(J111),ISBLANK(K111),ISBLANK(L111),ISBLANK(M111),ISBLANK(N111),ISBLANK(O111),ISBLANK(P111),ISBLANK(Q111),ISBLANK(S111),ISBLANK(U111),ISBLANK(V111),ISBLANK(W111),ISBLANK(X111),ISBLANK(Y111),ISBLANK(Z111),ISBLANK(AA111),ISBLANK(AB111)),FALSE,TRUE) -> FALSE | AE111: =IF((Q111="Voucher"=NOT(ISBLANK(R111))),TRUE,FALSE) -> TRUE | AF111: =IF(AND(AC111="KO",OR(COUNTBLANK(C111:F111)<>COLUMNS(C111:F111),COUNTBLANK(H111:AB111)<>COLUMNS(H111:AB111))),"ATTENZIONE!!! NON TUTTI I CAMPI OBBLIGATORI SONO STATI COMPILATI","") | AG111: =IF(AB111="KO","ATTENZIONE!!! NON TUTTI I CAMPI OBBLIGATORI SONO STATI COMPILATI","") | AQ111: Bedero Valcuvia | AR111: 012010
G112: =VLOOKUP(F112,[1]Label!$C$2:$D$1504,2,FALSE) -> #N/A | AC112: =IF(AND(OR(AD112=FALSE,AE112=FALSE),OR(COUNTBLANK(C112:F112)<>COLUMNS(C112:F112),COUNTBLANK(H112:AB112)<>COLUMNS(H112:AB112))),"KO","") | AD112: =IF(OR(ISBLANK(C112),ISBLANK(D112),ISBLANK(E112),ISBLANK(F112),ISBLANK(H112),ISBLANK(J112),ISBLANK(K112),ISBLANK(L112),ISBLANK(M112),ISBLANK(N112),ISBLANK(O112),ISBLANK(P112),ISBLANK(Q112),ISBLANK(S112),ISBLANK(U112),ISBLANK(V112),ISBLANK(W112),ISBLANK(X112),ISBLANK(Y112),ISBLANK(Z112),ISBLANK(AA112),ISBLANK(AB112)),FALSE,TRUE) -> FALSE | AE112: =IF((Q112="Voucher"=NOT(ISBLANK(R112))),TRUE,FALSE) -> TRUE | AF112: =IF(AND(AC112="KO",OR(COUNTBLANK(C112:F112)<>COLUMNS(C112:F112),COUNTBLANK(H112:AB112)<>COLUMNS(H112:AB112))),"ATTENZIONE!!! NON TUTTI I CAMPI OBBLIGATORI SONO STATI COMPILATI","") | AG112: =IF(AB112="KO","ATTENZIONE!!! NON TUTTI I CAMPI OBBLIGATORI SONO STATI COMPILATI","") | AQ112: Bedizzole | AR112: 017014
G113: =VLOOKUP(F113,[1]Label!$C$2:$D$1504,2,FALSE) -> #N/A | AC113: =IF(AND(OR(AD113=FALSE,AE113=FALSE),OR(COUNTBLANK(C113:F113)<>COLUMNS(C113:F113),COUNTBLANK(H113:AB113)<>COLUMNS(H113:AB113))),"KO","") | AD113: =IF(OR(ISBLANK(C113),ISBLANK(D113),ISBLANK(E113),ISBLANK(F113),ISBLANK(H113),ISBLANK(J113),ISBLANK(K113),ISBLANK(L113),ISBLANK(M113),ISBLANK(N113),ISBLANK(O113),ISBLANK(P113),ISBLANK(Q113),ISBLANK(S113),ISBLANK(U113),ISBLANK(V113),ISBLANK(W113),ISBLANK(X113),ISBLANK(Y113),ISBLANK(Z113),ISBLANK(AA113),ISBLANK(AB113)),FALSE,TRUE) -> FALSE | AE113: =IF((Q113="Voucher"=NOT(ISBLANK(R113))),TRUE,FALSE) -> TRUE | AF113: =IF(AND(AC113="KO",OR(COUNTBLANK(C113:F113)<>COLUMNS(C113:F113),COUNTBLANK(H113:AB113)<>COLUMNS(H113:AB113))),"ATTENZIONE!!! NON TUTTI I CAMPI OBBLIGATORI SONO STATI COMPILATI","") | AG113: =IF(AB113="KO","ATTENZIONE!!! NON TUTTI I CAMPI OBBLIGATORI SONO STATI COMPILATI","") | AQ113: Bedulita | AR113: 016022
G114: =VLOOKUP(F114,[1]Label!$C$2:$D$1504,2,FALSE) -> #N/A | AC114: =IF(AND(OR(AD114=FALSE,AE114=FALSE),OR(COUNTBLANK(C114:F114)<>COLUMNS(C114:F114),COUNTBLANK(H114:AB114)<>COLUMNS(H114:AB114))),"KO","") | AD114: =IF(OR(ISBLANK(C114),ISBLANK(D114),ISBLANK(E114),ISBLANK(F114),ISBLANK(H114),ISBLANK(J114),ISBLANK(K114),ISBLANK(L114),ISBLANK(M114),ISBLANK(N114),ISBLANK(O114),ISBLANK(P114),ISBLANK(Q114),ISBLANK(S114),ISBLANK(U114),ISBLANK(V114),ISBLANK(W114),ISBLANK(X114),ISBLANK(Y114),ISBLANK(Z114),ISBLANK(AA114),ISBLANK(AB114)),FALSE,TRUE) -> FALSE | AE114: =IF((Q114="Voucher"=NOT(ISBLANK(R114))),TRUE,FALSE) -> TRUE | AF114: =IF(AND(AC114="KO",OR(COUNTBLANK(C114:F114)<>COLUMNS(C114:F114),COUNTBLANK(H114:AB114)<>COLUMNS(H114:AB114))),"ATTENZIONE!!! NON TUTTI I CAMPI OBBLIGATORI SONO STATI COMPILATI","") | AG114: =IF(AB114="KO","ATTENZIONE!!! NON TUTTI I CAMPI OBBLIGATORI SONO STATI COMPILATI","") | AQ114: Belgioioso | AR114: 018013
G115: =VLOOKUP(F115,[1]Label!$C$2:$D$1504,2,FALSE) -> #N/A | AC115: =IF(AND(OR(AD115=FALSE,AE115=FALSE),OR(COUNTBLANK(C115:F115)<>COLUMNS(C115:F115),COUNTBLANK(H115:AB115)<>COLUMNS(H115:AB115))),"KO","") | AD115: =IF(OR(ISBLANK(C115),ISBLANK(D115),ISBLANK(E115),ISBLANK(F115),ISBLANK(H115),ISBLANK(J115),ISBLANK(K115),ISBLANK(L115),ISBLANK(M115),ISBLANK(N115),ISBLANK(O115),ISBLANK(P115),ISBLANK(Q115),ISBLANK(S115),ISBLANK(U115),ISBLANK(V115),ISBLANK(W115),ISBLANK(X115),ISBLANK(Y115),ISBLANK(Z115),ISBLANK(AA115),ISBLANK(AB115)),FALSE,TRUE) -> FALSE | AE115: =IF((Q115="Voucher"=NOT(ISBLANK(R115))),TRUE,FALSE) -> TRUE | AF115: =IF(AND(AC115="KO",OR(COUNTBLANK(C115:F115)<>COLUMNS(C115:F115),COUNTBLANK(H115:AB115)<>COLUMNS(H115:AB115))),"ATTENZIONE!!! NON TUTTI I CAMPI OBBLIGATORI SONO STATI COMPILATI","") | AG115: =IF(AB115="KO","ATTENZIONE!!! NON TUTTI I CAMPI OBBLIGATORI SONO STATI COMPILATI","") | AQ115: Bellagio | AR115: 013019
G116: =VLOOKUP(F116,[1]Label!$C$2:$D$1504,2,FALSE) -> #N/A | AC116: =IF(AND(OR(AD116=FALSE,AE116=FALSE),OR(COUNTBLANK(C116:F116)<>COLUMNS(C116:F116),COUNTBLANK(H116:AB116)<>COLUMNS(H116:AB116))),"KO","") | AD116: =IF(OR(ISBLANK(C116),ISBLANK(D116),ISBLANK(E116),ISBLANK(F116),ISBLANK(H116),ISBLANK(J116),ISBLANK(K116),ISBLANK(L116),ISBLANK(M116),ISBLANK(N116),ISBLANK(O116),ISBLANK(P116),ISBLANK(Q116),ISBLANK(S116),ISBLANK(U116),ISBLANK(V116),ISBLANK(W116),ISBLANK(X116),ISBLANK(Y116),ISBLANK(Z116),ISBLANK(AA116),ISBLANK(AB116)),FALSE,TRUE) -> FALSE | AE116: =IF((Q116="Voucher"=NOT(ISBLANK(R116))),TRUE,FALSE) -> TRUE | AF116: =IF(AND(AC116="KO",OR(COUNTBLANK(C116:F116)<>COLUMNS(C116:F116),COUNTBLANK(H116:AB116)<>COLUMNS(H116:AB116))),"ATTENZIONE!!! NON TUTTI I CAMPI OBBLIGATORI SONO STATI COMPILATI","") | AG116: =IF(AB116="KO","ATTENZIONE!!! NON TUTTI I CAMPI OBBLIGATORI SONO STATI COMPILATI","") | AQ116: Bellano | AR116: 097008
... G399: =VLOOKUP(F399,[1]Label!$C$2:$D$1504,2,FALSE) -> #N/A | AC399: =IF(AND(OR(AD399=FALSE,AE399=FALSE),OR(COUNTBLANK(C399:F399)<>COLUMNS(C399:F399),COUNTBLANK(H399:AB399)<>COLUMNS(H399:AB399))),"KO","") | AD399: =IF(OR(ISBLANK(C399),ISBLANK(D399),ISBLANK(E399),ISBLANK(F399),ISBLANK(H399),ISBLANK(J399),ISBLANK(K399),ISBLANK(L399),ISBLANK(M399),ISBLANK(N399),ISBLANK(O399),ISBLANK(P399),ISBLANK(Q399),ISBLANK(S399),ISBLANK(U399),ISBLANK(V399),ISBLANK(W399),ISBLANK(X399),ISBLANK(Y399),ISBLANK(Z399),ISBLANK(AA399),ISBLANK(AB399)),FALSE,TRUE) -> FALSE | AE399: =IF((Q399="Voucher"=NOT(ISBLANK(R399))),TRUE,FALSE) -> TRUE | AF399: =IF(AND(AC399="KO",OR(COUNTBLANK(C399:F399)<>COLUMNS(C399:F399),COUNTBLANK(H399:AB399)<>COLUMNS(H399:AB399))),"ATTENZIONE!!! NON TUTTI I CAMPI OBBLIGATORI SONO STATI COMPILATI","") | AG399: =IF(AB399="KO","ATTENZIONE!!! NON TUTTI I CAMPI OBBLIGATORI SONO STATI COMPILATI","") | AQ399: Cazzago Brabbia | AR399: 012049
G400: =VLOOKUP(F400,[1]Label!$C$2:$D$1504,2,FALSE) -> #N/A | AC400: =IF(AND(OR(AD400=FALSE,AE400=FALSE),OR(COUNTBLANK(C400:F400)<>COLUMNS(C400:F400),COUNTBLANK(H400:AB400)<>COLUMNS(H400:AB400))),"KO","") | AD400: =IF(OR(ISBLANK(C400),ISBLANK(D400),ISBLANK(E400),ISBLANK(F400),ISBLANK(H400),ISBLANK(J400),ISBLANK(K400),ISBLANK(L400),ISBLANK(M400),ISBLANK(N400),ISBLANK(O400),ISBLANK(P400),ISBLANK(Q400),ISBLANK(S400),ISBLANK(U400),ISBLANK(V400),ISBLANK(W400),ISBLANK(X400),ISBLANK(Y400),ISBLANK(Z400),ISBLANK(AA400),ISBLANK(AB400)),FALSE,TRUE) -> FALSE | AE400: =IF((Q400="Voucher"=NOT(ISBLANK(R400))),TRUE,FALSE) -> TRUE | AF400: =IF(AND(AC400="KO",OR(COUNTBLANK(C400:F400)<>COLUMNS(C400:F400),COUNTBLANK(H400:AB400)<>COLUMNS(H400:AB400))),"ATTENZIONE!!! NON TUTTI I CAMPI OBBLIGATORI SONO STATI COMPILATI","") | AQ400: Cazzago San Martino | AR400: 017046
G401: =VLOOKUP(F401,[1]Label!$C$2:$D$1504,2,FALSE) -> #N/A | AC401: =IF(AND(OR(AD401=FALSE,AE401=FALSE),OR(COUNTBLANK(C401:F401)<>COLUMNS(C401:F401),COUNTBLANK(H401:AB401)<>COLUMNS(H401:AB401))),"KO","") | AD401: =IF(OR(ISBLANK(C401),ISBLANK(D401),ISBLANK(E401),ISBLANK(F401),ISBLANK(H401),ISBLANK(J401),ISBLANK(K401),ISBLANK(L401),ISBLANK(M401),ISBLANK(N401),ISBLANK(O401),ISBLANK(P401),ISBLANK(Q401),ISBLANK(S401),ISBLANK(U401),ISBLANK(V401),ISBLANK(W401),ISBLANK(X401),ISBLANK(Y401),ISBLANK(Z401),ISBLANK(AA401),ISBLANK(AB401)),FALSE,TRUE) -> FALSE | AE401: =IF((Q401="Voucher"=NOT(ISBLANK(R401))),TRUE,FALSE) -> TRUE | AF401: =IF(AND(AC401="KO",OR(COUNTBLANK(C401:F401)<>COLUMNS(C401:F401),COUNTBLANK(H401:AB401)<>COLUMNS(H401:AB401))),"ATTENZIONE!!! NON TUTTI I CAMPI OBBLIGATORI SONO STATI COMPILATI","") | AQ401: Cazzano Sant'Andrea | AR401: 016067
G402: =VLOOKUP(F402,[1]Label!$C$2:$D$1504,2,FALSE) -> #N/A | AC402: =IF(AND(OR(AD402=FALSE,AE402=FALSE),OR(COUNTBLANK(C402:F402)<>COLUMNS(C402:F402),COUNTBLANK(H402:AB402)<>COLUMNS(H402:AB402))),"KO","") | AD402: =IF(OR(ISBLANK(C402),ISBLANK(D402),ISBLANK(E402),ISBLANK(F402),ISBLANK(H402),ISBLANK(J402),ISBLANK(K402),ISBLANK(L402),ISBLANK(M402),ISBLANK(N402),ISBLANK(O402),ISBLANK(P402),ISBLANK(Q402),ISBLANK(S402),ISBLANK(U402),ISBLANK(V402),ISBLANK(W402),ISBLANK(X402),ISBLANK(Y402),ISBLANK(Z402),ISBLANK(AA402),ISBLANK(AB402)),FALSE,TRUE) -> FALSE | AE402: =IF((Q402="Voucher"=NOT(ISBLANK(R402))),TRUE,FALSE) -> TRUE | AF402: =IF(AND(AC402="KO",OR(COUNTBLANK(C402:F402)<>COLUMNS(C402:F402),COUNTBLANK(H402:AB402)<>COLUMNS(H402:AB402))),"ATTENZIONE!!! NON TUTTI I CAMPI OBBLIGATORI SONO STATI COMPILATI","") | AQ402: Cecima | AR402: 018042
G403: =VLOOKUP(F403,[1]Label!$C$2:$D$1504,2,FALSE) -> #N/A | AC403: =IF(AND(OR(AD403=FALSE,AE403=FALSE),OR(COUNTBLANK(C403:F403)<>COLUMNS(C403:F403),COUNTBLANK(H403:AB403)<>COLUMNS(H403:AB403))),"KO","") | AD403: =IF(OR(ISBLANK(C403),ISBLANK(D403),ISBLANK(E403),ISBLANK(F403),ISBLANK(H403),ISBLANK(J403),ISBLANK(K403),ISBLANK(L403),ISBLANK(M403),ISBLANK(N403),ISBLANK(O403),ISBLANK(P403),ISBLANK(Q403),ISBLANK(S403),ISBLANK(U403),ISBLANK(V403),ISBLANK(W403),ISBLANK(X403),ISBLANK(Y403),ISBLANK(Z403),ISBLANK(AA403),ISBLANK(AB403)),FALSE,TRUE) -> FALSE | AE403: =IF((Q403="Voucher"=NOT(ISBLANK(R403))),TRUE,FALSE) -> TRUE | AF403: =IF(AND(AC403="KO",OR(COUNTBLANK(C403:F403)<>COLUMNS(C403:F403),COUNTBLANK(H403:AB403)<>COLUMNS(H403:AB403))),"ATTENZIONE!!! NON TUTTI I CAMPI OBBLIGATORI SONO STATI COMPILATI","") | AQ403: Cedegolo | AR403: 017047
G404: =VLOOKUP(F404,[1]Label!$C$2:$D$1504,2,FALSE) -> #N/A | AC404: =IF(AND(OR(AD404=FALSE,AE404=FALSE),OR(COUNTBLANK(C404:F404)<>COLUMNS(C404:F404),COUNTBLANK(H404:AB404)<>COLUMNS(H404:AB404))),"KO","") | AD404: =IF(OR(ISBLANK(C404),ISBLANK(D404),ISBLANK(E404),ISBLANK(F404),ISBLANK(H404),ISBLANK(J404),ISBLANK(K404),ISBLANK(L404),ISBLANK(M404),ISBLANK(N404),ISBLANK(O404),ISBLANK(P404),ISBLANK(Q404),ISBLANK(S404),ISBLANK(U404),ISBLANK(V404),ISBLANK(W404),ISBLANK(X404),ISBLANK(Y404),ISBLANK(Z404),ISBLANK(AA404),ISBLANK(AB404)),FALSE,TRUE) -> FALSE | AE404: =IF((Q404="Voucher"=NOT(ISBLANK(R404))),TRUE,FALSE) -> TRUE | AF404: =IF(AND(AC404="KO",OR(COUNTBLANK(C404:F404)<>COLUMNS(C404:F404),COUNTBLANK(H404:AB404)<>COLUMNS(H404:AB404))),"ATTENZIONE!!! NON TUTTI I CAMPI OBBLIGATORI SONO STATI COMPILATI","") | AQ404: Cedrasco | AR404: 014016
G405: =VLOOKUP(F405,[1]Label!$C$2:$D$1504,2,FALSE) -> #N/A | AC405: =IF(AND(OR(AD405=FALSE,AE405=FALSE),OR(COUNTBLANK(C405:F405)<>COLUMNS(C405:F405),COUNTBLANK(H405:AB405)<>COLUMNS(H405:AB405))),"KO","") | AD405: =IF(OR(ISBLANK(C405),ISBLANK(D405),ISBLANK(E405),ISBLANK(F405),ISBLANK(H405),ISBLANK(J405),ISBLANK(K405),ISBLANK(L405),ISBLANK(M405),ISBLANK(N405),ISBLANK(O405),ISBLANK(P405),ISBLANK(Q405),ISBLANK(S405),ISBLANK(U405),ISBLANK(V405),ISBLANK(W405),ISBLANK(X405),ISBLANK(Y405),ISBLANK(Z405),ISBLANK(AA405),ISBLANK(AB405)),FALSE,TRUE) -> FALSE | AE405: =IF((Q405="Voucher"=NOT(ISBLANK(R405))),TRUE,FALSE) -> TRUE | AF405: =IF(AND(AC405="KO",OR(COUNTBLANK(C405:F405)<>COLUMNS(C405:F405),COUNTBLANK(H405:AB405)<>COLUMNS(H405:AB405))),"ATTENZIONE!!! NON TUTTI I CAMPI OBBLIGATORI SONO STATI COMPILATI","") | AQ405: Cella Dati | AR405: 019028
G406: =VLOOKUP(F406,[1]Label!$C$2:$D$1504,2,FALSE) -> #N/A | AC406: =IF(AND(OR(AD406=FALSE,AE406=FALSE),OR(COUNTBLANK(C406:F406)<>COLUMNS(C406:F406),COUNTBLANK(H406:AB406)<>COLUMNS(H406:AB406))),"KO","") | AD406: =IF(OR(ISBLANK(C406),ISBLANK(D406),ISBLANK(E406),ISBLANK(F406),ISBLANK(H406),ISBLANK(J406),ISBLANK(K406),ISBLANK(L406),ISBLANK(M406),ISBLANK(N406),ISBLANK(O406),ISBLANK(P406),ISBLANK(Q406),ISBLANK(S406),ISBLANK(U406),ISBLANK(V406),ISBLANK(W406),ISBLANK(X406),ISBLANK(Y406),ISBLANK(Z406),ISBLANK(AA406),ISBLANK(AB406)),FALSE,TRUE) -> FALSE | AE406: =IF((Q406="Voucher"=NOT(ISBLANK(R406))),TRUE,FALSE) -> TRUE | AF406: =IF(AND(AC406="KO",OR(COUNTBLANK(C406:F406)<>COLUMNS(C406:F406),COUNTBLANK(H406:AB406)<>COLUMNS(H406:AB406))),"ATTENZIONE!!! NON TUTTI I CAMPI OBBLIGATORI SONO STATI COMPILATI","") | AQ406: Cellatica | AR406: 017048
...

Sheet ADM
A1: Anno di rendicontazione | B1: =[1]Ente_gestore!B1 -> 2025
A2: Denominazione Ambito | B2: =[1]Ente_gestore!B2 -> Cremona
A3: Denominazione Ente gestore | B3: =SAD_SADH!C3 -> Comune di
A4: Tipologia UdO | B4: ADM | C4: Assistenza Domiciliare Minori | Q4: =SUM(Q105:Q1600) -> 0 | T4: =SUM(T105:T1600) -> 0 | U4: =SUM(U105:U1600) -> 0 | V4: =SUM(V105:V1600) -> 0 | W4: =SUM(W105:W1600) -> 0 | X4: =SUM(X105:X1600) -> 0 | Y4: =SUM(Y105:Y1600) -> 0 | Z4: =SUM(Z105:Z1600) -> 0 | AA4: =SUM(AA105:AA1600) -> 0
A5: Dati anagrafici utente | G5: Periodo di erogazione del servizio | I5: Specifiche utenza | N5: Integrazione con altri servizi | P5: Tipologia del Servizio | R5: Tipologia prestazioni erogate | T5: Numero Accessi/ore Personale
A6: Cognome e Nome Beneficiario | B6: Codice individuale utente | C6: Data di nascita utente | D6: Genere utente | E6: Denominazione Comune di residenza utente | F6: Codice ISTAT Comune di residenza utente (in automatico) | G6: Data inizio presa in carico | H6: Data fine presa in carico | I6: Utente disabile | J6: Invalidità riconosciuta | K6: Utente psichiatrico | L6: Condizione familiare | M6: Presenza Caregiver | N6: Già in carico presso Servizi Sociosanitari | O6: Già in carico presso Servizi Sanitari | P6: Tipologia di gestione del servizio | Q6: Valore complessivo del Voucher utilizzato dall'utente durante il periodo rendicontato | R6: Prestazione prevalente | S6: Eventuale prestazione secondaria | T6: Numero totale Accessi ASA/OSS annuali | U6: Numero totale Ore ASA/OSS annuali | V6: Numero Accessi Educatori o figure equipollenti | W6: Numero totale Ore Educatori o figure equipollenti | X6: Numero Accessi Personale non qualificato | Y6: Numero totale ore Personale non qualificato | Z6: Numero Accessi Personale Volontario | AA6: Numero Ore Personale Volontario
B7: XXXXXXXXXXXXXXXX | C7: 44194 | D7: XXXXXXX | E7: XXXXXXXXXXXXXXXXXXXXXXXXXXXXXXXXXXXXXXXXXXXXXXXXXX | F7: XXXXXXXX | G7: 44195 | H7: 44196 | I7: XX | J7: XX | K7: XX | L7: XXXXXXXXXXX | M7: XX | N7: XX | O7: XX | P7: XXXXXXXXXXXXXXXXXXX | Q7: 999999 | R7: XXXXXXXXXXXXXXXXXXXXXXXXXXXXXXXXXXXXXXXXXXXXXXXXXXXXXXXXXXXXXXXXXXXXXXXXXXXXXXXXXXXXXXXXXXXXXXXXXXXXXXXXXXXXXXXXXXXXXXXXXXXXXXXXXXXXXXXXXXXXXXXXXXXXXXXXXXXXXXXXXXXXXXXXX | S7: XXXXXXXXXXXXXXXXXXXXXXXXXXXXXXXXXXXXXXXXXXXXXXXXXXXXXXXXXXXXXXXXXXXXXXXXXXXXXXXXXXXXXXXXXXXXXXXXXXXXXXXXXXXXXXXXXXXXXXXXXXXXXXXXXXXXXXXXXXXXXXXXXXXXXXXXXXXXXXXXXXXXXXXXX | T7: 999999 | U7: 999999 | V7: 999999 | W7: 999999 | X7: 999999 | Y7: 999999 | Z7: 999999 | AA7: 999999 | AB7: =IF(AND(OR(AC7=FALSE,AD7=FALSE),OR(COUNTBLANK(B7:E7)<>COLUMNS(B7:E7),COUNTBLANK(G7:AA7)<>COLUMNS(G7:AA7))),"KO","") -> KO | AC7: =IF(OR(ISBLANK(B7),ISBLANK(C7),ISBLANK(D7),ISBLANK(E7),ISBLANK(G7),ISBLANK(I7),ISBLANK(J7),ISBLANK(K7),ISBLANK(L7),ISBLANK(M7),ISBLANK(N7),ISBLANK(O7),ISBLANK(P7),ISBLANK(R7),ISBLANK(T7),ISBLANK(U7),ISBLANK(V7),ISBLANK(W7),ISBLANK(X7),ISBLANK(Y7),ISBLANK(Z7),ISBLANK(AA7)),FALSE,TRUE) -> TRUE | AD7: =IF((P7="Voucher"=NOT(ISBLANK(Q7))),TRUE,FALSE) -> FALSE | AE7: =IF(AND(AB7="KO",OR(COUNTBLANK(B7:E7)<>COLUMNS(B7:E7),COUNTBLANK(G7:AA7)<>COLUMNS(G7:AA7))),"ATTENZIONE!!! NON TUTTI I CAMPI OBBLIGATORI SONO STATI COMPILATI","") -> ATTENZIONE!!! NON TUTTI I CAMPI OBBLIGATORI SONO STATI COMPILATI | AF7: =SUM(T7:Z7) -> 6999993 | AG7: =IF(AA7="KO","ATTENZIONE!!! NON TUTTI I CAMPI OBBLIGATORI SONO STATI COMPILATI","") | AQ7: Comune fuori Regione Lombardia | AR7: 999999
B8: XXXXXXXXXXXXXXXX | C8: 44194 | D8: XXXXXXX | E8: XXXXXXXXXXXXXXXXXXXXXXXXXXXXXXXXXXXXXXXXXXXXXXXXXX | F8: XXXXXXXX | G8: 44195 | H8: 44196 | I8: XX | J8: XX | K8: XX | L8: XXXXXXXXXXX | M8: XX | N8: XX | O8: XX | P8: XXXXXXXXXXXXXXXXXXX | Q8: 999999 | R8: XXXXXXXXXXXXXXXXXXXXXXXXXXXXXXXXXXXXXXXXXXXXXXXXXXXXXXXXXXXXXXXXXXXXXXXXXXXXXXXXXXXXXXXXXXXXXXXXXXXXXXXXXXXXXXXXXXXXXXXXXXXXXXXXXXXXXXXXXXXXXXXXXXXXXXXXXXXXXXXXXXXXXXXXX | S8: XXXXXXXXXXXXXXXXXXXXXXXXXXXXXXXXXXXXXXXXXXXXXXXXXXXXXXXXXXXXXXXXXXXXXXXXXXXXXXXXXXXXXXXXXXXXXXXXXXXXXXXXXXXXXXXXXXXXXXXXXXXXXXXXXXXXXXXXXXXXXXXXXXXXXXXXXXXXXXXXXXXXXXXXX | T8: 999999 | U8: 999999 | V8: 999999 | W8: 999999 | X8: 999999 | Y8: 999999 | Z8: 999999 | AA8: 999999 | AB8: =IF(AND(OR(AC8=FALSE,AD8=FALSE),OR(COUNTBLANK(B8:E8)<>COLUMNS(B8:E8),COUNTBLANK(G8:AA8)<>COLUMNS(G8:AA8))),"KO","") -> KO | AC8: =IF(OR(ISBLANK(B8),ISBLANK(C8),ISBLANK(D8),ISBLANK(E8),ISBLANK(G8),ISBLANK(I8),ISBLANK(J8),ISBLANK(K8),ISBLANK(L8),ISBLANK(M8),ISBLANK(N8),ISBLANK(O8),ISBLANK(P8),ISBLANK(R8),ISBLANK(T8),ISBLANK(U8),ISBLANK(V8),ISBLANK(W8),ISBLANK(X8),ISBLANK(Y8),ISBLANK(Z8),ISBLANK(AA8)),FALSE,TRUE) -> TRUE | AD8: =IF((P8="Voucher"=NOT(ISBLANK(Q8))),TRUE,FALSE) -> FALSE | AE8: =IF(AND(AB8="KO",OR(COUNTBLANK(B8:E8)<>COLUMNS(B8:E8),COUNTBLANK(G8:AA8)<>COLUMNS(G8:AA8))),"ATTENZIONE!!! NON TUTTI I CAMPI OBBLIGATORI SONO STATI COMPILATI","") -> ATTENZIONE!!! NON TUTTI I CAMPI OBBLIGATORI SONO STATI COMPILATI | AF8: =SUM(T8:Z8) -> 6999993 | AG8: =IF(AA8="KO","ATTENZIONE!!! NON TUTTI I CAMPI OBBLIGATORI SONO STATI COMPILATI","") | AQ8: Abbadia Cerreto | AR8: 098001
B9: XXXXXXXXXXXXXXXX | C9: 44194 | D9: XXXXXXX | E9: XXXXXXXXXXXXXXXXXXXXXXXXXXXXXXXXXXXXXXXXXXXXXXXXXX | F9: XXXXXXXX | G9: 44195 | H9: 44196 | I9: XX | J9: XX | K9: XX | L9: XXXXXXXXXXX | M9: XX | N9: XX | O9: XX | P9: XXXXXXXXXXXXXXXXXXX | Q9: 999999 | R9: XXXXXXXXXXXXXXXXXXXXXXXXXXXXXXXXXXXXXXXXXXXXXXXXXXXXXXXXXXXXXXXXXXXXXXXXXXXXXXXXXXXXXXXXXXXXXXXXXXXXXXXXXXXXXXXXXXXXXXXXXXXXXXXXXXXXXXXXXXXXXXXXXXXXXXXXXXXXXXXXXXXXXXXXX | S9: XXXXXXXXXXXXXXXXXXXXXXXXXXXXXXXXXXXXXXXXXXXXXXXXXXXXXXXXXXXXXXXXXXXXXXXXXXXXXXXXXXXXXXXXXXXXXXXXXXXXXXXXXXXXXXXXXXXXXXXXXXXXXXXXXXXXXXXXXXXXXXXXXXXXXXXXXXXXXXXXXXXXXXXXX | T9: 999999 | U9: 999999 | V9: 999999 | W9: 999999 | X9: 999999 | Y9: 999999 | Z9: 999999 | AA9: 999999 | AB9: =IF(AND(OR(AC9=FALSE,AD9=FALSE),OR(COUNTBLANK(B9:E9)<>COLUMNS(B9:E9),COUNTBLANK(G9:AA9)<>COLUMNS(G9:AA9))),"KO","") -> KO | AC9: =IF(OR(ISBLANK(B9),ISBLANK(C9),ISBLANK(D9),ISBLANK(E9),ISBLANK(G9),ISBLANK(I9),ISBLANK(J9),ISBLANK(K9),ISBLANK(L9),ISBLANK(M9),ISBLANK(N9),ISBLANK(O9),ISBLANK(P9),ISBLANK(R9),ISBLANK(T9),ISBLANK(U9),ISBLANK(V9),ISBLANK(W9),ISBLANK(X9),ISBLANK(Y9),ISBLANK(Z9),ISBLANK(AA9)),FALSE,TRUE) -> TRUE | AD9: =IF((P9="Voucher"=NOT(ISBLANK(Q9))),TRUE,FALSE) -> FALSE | AE9: =IF(AND(AB9="KO",OR(COUNTBLANK(B9:E9)<>COLUMNS(B9:E9),COUNTBLANK(G9:AA9)<>COLUMNS(G9:AA9))),"ATTENZIONE!!! NON TUTTI I CAMPI OBBLIGATORI SONO STATI COMPILATI","") -> ATTENZIONE!!! NON TUTTI I CAMPI OBBLIGATORI SONO STATI COMPILATI | AF9: =SUM(T9:Z9) -> 6999993 | AG9: =IF(AA9="KO","ATTENZIONE!!! NON TUTTI I CAMPI OBBLIGATORI SONO STATI COMPILATI","") | AQ9: Abbadia Lariana | AR9: 097001
B10: XXXXXXXXXXXXXXXX | C10: 44194 | D10: XXXXXXX | E10: XXXXXXXXXXXXXXXXXXXXXXXXXXXXXXXXXXXXXXXXXXXXXXXXXX | F10: XXXXXXXX | G10: 44195 | H10: 44196 | I10: XX | J10: XX | K10: XX | L10: XXXXXXXXXXX | M10: XX | N10: XX | O10: XX | P10: XXXXXXXXXXXXXXXXXXX | Q10: 999999 | R10: XXXXXXXXXXXXXXXXXXXXXXXXXXXXXXXXXXXXXXXXXXXXXXXXXXXXXXXXXXXXXXXXXXXXXXXXXXXXXXXXXXXXXXXXXXXXXXXXXXXXXXXXXXXXXXXXXXXXXXXXXXXXXXXXXXXXXXXXXXXXXXXXXXXXXXXXXXXXXXXXXXXXXXXXX | S10: XXXXXXXXXXXXXXXXXXXXXXXXXXXXXXXXXXXXXXXXXXXXXXXXXXXXXXXXXXXXXXXXXXXXXXXXXXXXXXXXXXXXXXXXXXXXXXXXXXXXXXXXXXXXXXXXXXXXXXXXXXXXXXXXXXXXXXXXXXXXXXXXXXXXXXXXXXXXXXXXXXXXXXXXX | T10: 999999 | U10: 999999 | V10: 999999 | W10: 999999 | X10: 999999 | Y10: 999999 | Z10: 999999 | AA10: 999999 | AB10: =IF(AND(OR(AC10=FALSE,AD10=FALSE),OR(COUNTBLANK(B10:E10)<>COLUMNS(B10:E10),COUNTBLANK(G10:AA10)<>COLUMNS(G10:AA10))),"KO","") -> KO | AC10: =IF(OR(ISBLANK(B10),ISBLANK(C10),ISBLANK(D10),ISBLANK(E10),ISBLANK(G10),ISBLANK(I10),ISBLANK(J10),ISBLANK(K10),ISBLANK(L10),ISBLANK(M10),ISBLANK(N10),ISBLANK(O10),ISBLANK(P10),ISBLANK(R10),ISBLANK(T10),ISBLANK(U10),ISBLANK(V10),ISBLANK(W10),ISBLANK(X10),ISBLANK(Y10),ISBLANK(Z10),ISBLANK(AA10)),FALSE,TRUE) -> TRUE | AD10: =IF((P10="Voucher"=NOT(ISBLANK(Q10))),TRUE,FALSE) -> FALSE | AE10: =IF(AND(AB10="KO",OR(COUNTBLANK(B10:E10)<>COLUMNS(B10:E10),COUNTBLANK(G10:AA10)<>COLUMNS(G10:AA10))),"ATTENZIONE!!! NON TUTTI I CAMPI OBBLIGATORI SONO STATI COMPILATI","") -> ATTENZIONE!!! NON TUTTI I CAMPI OBBLIGATORI SONO STATI COMPILATI | AF10: =SUM(T10:Z10) -> 6999993 | AG10: =IF(AA10="KO","ATTENZIONE!!! NON TUTTI I CAMPI OBBLIGATORI SONO STATI COMPILATI","") | AQ10: Abbiategrasso | AR10: 015002
B11: XXXXXXXXXXXXXXXX | C11: 44194 | D11: XXXXXXX | E11: XXXXXXXXXXXXXXXXXXXXXXXXXXXXXXXXXXXXXXXXXXXXXXXXXX | F11: XXXXXXXX | G11: 44195 | H11: 44196 | I11: XX | J11: XX | K11: XX | L11: XXXXXXXXXXX | M11: XX | N11: XX | O11: XX | P11: XXXXXXXXXXXXXXXXXXX | Q11: 999999 | R11: XXXXXXXXXXXXXXXXXXXXXXXXXXXXXXXXXXXXXXXXXXXXXXXXXXXXXXXXXXXXXXXXXXXXXXXXXXXXXXXXXXXXXXXXXXXXXXXXXXXXXXXXXXXXXXXXXXXXXXXXXXXXXXXXXXXXXXXXXXXXXXXXXXXXXXXXXXXXXXXXXXXXXXXXX | S11: XXXXXXXXXXXXXXXXXXXXXXXXXXXXXXXXXXXXXXXXXXXXXXXXXXXXXXXXXXXXXXXXXXXXXXXXXXXXXXXXXXXXXXXXXXXXXXXXXXXXXXXXXXXXXXXXXXXXXXXXXXXXXXXXXXXXXXXXXXXXXXXXXXXXXXXXXXXXXXXXXXXXXXXXX | T11: 999999 | U11: 999999 | V11: 999999 | W11: 999999 | X11: 999999 | Y11: 999999 | Z11: 999999 | AA11: 999999 | AB11: =IF(AND(OR(AC11=FALSE,AD11=FALSE),OR(COUNTBLANK(B11:E11)<>COLUMNS(B11:E11),COUNTBLANK(G11:AA11)<>COLUMNS(G11:AA11))),"KO","") -> KO | AC11: =IF(OR(ISBLANK(B11),ISBLANK(C11),ISBLANK(D11),ISBLANK(E11),ISBLANK(G11),ISBLANK(I11),ISBLANK(J11),ISBLANK(K11),ISBLANK(L11),ISBLANK(M11),ISBLANK(N11),ISBLANK(O11),ISBLANK(P11),ISBLANK(R11),ISBLANK(T11),ISBLANK(U11),ISBLANK(V11),ISBLANK(W11),ISBLANK(X11),ISBLANK(Y11),ISBLANK(Z11),ISBLANK(AA11)),FALSE,TRUE) -> TRUE | AD11: =IF((P11="Voucher"=NOT(ISBLANK(Q11))),TRUE,FALSE) -> FALSE | AE11: =IF(AND(AB11="KO",OR(COUNTBLANK(B11:E11)<>COLUMNS(B11:E11),COUNTBLANK(G11:AA11)<>COLUMNS(G11:AA11))),"ATTENZIONE!!! NON TUTTI I CAMPI OBBLIGATORI SONO STATI COMPILATI","") -> ATTENZIONE!!! NON TUTTI I CAMPI OBBLIGATORI SONO STATI COMPILATI | AF11: =SUM(T11:Z11) -> 6999993 | AG11: =IF(AA11="KO","ATTENZIONE!!! NON TUTTI I CAMPI OBBLIGATORI SONO STATI COMPILATI","") | AQ11: Acquafredda | AR11: 017001
B12: XXXXXXXXXXXXXXXX | C12: 44194 | D12: XXXXXXX | E12: XXXXXXXXXXXXXXXXXXXXXXXXXXXXXXXXXXXXXXXXXXXXXXXXXX | F12: XXXXXXXX | G12: 44195 | H12: 44196 | I12: XX | J12: XX | K12: XX | L12: XXXXXXXXXXX | M12: XX | N12: XX | O12: XX | P12: XXXXXXXXXXXXXXXXXXX | Q12: 999999 | R12: XXXXXXXXXXXXXXXXXXXXXXXXXXXXXXXXXXXXXXXXXXXXXXXXXXXXXXXXXXXXXXXXXXXXXXXXXXXXXXXXXXXXXXXXXXXXXXXXXXXXXXXXXXXXXXXXXXXXXXXXXXXXXXXXXXXXXXXXXXXXXXXXXXXXXXXXXXXXXXXXXXXXXXXXX | S12: XXXXXXXXXXXXXXXXXXXXXXXXXXXXXXXXXXXXXXXXXXXXXXXXXXXXXXXXXXXXXXXXXXXXXXXXXXXXXXXXXXXXXXXXXXXXXXXXXXXXXXXXXXXXXXXXXXXXXXXXXXXXXXXXXXXXXXXXXXXXXXXXXXXXXXXXXXXXXXXXXXXXXXXXX | T12: 999999 | U12: 999999 | V12: 999999 | W12: 999999 | X12: 999999 | Y12: 999999 | Z12: 999999 | AA12: 999999 | AB12: =IF(AND(OR(AC12=FALSE,AD12=FALSE),OR(COUNTBLANK(B12:E12)<>COLUMNS(B12:E12),COUNTBLANK(G12:AA12)<>COLUMNS(G12:AA12))),"KO","") -> KO | AC12: =IF(OR(ISBLANK(B12),ISBLANK(C12),ISBLANK(D12),ISBLANK(E12),ISBLANK(G12),ISBLANK(I12),ISBLANK(J12),ISBLANK(K12),ISBLANK(L12),ISBLANK(M12),ISBLANK(N12),ISBLANK(O12),ISBLANK(P12),ISBLANK(R12),ISBLANK(T12),ISBLANK(U12),ISBLANK(V12),ISBLANK(W12),ISBLANK(X12),ISBLANK(Y12),ISBLANK(Z12),ISBLANK(AA12)),FALSE,TRUE) -> TRUE | AD12: =IF((P12="Voucher"=NOT(ISBLANK(Q12))),TRUE,FALSE) -> FALSE | AE12: =IF(AND(AB12="KO",OR(COUNTBLANK(B12:E12)<>COLUMNS(B12:E12),COUNTBLANK(G12:AA12)<>COLUMNS(G12:AA12))),"ATTENZIONE!!! NON TUTTI I CAMPI OBBLIGATORI SONO STATI COMPILATI","") -> ATTENZIONE!!! NON TUTTI I CAMPI OBBLIGATORI SONO STATI COMPILATI | AF12: =SUM(T12:Z12) -> 6999993 | AG12: =IF(AA12="KO","ATTENZIONE!!! NON TUTTI I CAMPI OBBLIGATORI SONO STATI COMPILATI","") | AQ12: Acquanegra Cremonese | AR12: 019001
B13: XXXXXXXXXXXXXXXX | C13: 44194 | D13: XXXXXXX | E13: XXXXXXXXXXXXXXXXXXXXXXXXXXXXXXXXXXXXXXXXXXXXXXXXXX | F13: XXXXXXXX | G13: 44195 | H13: 44196 | I13: XX | J13: XX | K13: XX | L13: XXXXXXXXXXX | M13: XX | N13: XX | O13: XX | P13: XXXXXXXXXXXXXXXXXXX | Q13: 999999 | R13: XXXXXXXXXXXXXXXXXXXXXXXXXXXXXXXXXXXXXXXXXXXXXXXXXXXXXXXXXXXXXXXXXXXXXXXXXXXXXXXXXXXXXXXXXXXXXXXXXXXXXXXXXXXXXXXXXXXXXXXXXXXXXXXXXXXXXXXXXXXXXXXXXXXXXXXXXXXXXXXXXXXXXXXXX | S13: XXXXXXXXXXXXXXXXXXXXXXXXXXXXXXXXXXXXXXXXXXXXXXXXXXXXXXXXXXXXXXXXXXXXXXXXXXXXXXXXXXXXXXXXXXXXXXXXXXXXXXXXXXXXXXXXXXXXXXXXXXXXXXXXXXXXXXXXXXXXXXXXXXXXXXXXXXXXXXXXXXXXXXXXX | T13: 999999 | U13: 999999 | V13: 999999 | W13: 999999 | X13: 999999 | Y13: 999999 | Z13: 999999 | AA13: 999999 | AB13: =IF(AND(OR(AC13=FALSE,AD13=FALSE),OR(COUNTBLANK(B13:E13)<>COLUMNS(B13:E13),COUNTBLANK(G13:AA13)<>COLUMNS(G13:AA13))),"KO","") -> KO | AC13: =IF(OR(ISBLANK(B13),ISBLANK(C13),ISBLANK(D13),ISBLANK(E13),ISBLANK(G13),ISBLANK(I13),ISBLANK(J13),ISBLANK(K13),ISBLANK(L13),ISBLANK(M13),ISBLANK(N13),ISBLANK(O13),ISBLANK(P13),ISBLANK(R13),ISBLANK(T13),ISBLANK(U13),ISBLANK(V13),ISBLANK(W13),ISBLANK(X13),ISBLANK(Y13),ISBLANK(Z13),ISBLANK(AA13)),FALSE,TRUE) -> TRUE | AD13: =IF((P13="Voucher"=NOT(ISBLANK(Q13))),TRUE,FALSE) -> FALSE | AE13: =IF(AND(AB13="KO",OR(COUNTBLANK(B13:E13)<>COLUMNS(B13:E13),COUNTBLANK(G13:AA13)<>COLUMNS(G13:AA13))),"ATTENZIONE!!! NON TUTTI I CAMPI OBBLIGATORI SONO STATI COMPILATI","") -> ATTENZIONE!!! NON TUTTI I CAMPI OBBLIGATORI SONO STATI COMPILATI | AF13: =SUM(T13:Z13) -> 6999993 | AG13: =IF(AA13="KO","ATTENZIONE!!! NON TUTTI I CAMPI OBBLIGATORI SONO STATI COMPILATI","") | AQ13: Acquanegra sul Chiese | AR13: 020001
B14: XXXXXXXXXXXXXXXX | C14: 44194 | D14: XXXXXXX | E14: XXXXXXXXXXXXXXXXXXXXXXXXXXXXXXXXXXXXXXXXXXXXXXXXXX | F14: XXXXXXXX | G14: 44195 | H14: 44196 | I14: XX | J14: XX | K14: XX | L14: XXXXXXXXXXX | M14: XX | N14: XX | O14: XX | P14: XXXXXXXXXXXXXXXXXXX | Q14: 999999 | R14: XXXXXXXXXXXXXXXXXXXXXXXXXXXXXXXXXXXXXXXXXXXXXXXXXXXXXXXXXXXXXXXXXXXXXXXXXXXXXXXXXXXXXXXXXXXXXXXXXXXXXXXXXXXXXXXXXXXXXXXXXXXXXXXXXXXXXXXXXXXXXXXXXXXXXXXXXXXXXXXXXXXXXXXXX | S14: XXXXXXXXXXXXXXXXXXXXXXXXXXXXXXXXXXXXXXXXXXXXXXXXXXXXXXXXXXXXXXXXXXXXXXXXXXXXXXXXXXXXXXXXXXXXXXXXXXXXXXXXXXXXXXXXXXXXXXXXXXXXXXXXXXXXXXXXXXXXXXXXXXXXXXXXXXXXXXXXXXXXXXXXX | T14: 999999 | U14: 999999 | V14: 999999 | W14: 999999 | X14: 999999 | Y14: 999999 | Z14: 999999 | AA14: 999999 | AB14: =IF(AND(OR(AC14=FALSE,AD14=FALSE),OR(COUNTBLANK(B14:E14)<>COLUMNS(B14:E14),COUNTBLANK(G14:AA14)<>COLUMNS(G14:AA14))),"KO","") -> KO | AC14: =IF(OR(ISBLANK(B14),ISBLANK(C14),ISBLANK(D14),ISBLANK(E14),ISBLANK(G14),ISBLANK(I14),ISBLANK(J14),ISBLANK(K14),ISBLANK(L14),ISBLANK(M14),ISBLANK(N14),ISBLANK(O14),ISBLANK(P14),ISBLANK(R14),ISBLANK(T14),ISBLANK(U14),ISBLANK(V14),ISBLANK(W14),ISBLANK(X14),ISBLANK(Y14),ISBLANK(Z14),ISBLANK(AA14)),FALSE,TRUE) -> TRUE | AD14: =IF((P14="Voucher"=NOT(ISBLANK(Q14))),TRUE,FALSE) -> FALSE | AE14: =IF(AND(AB14="KO",OR(COUNTBLANK(B14:E14)<>COLUMNS(B14:E14),COUNTBLANK(G14:AA14)<>COLUMNS(G14:AA14))),"ATTENZIONE!!! NON TUTTI I CAMPI OBBLIGATORI SONO STATI COMPILATI","") -> ATTENZIONE!!! NON TUTTI I CAMPI OBBLIGATORI SONO STATI COMPILATI | AF14: =SUM(T14:Z14) -> 6999993 | AG14: =IF(AA14="KO","ATTENZIONE!!! NON TUTTI I CAMPI OBBLIGATORI SONO STATI COMPILATI","") | AQ14: Adrara San Martino | AR14: 016001
B15: XXXXXXXXXXXXXXXX | C15: 44194 | D15: XXXXXXX | E15: XXXXXXXXXXXXXXXXXXXXXXXXXXXXXXXXXXXXXXXXXXXXXXXXXX | F15: XXXXXXXX | G15: 44195 | H15: 44196 | I15: XX | J15: XX | K15: XX | L15: XXXXXXXXXXX | M15: XX | N15: XX | O15: XX | P15: XXXXXXXXXXXXXXXXXXX | Q15: 999999 | R15: XXXXXXXXXXXXXXXXXXXXXXXXXXXXXXXXXXXXXXXXXXXXXXXXXXXXXXXXXXXXXXXXXXXXXXXXXXXXXXXXXXXXXXXXXXXXXXXXXXXXXXXXXXXXXXXXXXXXXXXXXXXXXXXXXXXXXXXXXXXXXXXXXXXXXXXXXXXXXXXXXXXXXXXXX | S15: XXXXXXXXXXXXXXXXXXXXXXXXXXXXXXXXXXXXXXXXXXXXXXXXXXXXXXXXXXXXXXXXXXXXXXXXXXXXXXXXXXXXXXXXXXXXXXXXXXXXXXXXXXXXXXXXXXXXXXXXXXXXXXXXXXXXXXXXXXXXXXXXXXXXXXXXXXXXXXXXXXXXXXXXX | T15: 999999 | U15: 999999 | V15: 999999 | W15: 999999 | X15: 999999 | Y15: 999999 | Z15: 999999 | AA15: 999999 | AB15: =IF(AND(OR(AC15=FALSE,AD15=FALSE),OR(COUNTBLANK(B15:E15)<>COLUMNS(B15:E15),COUNTBLANK(G15:AA15)<>COLUMNS(G15:AA15))),"KO","") -> KO | AC15: =IF(OR(ISBLANK(B15),ISBLANK(C15),ISBLANK(D15),ISBLANK(E15),ISBLANK(G15),ISBLANK(I15),ISBLANK(J15),ISBLANK(K15),ISBLANK(L15),ISBLANK(M15),ISBLANK(N15),ISBLANK(O15),ISBLANK(P15),ISBLANK(R15),ISBLANK(T15),ISBLANK(U15),ISBLANK(V15),ISBLANK(W15),ISBLANK(X15),ISBLANK(Y15),ISBLANK(Z15),ISBLANK(AA15)),FALSE,TRUE) -> TRUE | AD15: =IF((P15="Voucher"=NOT(ISBLANK(Q15))),TRUE,FALSE) -> FALSE | AE15: =IF(AND(AB15="KO",OR(COUNTBLANK(B15:E15)<>COLUMNS(B15:E15),COUNTBLANK(G15:AA15)<>COLUMNS(G15:AA15))),"ATTENZIONE!!! NON TUTTI I CAMPI OBBLIGATORI SONO STATI COMPILATI","") -> ATTENZIONE!!! NON TUTTI I CAMPI OBBLIGATORI SONO STATI COMPILATI | AF15: =SUM(T15:Z15) -> 6999993 | AG15: =IF(AA15="KO","ATTENZIONE!!! NON TUTTI I CAMPI OBBLIGATORI SONO STATI COMPILATI","") | AQ15: Adrara San Rocco | AR15: 016002
